{"text_format":"1","workbook":"xlsx","n_sheets":10,"sheets":["0-Instruções de preenchimento","I-Cenário Base","II-a) Medidas a implementar","II-b) Vinculos","II-c) Reflexos","III-Cenário Ajustado","IV-Verificações","V-Parâmetros","V-Parâmetros (2)","VI-Referência"],"not_rendered":{"charts":0,"images":0,"macros":1,"external_links":0,"defined_names":7,"comments":0,"pivot_tables":0},"unopened":[],"bounds":{"document_bytes":16777216,"sheet_cells":100000,"rows_first":2000,"rows_last":500,"rows_between":2000,"halvings":0,"cell_chars":16384,"cell_head_chars":4096},"cells_cut":0,"cells_raw":0,"read":"whole","date_system":"1900"}

{"sheet":"0-Instruções de preenchimento","index":0,"n_rows":43,"n_cols":1,"rows_kept":43,"cut":false,"hidden":false,"merged":[[42,0,42,1],[23,0,23,1],[24,0,24,1],[27,0,27,1],[29,0,29,1],[30,0,30,1],[21,0,21,1],[3,0,3,1],[12,0,12,1],[14,0,14,1],[15,0,15,1],[16,0,16,1],[19,0,19,1],[20,0,20,1],[17,0,17,1],[41,18,41,19],[41,20,41,21],[25,0,25,1],[41,22,41,23],[41,24,41,25],[41,26,41,27],[41,8,41,9],[41,10,41,11],[41,12,41,13],[41,14,41,15],[41,16,41,17],[39,0,39,1],[41,0,41,1],[41,2,41,3],[41,4,41,5],[41,6,41,7],[33,0,33,1],[26,0,26,1],[32,0,32,1],[35,0,35,1],[36,0,36,1],[34,0,34,1],[41,58,41,59],[41,60,41,61],[41,62,41,63],[41,64,41,65],[41,66,41,67],[41,48,41,49],[41,50,41,51],[41,52,41,53],[41,54,41,55],[41,56,41,57],[41,38,41,39],[41,40,41,41],[41,42,41,43],[41,44,41,45],[41,46,41,47],[41,28,41,29],[41,30,41,31],[41,32,41,33],[41,34,41,35],[41,36,41,37],[41,98,41,99],[41,100,41,101],[41,102,41,103],[41,104,41,105],[41,106,41,107],[41,88,41,89],[41,90,41,91],[41,92,41,93],[41,94,41,95],[41,96,41,97],[41,78,41,79],[41,80,41,81],[41,82,41,83],[41,84,41,85],[41,86,41,87],[41,68,41,69],[41,70,41,71],[41,72,41,73],[41,74,41,75],[41,76,41,77],[41,138,41,139],[41,140,41,141],[41,142,41,143],[41,144,41,145],[41,146,41,147],[41,128,41,129],[41,130,41,131],[41,132,41,133],[41,134,41,135],[41,136,41,137],[41,118,41,119],[41,120,41,121],[41,122,41,123],[41,124,41,125],[41,126,41,127],[41,108,41,109],[41,110,41,111],[41,112,41,113],[41,114,41,115],[41,116,41,117],[41,178,41,179],[41,180,41,181],[41,182,41,183],[41,184,41,185],[41,186,41,187],[41,168,41,169],[41,170,41,171],[41,172,41,173],[41,174,41,175],[41,176,41,177],[41,158,41,159],[41,160,41,161],[41,162,41,163],[41,164,41,165],[41,166,41,167],[41,148,41,149],[41,150,41,151],[41,152,41,153],[41,154,41,155],[41,156,41,157],[41,218,41,219],[41,220,41,221],[41,222,41,223],[41,224,41,225],[41,226,41,227],[41,208,41,209],[41,210,41,211],[41,212,41,213],[41,214,41,215],[41,216,41,217],[41,198,41,199],[41,200,41,201],[41,202,41,203],[41,204,41,205],[41,206,41,207],[41,188,41,189],[41,190,41,191],[41,192,41,193],[41,194,41,195],[41,196,41,197],[41,258,41,259],[41,260,41,261],[41,262,41,263],[41,264,41,265],[41,266,41,267],[41,248,41,249],[41,250,41,251],[41,252,41,253],[41,254,41,255],[41,256,41,257],[41,238,41,239],[41,240,41,241],[41,242,41,243],[41,244,41,245],[41,246,41,247],[41,228,41,229],[41,230,41,231],[41,232,41,233],[41,234,41,235],[41,236,41,237],[41,298,41,299],[41,300,41,301],[41,302,41,303],[41,304,41,305],[41,306,41,307],[41,288,41,289],[41,290,41,291],[41,292,41,293],[41,294,41,295],[41,296,41,297],[41,278,41,279],[41,280,41,281],[41,282,41,283],[41,284,41,285],[41,286,41,287],[41,268,41,269],[41,270,41,271],[41,272,41,273],[41,274,41,275],[41,276,41,277],[41,338,41,339],[41,340,41,341],[41,342,41,343],[41,344,41,345],[41,346,41,347],[41,328,41,329],[41,330,41,331],[41,332,41,333],[41,334,41,335],[41,336,41,337],[41,318,41,319],[41,320,41,321],[41,322,41,323],[41,324,41,325],[41,326,41,327],[41,308,41,309],[41,310,41,311],[41,312,41,313],[41,314,41,315],[41,316,41,317],[41,378,41,379],[41,380,41,381],[41,382,41,383],[41,384,41,385],[41,386,41,387],[41,368,41,369],[41,370,41,371],[41,372,41,373],[41,374,41,375],[41,376,41,377],[41,358,41,359],[41,360,41,361],[41,362,41,363],[41,364,41,365],[41,366,41,367],[41,348,41,349],[41,350,41,351],[41,352,41,353],[41,354,41,355],[41,356,41,357],[41,418,41,419],[41,420,41,421],[41,422,41,423],[41,424,41,425],[41,426,41,427],[41,408,41,409],[41,410,41,411],[41,412,41,413],[41,414,41,415],[41,416,41,417],[41,398,41,399],[41,400,41,401],[41,402,41,403],[41,404,41,405],[41,406,41,407],[41,388,41,389],[41,390,41,391],[41,392,41,393],[41,394,41,395],[41,396,41,397],[41,458,41,459],[41,460,41,461],[41,462,41,463],[41,464,41,465],[41,466,41,467],[41,448,41,449],[41,450,41,451],[41,452,41,453],[41,454,41,455],[41,456,41,457],[41,438,41,439],[41,440,41,441],[41,442,41,443],[41,444,41,445],[41,446,41,447],[41,428,41,429],[41,430,41,431],[41,432,41,433],[41,434,41,435],[41,436,41,437],[41,498,41,499],[41,500,41,501],[41,502,41,503],[41,504,41,505],[41,506,41,507],[41,488,41,489],[41,490,41,491],[41,492,41,493],[41,494,41,495],[41,496,41,497],[41,478,41,479],[41,480,41,481],[41,482,41,483],[41,484,41,485],[41,486,41,487],[41,468,41,469],[41,470,41,471],[41,472,41,473],[41,474,41,475],[41,476,41,477],[41,538,41,539],[41,540,41,541],[41,542,41,543],[41,544,41,545],[41,546,41,547],[41,528,41,529],[41,530,41,531],[41,532,41,533],[41,534,41,535],[41,536,41,537],[41,518,41,519],[41,520,41,521],[41,522,41,523],[41,524,41,525],[41,526,41,527],[41,508,41,509],[41,510,41,511],[41,512,41,513],[41,514,41,515],[41,516,41,517],[41,578,41,579],[41,580,41,581],[41,582,41,583],[41,584,41,585],[41,586,41,587],[41,568,41,569],[41,570,41,571],[41,572,41,573],[41,574,41,575],[41,576,41,577],[41,558,41,559],[41,560,41,561],[41,562,41,563],[41,564,41,565],[41,566,41,567],[41,548,41,549],[41,550,41,551],[41,552,41,553],[41,554,41,555],[41,556,41,557],[41,618,41,619],[41,620,41,621],[41,622,41,623],[41,624,41,625],[41,626,41,627],[41,608,41,609],[41,610,41,611],[41,612,41,613],[41,614,41,615],[41,616,41,617],[41,598,41,599],[41,600,41,601],[41,602,41,603],[41,604,41,605],[41,606,41,607],[41,588,41,589],[41,590,41,591],[41,592,41,593],[41,594,41,595],[41,596,41,597],[41,658,41,659],[41,660,41,661],[41,662,41,663],[41,664,41,665],[41,666,41,667],[41,648,41,649],[41,650,41,651],[41,652,41,653],[41,654,41,655],[41,656,41,657],[41,638,41,639],[41,640,41,641],[41,642,41,643],[41,644,41,645],[41,646,41,647],[41,628,41,629],[41,630,41,631],[41,632,41,633],[41,634,41,635],[41,636,41,637],[41,698,41,699],[41,700,41,701],[41,702,41,703],[41,704,41,705],[41,706,41,707],[41,688,41,689],[41,690,41,691],[41,692,41,693],[41,694,41,695],[41,696,41,697],[41,678,41,679],[41,680,41,681],[41,682,41,683],[41,684,41,685],[41,686,41,687],[41,668,41,669],[41,670,41,671],[41,672,41,673],[41,674,41,675],[41,676,41,677],[41,738,41,739],[41,740,41,741],[41,742,41,743],[41,744,41,745],[41,746,41,747],[41,728,41,729],[41,730,41,731],[41,732,41,733],[41,734,41,735],[41,736,41,737],[41,718,41,719],[41,720,41,721],[41,722,41,723],[41,724,41,725],[41,726,41,727],[41,708,41,709],[41,710,41,711],[41,712,41,713],[41,714,41,715],[41,716,41,717],[41,778,41,779],[41,780,41,781],[41,782,41,783],[41,784,41,785],[41,786,41,787],[41,768,41,769],[41,770,41,771],[41,772,41,773],[41,774,41,775],[41,776,41,777],[41,758,41,759],[41,760,41,761],[41,762,41,763],[41,764,41,765],[41,766,41,767],[41,748,41,749],[41,750,41,751],[41,752,41,753],[41,754,41,755],[41,756,41,757],[41,818,41,819],[41,820,41,821],[41,822,41,823],[41,824,41,825],[41,826,41,827],[41,808,41,809],[41,810,41,811],[41,812,41,813],[41,814,41,815],[41,816,41,817],[41,798,41,799],[41,800,41,801],[41,802,41,803],[41,804,41,805],[41,806,41,807],[41,788,41,789],[41,790,41,791],[41,792,41,793],[41,794,41,795],[41,796,41,797],[41,858,41,859],[41,860,41,861],[41,862,41,863],[41,864,41,865],[41,866,41,867],[41,848,41,849],[41,850,41,851],[41,852,41,853],[41,854,41,855],[41,856,41,857],[41,838,41,839],[41,840,41,841],[41,842,41,843],[41,844,41,845],[41,846,41,847],[41,828,41,829],[41,830,41,831],[41,832,41,833],[41,834,41,835],[41,836,41,837],[41,898,41,899],[41,900,41,901],[41,902,41,903],[41,904,41,905],[41,906,41,907],[41,888,41,889],[41,890,41,891],[41,892,41,893],[41,894,41,895],[41,896,41,897],[41,878,41,879],[41,880,41,881],[41,882,41,883],[41,884,41,885],[41,886,41,887],[41,868,41,869],[41,870,41,871],[41,872,41,873],[41,874,41,875],[41,876,41,877],[41,938,41,939],[41,940,41,941],[41,942,41,943],[41,944,41,945],[41,946,41,947],[41,928,41,929],[41,930,41,931],[41,932,41,933],[41,934,41,935],[41,936,41,937],[41,918,41,919],[41,920,41,921],[41,922,41,923],[41,924,41,925],[41,926,41,927],[41,908,41,909],[41,910,41,911],[41,912,41,913],[41,914,41,915],[41,916,41,917],[41,978,41,979],[41,980,41,981],[41,982,41,983],[41,984,41,985],[41,986,41,987],[41,968,41,969],[41,970,41,971],[41,972,41,973],[41,974,41,975],[41,976,41,977],[41,958,41,959],[41,960,41,961],[41,962,41,963],[41,964,41,965],[41,966,41,967],[41,948,41,949],[41,950,41,951],[41,952,41,953],[41,954,41,955],[41,956,41,957],[41,1018,41,1019],[41,1020,41,1021],[41,1022,41,1023],[41,1024,41,1025],[41,1026,41,1027],[41,1008,41,1009],[41,1010,41,1011],[41,1012,41,1013],[41,1014,41,1015],[41,1016,41,1017],[41,998,41,999],[41,1000,41,1001],[41,1002,41,1003],[41,1004,41,1005],[41,1006,41,1007],[41,988,41,989],[41,990,41,991],[41,992,41,993],[41,994,41,995],[41,996,41,997],[41,1058,41,1059],[41,1060,41,1061],[41,1062,41,1063],[41,1064,41,1065],[41,1066,41,1067],[41,1048,41,1049],[41,1050,41,1051],[41,1052,41,1053],[41,1054,41,1055],[41,1056,41,1057],[41,1038,41,1039],[41,1040,41,1041],[41,1042,41,1043],[41,1044,41,1045],[41,1046,41,1047],[41,1028,41,1029],[41,1030,41,1031],[41,1032,41,1033],[41,1034,41,1035],[41,1036,41,1037],[41,1098,41,1099],[41,1100,41,1101],[41,1102,41,1103],[41,1104,41,1105],[41,1106,41,1107],[41,1088,41,1089],[41,1090,41,1091],[41,1092,41,1093],[41,1094,41,1095],[41,1096,41,1097],[41,1078,41,1079],[41,1080,41,1081],[41,1082,41,1083],[41,1084,41,1085],[41,1086,41,1087],[41,1068,41,1069],[41,1070,41,1071],[41,1072,41,1073],[41,1074,41,1075],[41,1076,41,1077],[41,1138,41,1139],[41,1140,41,1141],[41,1142,41,1143],[41,1144,41,1145],[41,1146,41,1147],[41,1128,41,1129],[41,1130,41,1131],[41,1132,41,1133],[41,1134,41,1135],[41,1136,41,1137],[41,1118,41,1119],[41,1120,41,1121],[41,1122,41,1123],[41,1124,41,1125],[41,1126,41,1127],[41,1108,41,1109],[41,1110,41,1111],[41,1112,41,1113],[41,1114,41,1115],[41,1116,41,1117],[41,1178,41,1179],[41,1180,41,1181],[41,1182,41,1183],[41,1184,41,1185],[41,1186,41,1187],[41,1168,41,1169],[41,1170,41,1171],[41,1172,41,1173],[41,1174,41,1175],[41,1176,41,1177],[41,1158,41,1159],[41,1160,41,1161],[41,1162,41,1163],[41,1164,41,1165],[41,1166,41,1167],[41,1148,41,1149],[41,1150,41,1151],[41,1152,41,1153],[41,1154,41,1155],[41,1156,41,1157],[41,1218,41,1219],[41,1220,41,1221],[41,1222,41,1223],[41,1224,41,1225],[41,1226,41,1227],[41,1208,41,1209],[41,1210,41,1211],[41,1212,41,1213],[41,1214,41,1215],[41,1216,41,1217],[41,1198,41,1199],[41,1200,41,1201],[41,1202,41,1203],[41,1204,41,1205],[41,1206,41,1207],[41,1188,41,1189],[41,1190,41,1191],[41,1192,41,1193],[41,1194,41,1195],[41,1196,41,1197],[41,1258,41,1259],[41,1260,41,1261],[41,1262,41,1263],[41,1264,41,1265],[41,1266,41,1267],[41,1248,41,1249],[41,1250,41,1251],[41,1252,41,1253],[41,1254,41,1255],[41,1256,41,1257],[41,1238,41,1239],[41,1240,41,1241],[41,1242,41,1243],[41,1244,41,1245],[41,1246,41,1247],[41,1228,41,1229],[41,1230,41,1231],[41,1232,41,1233],[41,1234,41,1235],[41,1236,41,1237],[41,1298,41,1299],[41,1300,41,1301],[41,1302,41,1303],[41,1304,41,1305],[41,1306,41,1307],[41,1288,41,1289],[41,1290,41,1291],[41,1292,41,1293],[41,1294,41,1295],[41,1296,41,1297],[41,1278,41,1279],[41,1280,41,1281],[41,1282,41,1283],[41,1284,41,1285],[41,1286,41,1287],[41,1268,41,1269],[41,1270,41,1271],[41,1272,41,1273],[41,1274,41,1275],[41,1276,41,1277],[41,1338,41,1339],[41,1340,41,1341],[41,1342,41,1343],[41,1344,41,1345],[41,1346,41,1347],[41,1328,41,1329],[41,1330,41,1331],[41,1332,41,1333],[41,1334,41,1335],[41,1336,41,1337],[41,1318,41,1319],[41,1320,41,1321],[41,1322,41,1323],[41,1324,41,1325],[41,1326,41,1327],[41,1308,41,1309],[41,1310,41,1311],[41,1312,41,1313],[41,1314,41,1315],[41,1316,41,1317],[41,1378,41,1379],[41,1380,41,1381],[41,1382,41,1383],[41,1384,41,1385],[41,1386,41,1387],[41,1368,41,1369],[41,1370,41,1371],[41,1372,41,1373],[41,1374,41,1375],[41,1376,41,1377],[41,1358,41,1359],[41,1360,41,1361],[41,1362,41,1363],[41,1364,41,1365],[41,1366,41,1367],[41,1348,41,1349],[41,1350,41,1351],[41,1352,41,1353],[41,1354,41,1355],[41,1356,41,1357],[41,1418,41,1419],[41,1420,41,1421],[41,1422,41,1423],[41,1424,41,1425],[41,1426,41,1427],[41,1408,41,1409],[41,1410,41,1411],[41,1412,41,1413],[41,1414,41,1415],[41,1416,41,1417],[41,1398,41,1399],[41,1400,41,1401],[41,1402,41,1403],[41,1404,41,1405],[41,1406,41,1407],[41,1388,41,1389],[41,1390,41,1391],[41,1392,41,1393],[41,1394,41,1395],[41,1396,41,1397],[41,1458,41,1459],[41,1460,41,1461],[41,1462,41,1463],[41,1464,41,1465],[41,1466,41,1467],[41,1448,41,1449],[41,1450,41,1451],[41,1452,41,1453],[41,1454,41,1455],[41,1456,41,1457],[41,1438,41,1439],[41,1440,41,1441],[41,1442,41,1443],[41,1444,41,1445],[41,1446,41,1447],[41,1428,41,1429],[41,1430,41,1431],[41,1432,41,1433],[41,1434,41,1435],[41,1436,41,1437],[41,1498,41,1499],[41,1500,41,1501],[41,1502,41,1503],[41,1504,41,1505],[41,1506,41,1507],[41,1488,41,1489],[41,1490,41,1491],[41,1492,41,1493],[41,1494,41,1495],[41,1496,41,1497],[41,1478,41,1479],[41,1480,41,1481],[41,1482,41,1483],[41,1484,41,1485],[41,1486,41,1487],[41,1468,41,1469],[41,1470,41,1471],[41,1472,41,1473],[41,1474,41,1475],[41,1476,41,1477],[41,1538,41,1539],[41,1540,41,1541],[41,1542,41,1543],[41,1544,41,1545],[41,1546,41,1547],[41,1528,41,1529],[41,1530,41,1531],[41,1532,41,1533],[41,1534,41,1535],[41,1536,41,1537],[41,1518,41,1519],[41,1520,41,1521],[41,1522,41,1523],[41,1524,41,1525],[41,1526,41,1527],[41,1508,41,1509],[41,1510,41,1511],[41,1512,41,1513],[41,1514,41,1515],[41,1516,41,1517],[41,1578,41,1579],[41,1580,41,1581],[41,1582,41,1583],[41,1584,41,1585],[41,1586,41,1587],[41,1568,41,1569],[41,1570,41,1571],[41,1572,41,1573],[41,1574,41,1575],[41,1576,41,1577],[41,1558,41,1559],[41,1560,41,1561],[41,1562,41,1563],[41,1564,41,1565],[41,1566,41,1567],[41,1548,41,1549],[41,1550,41,1551],[41,1552,41,1553],[41,1554,41,1555],[41,1556,41,1557],[41,1618,41,1619],[41,1620,41,1621],[41,1622,41,1623],[41,1624,41,1625],[41,1626,41,1627],[41,1608,41,1609],[41,1610,41,1611],[41,1612,41,1613],[41,1614,41,1615],[41,1616,41,1617],[41,1598,41,1599],[41,1600,41,1601],[41,1602,41,1603],[41,1604,41,1605],[41,1606,41,1607],[41,1588,41,1589],[41,1590,41,1591],[41,1592,41,1593],[41,1594,41,1595],[41,1596,41,1597],[41,1658,41,1659],[41,1660,41,1661],[41,1662,41,1663],[41,1664,41,1665],[41,1666,41,1667],[41,1648,41,1649],[41,1650,41,1651],[41,1652,41,1653],[41,1654,41,1655],[41,1656,41,1657],[41,1638,41,1639],[41,1640,41,1641],[41,1642,41,1643],[41,1644,41,1645],[41,1646,41,1647],[41,1628,41,1629],[41,1630,41,1631],[41,1632,41,1633],[41,1634,41,1635],[41,1636,41,1637],[41,1698,41,1699],[41,1700,41,1701],[41,1702,41,1703],[41,1704,41,1705],[41,1706,41,1707],[41,1688,41,1689],[41,1690,41,1691],[41,1692,41,1693],[41,1694,41,1695],[41,1696,41,1697],[41,1678,41,1679],[41,1680,41,1681],[41,1682,41,1683],[41,1684,41,1685],[41,1686,41,1687],[41,1668,41,1669],[41,1670,41,1671],[41,1672,41,1673],[41,1674,41,1675],[41,1676,41,1677],[41,1738,41,1739],[41,1740,41,1741],[41,1742,41,1743],[41,1744,41,1745],[41,1746,41,1747],[41,1728,41,1729],[41,1730,41,1731],[41,1732,41,1733],[41,1734,41,1735],[41,1736,41,1737],[41,1718,41,1719],[41,1720,41,1721],[41,1722,41,1723],[41,1724,41,1725],[41,1726,41,1727],[41,1708,41,1709],[41,1710,41,1711],[41,1712,41,1713],[41,1714,41,1715],[41,1716,41,1717],[41,1778,41,1779],[41,1780,41,1781],[41,1782,41,1783],[41,1784,41,1785],[41,1786,41,1787],[41,1768,41,1769],[41,1770,41,1771],[41,1772,41,1773],[41,1774,41,1775],[41,1776,41,1777],[41,1758,41,1759],[41,1760,41,1761],[41,1762,41,1763],[41,1764,41,1765],[41,1766,41,1767],[41,1748,41,1749],[41,1750,41,1751],[41,1752,41,1753],[41,1754,41,1755],[41,1756,41,1757],[41,1818,41,1819],[41,1820,41,1821],[41,1822,41,1823],[41,1824,41,1825],[41,1826,41,1827],[41,1808,41,1809],[41,1810,41,1811],[41,1812,41,1813],[41,1814,41,1815],[41,1816,41,1817],[41,1798,41,1799],[41,1800,41,1801],[41,1802,41,1803],[41,1804,41,1805],[41,1806,41,1807],[41,1788,41,1789],[41,1790,41,1791],[41,1792,41,1793],[41,1794,41,1795],[41,1796,41,1797],[41,1858,41,1859],[41,1860,41,1861],[41,1862,41,1863],[41,1864,41,1865],[41,1866,41,1867],[41,1848,41,1849],[41,1850,41,1851],[41,1852,41,1853],[41,1854,41,1855],[41,1856,41,1857],[41,1838,41,1839],[41,1840,41,1841],[41,1842,41,1843],[41,1844,41,1845],[41,1846,41,1847],[41,1828,41,1829],[41,1830,41,1831],[41,1832,41,1833],[41,1834,41,1835],[41,1836,41,1837],[41,1898,41,1899],[41,1900,41,1901],[41,1902,41,1903],[41,1904,41,1905],[41,1906,41,1907],[41,1888,41,1889],[41,1890,41,1891],[41,1892,41,1893],[41,1894,41,1895],[41,1896,41,1897],[41,1878,41,1879],[41,1880,41,1881],[41,1882,41,1883],[41,1884,41,1885],[41,1886,41,1887],[41,1868,41,1869],[41,1870,41,1871],[41,1872,41,1873],[41,1874,41,1875],[41,1876,41,1877],[41,1938,41,1939],[41,1940,41,1941],[41,1942,41,1943],[41,1944,41,1945],[41,1946,41,1947],[41,1928,41,1929],[41,1930,41,1931],[41,1932,41,1933],[41,1934,41,1935],[41,1936,41,1937],[41,1918,41,1919],[41,1920,41,1921],[41,1922,41,1923],[41,1924,41,1925],[41,1926,41,1927],[41,1908,41,1909],[41,1910,41,1911],[41,1912,41,1913],[41,1914,41,1915],[41,1916,41,1917],[41,1978,41,1979],[41,1980,41,1981],[41,1982,41,1983]],"merged_total":8215,"flags":["merged_cut"]}
["PLANO DE RECUPERAÇÃO FISCAL"]
["Instruções de preenchimento"]
[]
["Orientações Gerais"]
["1. Receitas"]
["As receitas consideram valores arrecadados."]
["Não devem ser consideradas receitas com fonte de recurso RPPS."]
["Os repasses para o Fundeb integram a base de receitas, e devem ser lançados na linha \"Deduções para formação do Fundeb (IIa)\"."]
["2. Despesas"]
["Todas as despesas consideram valores empenhados."]
["Não devem ser consideradas despesas com fonte de recursos RPPS."]
[]
["Instruções de preenchimento"]
["1. Cenário Base"]
["Informar Exercício Corrente e Ano-base para a limitação de despesas (no exercício de 2021, o ano-base pode ser escolhido a partir de 2017)."]
["Preencher valores realizados até o exercício anterior, e projeções para o exercício atual e seguintes (substituir as fórmulas-padrão, que realizam projeção com base no IPCA e na variação do PIB real Nacional)."]
["Em alguns casos, são necessárias informações do exercício X-4, para algum cálculo que se dê de forma incremental (como Restos a Pagar)."]
[]
["2. Medidas a implementar"]
["Informar, para cada uma das medidas de ajuste a implementar constante da documentação descritiva do PRF (Notas Técnicas), os fluxos afetados (um por linha) e impactos esperados."]
["O nome de cada fluxo afetado deve ser idêntico à linha correspondente nas planilhas \"I-Cenário Base\" e \"III-Cenário Ajustado\"."]
[]
["3. Vinculações"]
["Esta aba possibilita gerar os reflexos indiretos das medidas a implementar."]
["Cada linha representa um \"Fluxo afetado - reflexo\" (Y), que será afetado na proporção indicada cada vez que uma medida trouxer impacto a um \"Fluxo afetado pela medida\"(X), podendo a proporção ser positiva ou negativa (caso em que um aumento do fluxo X gera redução no fluxo Y)."]
["Importante destacar que, caso haja mais de uma vinculação afetando o mesmo fluxo, o percentual incidente deve ser o final (percentual real), e não o percentual listado no normativo (percentual nominal). Esses percentuais podem ser diferentes consoante a ordem de aplicação.\nExemplo: sobre uma receita incide 25% de transferências aos municípios e 20% de dedução do Fundeb - esses são os percentuais nominais. Entretanto, como é feita a dedução do montante transferido aos municípios antes da dedução do Fundeb, essa dedução, na verdade, é de 20% sobre os 75% restantes, ou seja, 15% sobre o total. Na coluna \"Proporção\" da vinculação do Fundeb, deve constar, portanto, 15%."]
["Ao fim, pressionar o botão para executar a macro e gerar os reflexos das medidas a implementar."]
[]
["4. Cenário Ajustado"]
["Os dados do Cenário Ajustado são obtidos automaticamente através da soma das projeções do Cenário Base com os impactos das Medidas a implementar e seus Reflexos."]
[]
["5. Verificações"]
["A aba de verificações averigua:\na) o cumprimento da limitação de despesas do inciso V do § 1º do artigo 2º da Lei Complementar nº 159/2017; e\nb) o atingimento do equilíbrio ao fim do Regime"]
["Para a verificação do cumprimento da limitação de despesas, devem ser informados dados do pagamento de passivos não financeiros e das despesas não incluídas no cálculo, referentes ao ano-base do cálculo da limitação e aos anos posteriores."]
["O serviço da dívida por competência será informado pela STN."]
["O respeito à limitação de despesas ao longo de todo o Regime é condição necessária à aprovação do PRF."]
["Para a verificação das condições de equilíbrio, devem ser informadas as receitas e despesas extraordinárias não incluídas no cálculo do resultado primário para fins de apuração do equilíbrio, uma por linha (inserir linhas extras entre as já existentes, de forma a atualizar automaticamente a fórmula de soma das receitas e das despesas)."]
[]
["6. Parâmetros"]
["Na aba de parâmetros são informadas projeções de variáveis macroeconômicas úteis para a estimação de rubricas fiscais. Essas projeções, no entanto, poderão ser substituídas por outras que o Estado achar mais convenientes."]
[]
["Mapeamento de Contas RRF e Instruções"]
["Consultar a aba \"VI-Referência\"."]

{"sheet":"I-Cenário Base","index":1,"n_rows":111,"n_cols":17,"rows_kept":111,"cut":false,"hidden":false,"merged":[]}
["PLANO DE RECUPERAÇÃO FISCAL"]
["Anexo I - Demonstrativo de Resultados Fiscais"]
["Cenário Base - Dados anuais em R$ milhões"]
["Receitas arrecadadas, brutas do repasse para o Fundeb\nDespesas empenhadas, inclusive transferências a Municípios"]
[null,2017,2018,2019,2020,2021,2022,2023,2024,2025,2026,2027,2028,2029,2030,2031,2032]
["ACIMA DA LINHA - RECEITAS E DESPESAS"]
["Receita Total (I) = (II+IX)",null,{"$f":"C8+C33","v":26172.220060889995},31437.77729500999,31618.637235030004,38672.959031219994,47927.217720359986,45393.983940123253,45459.855608401405,47591.094747019153,49010.312855706492,51477.805878720152,54282.710228346856,57181.868526789644,60068.90489798916,0,0]
["Receitas Correntes (II) = (III+IV+V+VI+VII-IIa)",null,{"$f":"C9+C15+C18+C21+C27-C31","v":25779.119363479997},29384.086020179991,31385.079913500005,38323.945330019997,44710.046176179982,45296.133597523251,45349.824654071403,47537.135770559151,48957.638660396493,51423.67215381845,54227.061134149502,57124.872923203271,60010.485488597398,0,0]
["Receitas Tributárias (III)",null,{"$f":"SUM(C10:C14)","v":20372.480755659995},{"$f":"SUM(D10:D14)","v":23031.170145459993},23762.703503739998,30095.582095469996,{"$f":"SUM(G10:G14)","v":32349.591641080002},{"$f":"SUM(H10:H14)","v":32942.257481380002},34642.92496336058,36583.749317508969,38493.079864583728,40512.951488641098,42673.29275424713,44902.351199710931,47282.199951191324,{"$f":"SUM(P10:P14)","v":0},0]
["ICMS",null,15691.23547879,17025.786284819998,17816.879618589999,23176.424978179999,24065.860418400003,23509.6218926,{"$f":"H10*(1+'V-Parâmetros'!O$6)*(1+'V-Parâmetros'!O$10)","v":24868.05486479821},{"$f":"I10*(1+'V-Parâmetros'!P$6)*(1+'V-Parâmetros'!P$10)","v":26354.28371920983},{"$f":"J10*(1+'V-Parâmetros'!Q$6)*(1+'V-Parâmetros'!Q$10)","v":27823.395095309228},{"$f":"K10*(1+'V-Parâmetros'!R$6)*(1+'V-Parâmetros'!R$10)","v":29403.207468820889},{"$f":"L10*(1+'V-Parâmetros'!S$6)*(1+'V-Parâmetros'!S$10)","v":31072.721588900538},{"$f":"M10*(1+'V-Parâmetros'!T$6)*(1+'V-Parâmetros'!T$10)","v":32837.030720718314},{"$f":"N10*(1+'V-Parâmetros'!U$6)*(1+'V-Parâmetros'!U$10)","v":34701.517325040702}]
["IPVA",null,1422.24022999,1574.87222965,1637.0002087100002,1825.8034947200001,2422.9731329899996,2974.9102935199999,{"$f":"H11*(1+'V-Parâmetros'!O$6)*(1+'V-Parâmetros'!O$10)","v":3146.8065601001722},{"$f":"I11*(1+'V-Parâmetros'!P$6)*(1+'V-Parâmetros'!P$10)","v":3334.8741325058036},{"$f":"J11*(1+'V-Parâmetros'!Q$6)*(1+'V-Parâmetros'!Q$10)","v":3520.7756572113585},{"$f":"K11*(1+'V-Parâmetros'!R$6)*(1+'V-Parâmetros'!R$10)","v":3720.6852990278198},{"$f":"L11*(1+'V-Parâmetros'!S$6)*(1+'V-Parâmetros'!S$10)","v":3931.9458103066195},{"$f":"M11*(1+'V-Parâmetros'!T$6)*(1+'V-Parâmetros'!T$10)","v":4155.2016934158301},{"$f":"N11*(1+'V-Parâmetros'!U$6)*(1+'V-Parâmetros'!U$10)","v":4391.134045567981}]
["ITCD",null,386.55561772999999,307.35668773999998,378.38749558999996,705.78232327000001,889.12136852999993,1137.2940901900001,{"$f":"H12*(1+'V-Parâmetros'!O$6)","v":1175.9620892564601},{"$f":"I12*(1+'V-Parâmetros'!P$6)","v":1212.5345102323358},{"$f":"J12*(1+'V-Parâmetros'!Q$6)","v":1250.001826598515},{"$f":"K12*(1+'V-Parâmetros'!R$6)","v":1287.5018813964705},{"$f":"L12*(1+'V-Parâmetros'!S$6)","v":1326.1269378383647},{"$f":"M12*(1+'V-Parâmetros'!T$6)","v":1365.9107459735158},{"$f":"N12*(1+'V-Parâmetros'!U$6)","v":1406.8880683527213}]
["IRRF",null,1382.13870855,2083.0369587300002,1812.4914613599999,1850.4876920899999,2252.0848745900003,2393.3841502599998,2425.5347945322001,2561.36407792711,2681.78499791185,2787.92088321656,2929.4533823368702,3028.77165369259,3161.76103474192]
["Outras Receitas Tributárias",null,1490.3107206,2040.1179845199899,2117.9447194899999,2537.0836072100001,2719.5518465700002,2927.0470548100002,{"$f":"H14*(1+'V-Parâmetros'!O$6)","v":3026.5666546735401},{"$f":"I14*(1+'V-Parâmetros'!P$6)","v":3120.6928776338868},{"$f":"J14*(1+'V-Parâmetros'!Q$6)","v":3217.1222875527737},{"$f":"K14*(1+'V-Parâmetros'!R$6)","v":3313.635956179357},{"$f":"L14*(1+'V-Parâmetros'!S$6)","v":3413.0450348647378},{"$f":"M14*(1+'V-Parâmetros'!T$6)","v":3515.4363859106802},{"$f":"N14*(1+'V-Parâmetros'!U$6)","v":3620.8994774880007}]
["Receitas de Contribuições (IV)",null,{"$f":"SUM(C16:C17)","v":1.542287E-2},{"$f":"SUM(D16:D17)","v":0},0,362.60912537999997,{"$f":"SUM(G16:G17)","v":399.51788916000004},{"$f":"SUM(H16:H17)","v":410.82721667999999},{"$f":"SUM(I16:I17)","v":443.952},447.75409361999999,451.39500012999997,475.20792446560392,505.21182747753522,525.8161421591775,554.50212030619343,{"$f":"SUM(P16:P17)","v":0},0]
["Receitas Previdenciárias (a)",null,0,0,0,354.95710402999998,388.36585961000003,398.97174151999997,431.45100000000002,434.48008172999999,437.33857399999999,459.55608087627064,488.44474115220191,507.93381309784417,535.50454850886013,null,{"$f":"P16*'V-Parâmetros'!W$7*(1+'V-Parâmetros'!W$10)","v":0}]
["Outras Receitas de Contribuições",null,1.542287E-2,0,0,7.6520213500000001,11.15202955,11.855475160000001,12.500999999999999,13.274011889999986,14.056426129999995,15.6518435893333,16.767086325333299,17.882329061333298,18.9975717973333,null,{"$f":"P17*'V-Parâmetros'!W$7*(1+'V-Parâmetros'!W$10)","v":0}]
["Receita Patrimonial (V)",null,{"$f":"SUM(C19:C20)","v":196.15713923000001},{"$f":"SUM(D19:D20)","v":276.89053096999999},228.43108763000012,431.20027138000023,{"$f":"SUM(G19:G20)","v":2644.0652169599998},{"$f":"SUM(H19:H20)","v":1703.3882070899999},{"$f":"SUM(I19:I20)","v":1339.6960000000001},872.30875670040928,537.2939489450082,426.20821900236876,439.41117277069475,453.54097389355724,468.66268705524465,{"$f":"SUM(P19:P20)","v":0},0]
["Receita de Aplicações Financeiras (b)",null,145.92794956,108.71844333,75.473308300000099,333.22499783000001,1356.5189260299999,1570.62293331,1230.046,706.21078158040928,361.55458760500818,238.13195449630078,238.13195449630078,238.13195449630078,238.13195449630078]
["Outras Receitas Patrimoniais",null,50.229189670000004,168.17208763999997,152.95777933000002,97.97527355000021,1287.5462909300002,132.76527378,109.65,166.09797512,175.73936134000002,188.07626450606801,201.279218274394,215.40901939725646,230.53073255894387]
["Transferências Correntes (VI)",null,{"$f":"SUM(C22:C26)","v":5240.0051736200003},5976.9062774600006,7460.3233866100009,7978.9877434499995,9797.8131101099989,10712.428580739761,9960.4619942918653,10899.772262869292,11131.541120618462,11759.170196561125,12422.44252987274,13123.243065756316,13655.51117228843,0,0]
["Cota-Parte do FPE",null,2565.3122327300002,2753.7031899600001,2658.3450761999998,3712.0260473000003,4734.8104883199994,4988.9594038300002,5327.3680000000004,5631.0277609899995,5959.3166794600002,6297.6866805197387,6655.269330239651,7033.1555228106581,7432.4980933958486]
["Cota-Parte do IPI-Exp. (LC nº 61/1989)",null,130.63583025,127.59961245000001,114.22370631,171.29492933,150.13959446000001,135.15825666999999,157.43600000000001,166.34252841999998,175.48680481,185.45094558711179,195.98085027754803,207.10864295630719,218.86827170336633]
["Transferências do FUNDEB",null,1953.8446071400001,2146.2640958900001,2373.4038599200003,3006.1386963699997,3394.53341989,3311.3483203497603,3436.268994291866,3668.8382749692933,3836.0150732484622,4049.5392028462229,4275.0586883347059,4513.2507696957509,4764.8310249075985]
["Royalties e Participações Especiais",null,72.663279670000009,46.877699990000004,36.722715430000001,64.512712429999993,0,0,0,0,0,0,0,0,0]
["Outras Transferências Correntes",null,517.54922382999996,902.46167917000002,2277.6280287500003,1025.0153580199999,1518.32960744,2276.9625998900001,1039.3890000000001,1433.56369849,1160.7225630999999,1226.4933676080504,1296.1336610208355,1369.7281302935985,1239.3137822816168]
["Demais Receitas Correntes (VII)",null,{"$f":"SUM(C28:C30)","v":2948.1455818200002},{"$f":"SUM(D28:D30)","v":3281.2102143699999},3658.9143467900003,4099.4864499400001,4626.4912542499796,{"$f":"SUM(H28:H30)","v":4701.2138621799895},{"$f":"SUM(I28:I30)","v":4331.96},4466.1111444999988,4338.1022780700105,4577.5393295954718,4866.4820503043893,5171.8758693328973,5494.6580341743356,{"$f":"SUM(P28:P30)","v":0},0]
["Outras Receitas Financeiras (c)",null,48.596614270000003,48.219960960000002,65.762509870000002,63.546175010000105,48.457935590000005,41.522343999999997,43.844000000000001,44.6347369,44.564394310000004,47.692814790562004,51.040850388859461,54.623918086157396,58.45851713580565]
["Compensações Financeiras entre o RGPS e o RPPS (d)",null,0,0,0,0,0.11091458,0,0,0,0,0,0,0,0]
["Receitas Correntes Restantes",null,2899.5489675500003,3232.9902534099997,3593.1518369200003,4035.9402749299998,4577.92240407998,4659.6915181799895,4288.116,4421.4764075999992,4293.5378837600101,4529.8465148049099,4815.44119991553,5117.2519512467397,5436.1995170385298]
["Deduções para formação do Fundeb (IIa)",null,2977.6847097199998,3182.09114808,3725.2924112699998,4643.9203556000002,5107.4329353800003,{"$f":"H10*0.15+H11*0.1+H12*0.2+H22*0.2+H23*0.15+696.82*0.15","v":5173.9817505465007},{"$f":"I10*0.15+I11*0.1+I12*0.2+I22*0.2+I23*0.15","v":5369.1703035810406},{"$f":"J10*0.15+J11*0.1+J12*0.2+J22*0.2+J23*0.15+348.44*0.15","v":5732.5598046395207},{"$f":"K10*0.15+K11*0.1+K12*0.2+K22*0.2+K23*0.15","v":5993.7735519507223},6327.4050044472233,6679.7792005229785,7051.9543276496106,7445.0484764181219]
["Receitas Primárias Correntes (VIII) = (II-b-c)",null,{"$f":"C8-C19-C28","v":25584.594799649996},29227.147615889993,31243.844095330005,37927.174157179994,43305.06931455998,43683.988320213255,44075.934654071403,46786.290252078739,48551.519678481483,51137.847384531582,53937.888329264337,56832.117050620807,59713.895016965289,0,0]
["Receitas de Capital (IX) = (X+XI+XII+XIII+XIV)",null,{"$f":"C34+C35+C36+C39+C40","v":393.10069741000001},{"$f":"D34+D35+D36+D39+D40","v":2053.6912748300001},233.55732153,349.01370120000001,3217.1715441800006,{"$f":"H34+H35+H36+H39+H40","v":97.850342599999991},{"$f":"I34+I35+I36+I39+I40","v":110.03095432999999},53.958976459999995,52.674195309999995,54.133724901700006,55.649094197351005,56.995603586371537,58.419409391762677,{"$f":"P34+P35+P36+P39+P40","v":0},0]
["Operações de Crédito (X)",null,173.32546869999999,6.2065755199999995,30,0,2494.2497318200003,0,0,0,0,0,0,0,0,null,{"$f":"P34*'V-Parâmetros'!W$7*(1+'V-Parâmetros'!W$10)","v":0}]
["Amortização de Empréstimos (XI)",null,12.707057990000001,12.201094269999999,12.502452300000002,13.04545894,13.538691949999999,14.62721123,14.99995433,15.11201782,14.188290919999998,14.493243380000001,14.819398230000001,14.94101674,15.10318494]
["Alienação de Bens (XII)",null,{"$f":"SUM(C37:C38)","v":12.061154210000002},{"$f":"SUM(D37:D38)","v":48.0638954},0.95380949000000004,132.59776295,586.9045722599999,{"$f":"SUM(H37:H38)","v":9.5260496799999999},{"$f":"SUM(I37:I38)","v":0},0,0,0,0,0,0,{"$f":"SUM(P37:P38)","v":0},0]
["Alienação de Bens Não Primária (e)",null,12.061154210000002,0,0,0,549.47632292999992,0,0,0,0,0,0,0,0]
["Alienação de Bens Primária",null,0,48.0638954,0.95380949000000004,132.59776295,37.42824933,9.5260496799999999,0,0,0,0,0,0,0]
["Transferências de Capital (XIII)",null,146.16654127999999,122.40588603,185.53779077999999,191.47227913,122.43354815000001,73.627081689999997,94.956999999999994,38.76856179,38.402971369999996,39.555060511100002,40.741712326433003,41.963963696225996,43.222882607112773]
["Outras Receitas de Capital (XIV)",null,{"$f":"SUM(C41:C42)","v":48.840475229999996},{"$f":"SUM(D41:D42)","v":1864.8138236099999},4.5632689600000003,11.89820018,4.4999999999999998E-2,{"$f":"SUM(H41:H42)","v":7.0000000000000007E-2},{"$f":"SUM(I41:I42)","v":7.3999999999999996E-2},7.8396850000000004E-2,8.293302000000001E-2,8.5421010600000014E-2,8.7983640918000011E-2,9.062315014554001E-2,9.3341844649906205E-2,{"$f":"SUM(P41:P42)","v":0},0]
["Outras Receitas de Capital Não Primárias (f)",null,0,0,0,0,0,0,0,0,0,0,0,0,0]
["Outras Receitas de Capital Primárias",null,48.840475229999996,1864.8138236099999,4.5632689600000003,11.89820018,4.4999999999999998E-2,7.0000000000000007E-2,7.3999999999999996E-2,7.8396850000000004E-2,8.293302000000001E-2,8.5421010600000014E-2,8.7983640918000011E-2,9.062315014554001E-2,9.3341844649906205E-2]
["Receitas Primárias de Capital (XV) = (IX-X-XI-e-f)",null,{"$f":"C33-C34-C35-C37-C41","v":195.00701651},{"$f":"D33-D34-D35-D37-D41","v":2035.2836050400001},191.05486923000001,335.96824226000001,159.90679748000036,{"$f":"H33-H34-H35-H37-H41","v":83.22313136999999},{"$f":"I33-I34-I35-I37-I41","v":95.030999999999992},38.846958639999997,38.485904389999995,39.640481521700003,40.829695967351,42.054586846371535,43.316224451762679,{"$f":"P33-P34-P35-P37-P41","v":0},0]
["RECEITA PRIMÁRIA TOTAL (XVI) = (VIII+XV)",null,{"$f":"C32+C43","v":25779.601816159997},{"$f":"D32+D43","v":31262.431220929993},31434.898964560005,38263.142399439996,43464.976112039978,{"$f":"H32+H43","v":43767.211451583258},44170.965654071406,46825.137210718742,48590.005582871483,51177.487866053285,53978.71802523169,56874.171637467181,59757.211241417055,{"$f":"P32+P43","v":0},0]
["Despesa Orçamentária (XVII) = (XVIII+XXIII)",null,{"$f":"C46+C58","v":30274.466897030081},31237.939704639961,31219.01330185002,37866.331315200005,43405.19729755001,44467.166589935645,45876.15722678414,48301.729729072482,50284.982372772582,52512.34886084203,53733.241722816849,55953.778474510502,58283.658555020113,0,0]
["Despesas Correntes (XVIII) = (XIX+XX+XXI)",null,{"$f":"C47+C52+C53","v":27831.688009500082},{"$f":"D47+D52+D53","v":29627.461561079959},29116.488290560021,33022.284888090006,38177.275669490009,{"$f":"H47+H52+H53","v":40781.078012434737},44292.026379600131,46593.609852536807,48199.574064129003,49560.248523135364,50522.224877957233,51778.672113354616,53680.245218210446,{"$f":"P47+P52+P53","v":0},0]
["Pessoal e Encargos Sociais (XIX)",null,{"$f":"SUM(C48:C51)","v":15639.77620813003},{"$f":"SUM(D48:D51)","v":16275.199384480002},15159.2885159,16253.982778559988,18648.938555580011,{"$f":"SUM(H48:H51)","v":20134.709946749521},22514.29834405216,23595.502900490592,24108.694465219462,24262.007888339474,24987.400053878322,25075.839340682309,25750.099772496702,{"$f":"SUM(P48:P51)","v":0},0]
["Ativo",null,10134.95893773,11626.364653340001,10741.01102235,11056.49161701,12544.62652177,13386.739190510189,15795.4785708937,17040.127319460003,17766.12258806331,18048.669486827806,18963.868418033406,19146.997587645077,19843.818615031119]
["Inativos e Pensionistas",null,5217.2481514900301,3287.18585128,3832.4429033800002,4267.2324276499894,5154.0062581500097,5196.5242908307246,5499.3334848632439,5306.3914459693879,5059.891302500615,4889.9326292916212,4658.0444178318403,4519.9765813013601,4452.699966600353]
["Sentenças Judiciais - Pessoal",null,13.516196390000001,4.8998609599999998,3.3928580099999999,544.42565982999997,242.12156069,801.5390299199986,444.08199999999999,449.46477339999996,458.45606471899998,474.45452698541504,491.06743542140453,508.21279566645364,525.90924351372962]
["Outras Despesas com Pessoal",null,274.05292251999998,1356.7490189,582.44173215999899,385.83307406999899,708.18421497000099,749.90743548860883,775.40428829522159,799.51936166120288,824.22450993653399,848.95124523463005,874.41978259166899,900.65237606941912,927.67194735150167]
["Juros e Encargos da Dívida (XX)",null,1151.80954023,1285.92342687,1081.1095308900001,72.016902129999991,358.13405311000002,581.12707512752706,741.01159933784572,861.66371139294392,956.23683404042936,1008.244748617496,1015.500777975559,1006.3525972015346,989.92292273622354]
["Outras Despesas Correntes (XXI)",null,{"$f":"SUM(C54:C56)","v":11040.102261140051},12066.338749729959,12876.090243770021,16696.285207400018,19170.203060799999,20065.240990557686,21036.716436210125,22136.443240653272,23134.642764869117,24289.995886178389,24519.324046103353,25696.480175470773,26940.222522977521,0,0]
["Transferências Constitucionais e Legais (g)",null,4467.7963192799998,4821.9311804099998,5039.9200861099998,6414.5649565499998,7107.3993882499999,7573.4551840775002,7833.345996249639,8353.6396281603593,8764.1183036354869,9257.5072531159094,9783.1485149478322,10338.635687626571,10925.663421970008]
["Sentenças Judiciais - Outras Correntes",null,207.79745066000001,370.69721970000001,542.05657387999997,745.76531401999898,750.38127587999907,810.10465164830407,1003.2841489419246,1042.1237536004924,1085.31149623487,1184.7284153297305,293.33450579039084,302.13454096410254,311.19857719302564]
["Demais Despesas Correntes",null,6364.5084912000502,6873.7103496199597,7294.1135837800211,9535.9549368300177,11312.422396669999,11681.68115483188,12200.086291018562,12740.679858892423,13285.212964998762,13847.76021773275,14442.841025365129,15055.709946880099,15703.360523814488]
["Despesas Primárias Correntes (XXII) = (XVIII-XX-h)",null,{"$f":"C46-C52","v":26679.878469270083},28341.538134209961,28035.37875967002,32950.267985960003,37819.14161638001,40199.950937307207,43551.014780262289,45731.946141143861,47243.337230088575,48552.003774517871,49506.724099981671,50772.319516153082,52690.322295474223,0,0]
["Despesas de Capital (XXIII) = (XXIV+XXV+XXVI)",null,{"$f":"C59+C62+C66","v":2442.7788875300002},{"$f":"D59+D62+D66","v":1610.4781435599998},2102.5250112899998,4844.0464271100009,5227.9216280599994,{"$f":"H59+H62+H66","v":3686.0885775009078},{"$f":"I59+I62+I66","v":1584.1308471840073},1708.1198765356776,2085.4083086435808,2952.1003377066681,3211.016844859615,4175.1063611558875,{"$f":"O59+O62+O66","v":4603.4133368096691},0,{"$f":"Q59+Q62+Q66","v":0}]
["Investimentos (XXIV)",null,{"$f":"SUM(C60:C61)","v":1566.8341693900002},{"$f":"SUM(D60:D61)","v":648.91048854999997},923.18385390000003,4586.2634343400005,2608.60483062,{"$f":"SUM(H60:H61)","v":3341.0510716117569},{"$f":"SUM(I60:I61)","v":1111.687131824212},923.30479933882134,1133.5161178373546,1785.1528984759652,1923.4166907063832,2760.1646492006794,{"$f":"SUM(O60:O61)","v":3018.7847861270748},0,{"$f":"SUM(Q60:Q61)","v":0}]
["Sentenças Judiciais - Investimentos",null,0,0,0,0,0,{"$f":"G60*'V-Parâmetros'!N$7","v":0},{"$f":"H60*'V-Parâmetros'!O$7","v":0},{"$f":"I60*'V-Parâmetros'!P$7","v":0},{"$f":"J60*'V-Parâmetros'!Q$7","v":0},{"$f":"K60*'V-Parâmetros'!R$7","v":0},{"$f":"L60*'V-Parâmetros'!S$7","v":0},{"$f":"M60*'V-Parâmetros'!T$7","v":0},{"$f":"N60*'V-Parâmetros'!U$7","v":0},{"$f":"O60*'V-Parâmetros'!V$7","v":0},{"$f":"P60*'V-Parâmetros'!W$7","v":0}]
["Demais Investimentos",null,1566.8341693900002,648.91048854999997,923.18385390000003,4586.2634343400005,2608.60483062,3341.0510716117569,1111.687131824212,923.30479933882134,1133.5161178373546,1785.1528984759652,1923.4166907063832,2760.1646492006794,3018.7847861270748]
["Inversões Financeiras (XXV)",null,{"$f":"SUM(C63:C65)","v":86.510206659999994},{"$f":"SUM(D63:D65)","v":66.522633749999997},7.3767080800000002,184.08063559999999,25.31551421,{"$f":"SUM(H63:H65)","v":26.543316649184998},{"$f":"SUM(I63:I65)","v":27.445789415257288},28.299353466071786,29.173803488173402,30.049017592818604,30.950488120603161,31.879002764221259,{"$f":"SUM(O63:O65)","v":32.835372847147895},0,{"$f":"SUM(Q63:Q65)","v":0}]
["Inversões Financeiras Não Primárias (h) 1)",null,0,0,0,0,0,0,0,0,0,0,0,0,0,0,0]
["Sentenças Judiciais - Inversões",null,0,0,0,0,0,0,0,0,0,0,0,0,0,0,0]
["Demais Inversões Financeiras Primárias",null,86.510206659999994,66.522633749999997,7.3767080800000002,184.08063559999999,25.31551421,{"$f":"G65*'V-Parâmetros'!N7","v":26.543316649184998},{"$f":"H65*'V-Parâmetros'!O7","v":27.445789415257288},{"$f":"I65*'V-Parâmetros'!P7","v":28.299353466071786},{"$f":"J65*'V-Parâmetros'!Q7","v":29.173803488173402},{"$f":"K65*'V-Parâmetros'!R7","v":30.049017592818604},{"$f":"L65*'V-Parâmetros'!S7","v":30.950488120603161},{"$f":"M65*'V-Parâmetros'!T7","v":31.879002764221259},{"$f":"N65*'V-Parâmetros'!U7","v":32.835372847147895}]
["Amortização da Dívida (XXVI)",null,789.43451147999997,{"$f":"965.26746653-68.42749831-1.79494696","v":895.04502126},{"$f":"1175.48446491-1.65659849-1.86341711","v":1171.96444931},{"$f":"75.24750677-1.5451496","v":73.702357169999999},{"$f":"2597.85067337-3.84939014","v":2594.0012832299999},318.49418923996598,444.99792594453817,756.51572373078432,922.71838731805269,1136.898421637884,1256.6496660326286,1383.0627091909873,1551.7931778354466]
["Despesas Primárias de Capital (XXVII) = (XXIII-h-XXVI)",null,{"$f":"C58-C63-C66","v":1653.3443760500004},{"$f":"D58-D63-D66","v":715.43312229999981},930.56056197999987,4770.3440699400007,2633.9203448299995,{"$f":"H58-H63-H66","v":3367.5943882609417},{"$f":"I58-I63-I66","v":1139.1329212394692},951.60415280489326,1162.6899213255281,1815.2019160687842,1954.3671788269864,2792.0436519649002,{"$f":"O58-O63-O66","v":3051.6201589742222},0,{"$f":"Q58-Q63-Q66","v":0}]
["DESPESA PRIMÁRIA ORÇAMENTÁRIA (XXVIII) = (XXII+XXVII)",null,{"$f":"C57+C67","v":28333.222845320084},{"$f":"D57+D67","v":29056.971256509962},28965.939321650021,37720.612055900005,40453.061961210013,{"$f":"H57+H67","v":43567.54532556815},{"$f":"I57+I67","v":44690.147701501759},46683.550293948756,48406.027151414106,50367.205690586656,51461.091278808657,53564.363168117983,{"$f":"O57+O67","v":55741.942454448443},0,{"$f":"Q57+Q67","v":0}]
["Receitas Correntes Intraorçamentárias (exceto fonte RPPS) (XXIX)",null,14.69258681,23.53352314,21.817545930000001,1.4543864900000001,5.7099648399999996]
["RECEITA CORRENTE LÍQUIDA (XXX) = (II-a-d-g-XXIX)",null,{"$f":"C8-C16-C29-C54-C69","v":21296.630457389998},24538.621316629993,26323.342281460005,31552.968882949997,37208.460048899979,37323.706671925749,{"$f":"I8-I16-I29-I54-I69","v":37085.02765782176},38749.016060668793,39756.181782761007,41706.608819826273,43955.467878049465,46278.303422478857,48549.317518118529,0,0]
["RESTOS A PAGAR"]
["Inscrições de Restos a Pagar (XXXI) = (i+l)",null,{"$f":"SUM(C73,C76)","v":2665.5026360899978},{"$f":"SUM(D73,D76)","v":2117.27681639},2947.8286101999997,3501.9765806999994,1637.8732269999998,{"$f":"SUM(H73,H76)","v":1744.4766816159768},1792.4934754164215,1891.2075198995979,2026.6651838215603,2165.9713532035139,2142.4528009834694,2172.6651980140509,2072.4394251252575,{"$f":"SUM(P73,P76)","v":0},0]
["Inscrição de RAP Processados (i)",null,{"$f":"SUM(C74:C75)","v":1951.5075212199999},{"$f":"SUM(D74:D75)","v":1423.3112294699999},2322.6002428899997,177.17027281,125.01738087,{"$f":"SUM(H74:H75)","v":116.43413736121302},122.29861721733521,145.27418645578612,211.9729625047294,273.97760029731768,214.03027151004676,169.21520683250648,0,{"$f":"SUM(P74:P75)","v":0},0]
["Inscrição de RAP Processados Primários (j)",null,1888.3515569799999,287.77077652999998,154.65439574999999,177.10757275,125.01601151999999,{"$f":"IF(H7<(H45+H83),IF(H45>H7,H45-H7,0)*(G74/G72)+H83*(G74/G72),0)","v":116.43286202585656},122.29727764670653,145.27259522738382,211.97064070615878,273.97459934477524,214.02792717720078,169.21335337147679,0]
["Inscrição de RAP Processados Não Primários (k)",null,63.155964240000003,1135.54045294,2167.9458471399998,6.2700060000000002E-2,1.3693499999999999E-3,{"$f":"IF(H7<(H45+H83),IF(H45>H7,H45-H7,0)*(G75/G72)+H83*(G75/G72),0)","v":1.2753353564603201E-3},1.3395706286688418E-3,1.5912284023138384E-3,2.321798570613833E-3,3.0009525424089288E-3,2.3443328459827979E-3,1.8534610296870851E-3,0]
["Inscrição de RAP Não Processados (l)",null,{"$f":"SUM(C77:C78)","v":713.99511486999791},{"$f":"SUM(D77:D78)","v":693.96558692000008},625.22836730999995,3324.8063078899995,1512.8558461299999,{"$f":"SUM(H77:H78)","v":1628.0425442547637},1670.1948581990862,1745.9333334438118,1814.6922213168309,1891.9937529061963,1928.4225294734224,2003.4499911815444,2072.4394251252575,{"$f":"SUM(P77:P78)","v":0},0]
["Inscrição de RAP Não Processados Primários (m)",null,694.11331558999802,681.19022633000009,619.6061813,3314.9017928099997,1504.01146397,{"$f":"(G77/G$68)*H$68","v":1619.8053855483008},{"$f":"(H77/H$68)*I$68","v":1661.5428155728339},1735.655879108609,1799.6961473714916,1872.6111471961235,1913.2809107491282,1991.4788240838559,2072.4394251252575]
["Inscrição de RAP Não Processados Não Primários (n)",null,19.8817992799999,12.77536059,5.6221860100000001,9.9045150799999995,8.8443821600000003,{"$f":"IF(H7<(H45+H83),IF(H45>H7,H45-H7,0)*(G78/G72)+H83*(G78/G72),0)","v":8.2371587064628446},8.652042626252376,10.2774543352027,14.996073945339388,19.382605710072795,15.14161872429422,11.971167097688458,0]
["Cancelamentos  de Restos a Pagar (XXXII) = (o+p)",null,{"$f":"SUM(C80:C81)","v":540.80995548999999},{"$f":"SUM(D80:D81)","v":426.01068528999997},955.89006702000006,3783.1411123999997,637.98429800999997,{"$f":"SUM(H80:H81)","v":381.41662409528783},368.05505475019521,366.88465651370223,384.11852190855825,412.31048113298658,442.29619917095033,441.15508046375965,444.27079074237645,{"$f":"SUM(P80:P81)","v":0},0]
["Cancelamento de RAP Processados (o)",null,53.085135299999997,180.54495252999999,403.58180756999997,3546.2630645999998,105.4354007,{"$f":"IFERROR(G86*(G80/F86),0)","v":52.58765428029065},110.10524505885515,102.25616302607057,107.48989651735147,124.78758144653877,142.52551429443346,135.61255871727585,126.8407912776164]
["Cancelamento de RAP Não Processados (p)",null,487.72482019,245.46573275999998,552.30825945000004,236.87804780000002,532.54889731000003,328.82896981499721,257.94980969134008,264.62849348763166,276.62862539120675,287.52289968644783,299.7706848765169,305.54252174648383,317.42999946476004]
["Liquidação de Restos a Pagar Não Processados (XXXIII)",null,279.27488672000004,288.14493608999999,288.51646808999999,386.22417007999996,2266.0792061100001,{"$f":"MAX(G87-H81,0)","v":1746.5652833649995},1370.0927345634236,1405.5663647114548,1469.3047080526048,1527.1693216303831,1592.2230680296791,1622.8800077269389,1686.0199917167843]
["Pagamento de Restos a Pagar Primário (XXXIV)",null,1727.8026050199999,1223.9547722300001,657.60060501999999,671.49834048000002,2535.0610200599999,{"$f":"IFERROR((G83/F85)*G85,0)","v":1525.4227449467701},{"$f":"IFERROR((H83/G85)*H85,0)","v":1416.039744422693},{"$f":"IFERROR((I83/H85)*I85,0)","v":1418.6043936108022},{"$f":"IFERROR((J83/I85)*J85,0)","v":1484.8355986369547},{"$f":"IFERROR((K83/J85)*K85,0)","v":1584.9461126590872},{"$f":"IFERROR((L83/K85)*L85,0)","v":1692.0486795491877},{"$f":"IFERROR((M83/L85)*M85,0)","v":1693.851955097309},{"$f":"IFERROR((N83/M85)*N85,0)","v":1714.9848615631606}]
["Pagamento de Restos a Pagar Não Primário (XXXV)",null,115.28127121999999,71.46203208,20.858714160000002,7.7555116100000001,8.0180094200000003,{"$f":"IFERROR((G84/F85)*G85,0)","v":4.8246783180690382},{"$f":"IFERROR((H84/G85)*H85,0)","v":4.4787166541682781},{"$f":"IFERROR((I84/H85)*I85,0)","v":4.4868282464284004},{"$f":"IFERROR((J84/I85)*J85,0)","v":4.6963073956857517},{"$f":"IFERROR((K84/J85)*K85,0)","v":5.0129416061125696},{"$f":"IFERROR((L84/K85)*L85,0)","v":5.35169060798499},{"$f":"IFERROR((M84/L85)*M85,0)","v":5.3573940921288745},{"$f":"IFERROR((N84/M85)*N85,0)","v":5.4242342359259528}]
["ESTOQUE DE RESTOS A PAGAR (XXXVI) = (XXXVII+XXXVIII)",{"$f":"B86+B87","v":2844.2163340699999},{"$f":"SUM(C86:C87)","v":3125.8251384299983},{"$f":"SUM(D86:D87)","v":3521.6744652199986},4835.1536892199974,3874.7353054299974,{"$f":"SUM(G86:G87)","v":2331.5452049399964},{"$f":"SUM(H86:H87)","v":2164.3578391958463},2168.277798785211,2269.509440313876,2422.5241961942379,2586.2260139995656,2588.9822456549118,2621.2830140157648,2529.0425525995593,{"$f":"SUM(P86:P87)","v":2529.0425525995593},2529.0425525995593]
["Estoque de RAP Processados (XXXVII) = XXXVII(t-1) + (i-o+XXXIII-XXXIV-XXXV)",2076.50787941,{"$f":"B86+C73-C80+C82-C83-C84","v":2411.1212758100005},{"$f":"C86+D73-D80+D82-D83-D84","v":2646.6156845300006},{"$f":"D86+E73-E80+E82-E83-E84","v":4175.6912687599997},{"$f":"E86+F73-F80+F82-F83-F84","v":513.56879495999988},{"$f":"F86+G73-G80+G82-G83-G84","v":256.15095175999977},{"$f":"G86+H73-H80+H82-H83-H84","v":536.31529494108247},{"$f":"H86+I73-I80+I82-I83-I84","v":498.08294058612472},{"$f":"I86+J73-J80+J82-J83-J84","v":523.57610687006456},{"$f":"J86+K73-K80+K82-K83-K84","v":607.83197487740711},{"$f":"K86+L73-L80+L82-L83-L84","v":694.2322610933694},{"$f":"L86+M73-M80+M82-M83-M84","v":660.55971618148908},{"$f":"M86+N73-N80+N82-N83-N84","v":617.83302283422074},{"$f":"N86+O73-O80+O82-O83-O84","v":456.6031274743018},456.6031274743018,456.6031274743018]
["Estoque de RAP Não Processados (XXXVIII) = XXXVIII(t-1) + (l-p-XXXIII)",767.70845466000003,{"$f":"B87+C76-C81-C82","v":714.70386261999784},{"$f":"C87+D76-D81-D82","v":875.05878068999789},{"$f":"D87+E76-E81-E82","v":659.46242045999782},{"$f":"E87+F76-F81-F82","v":3361.1665104699973},{"$f":"F87+G76-G81-G82","v":2075.3942531799967},{"$f":"G87+H76-H81-H82","v":1628.0425442547637},{"$f":"H87+I76-I81-I82","v":1670.1948581990864},{"$f":"I87+J76-J81-J82","v":1745.9333334438115},{"$f":"J87+K76-K81-K82","v":1814.6922213168309},{"$f":"K87+L76-L81-L82","v":1891.9937529061961},{"$f":"L87+M76-M81-M82","v":1928.4225294734226},{"$f":"M87+N76-N81-N82","v":2003.4499911815442},{"$f":"N87+O76-O81-O82","v":2072.4394251252575},2072.4394251252575,2072.4394251252575]
["ESTOQUE DE RESTOS A PAGAR / RECEITA CORRENTE LÍQUIDA (XXXVI/XXX)",null,{"$f":"IFERROR(C85/C$70,0)","v":0.14677557300363106},{"$f":"IFERROR(D85/D$70,0)","v":0.14351557977845053},0.1836831219045266,0.12280097381022533,{"$f":"IFERROR(G85/G$70,0)","v":6.2661695804551998E-2},{"$f":"IFERROR(H85/H$70,0)","v":5.7988823516926816E-2},5.8467741180931551E-2,5.8569472751528365E-2,6.0934528608194656E-2,6.2009980844334164E-2,5.890011802030666E-2,5.6641726687468051E-2,5.2092236964108189E-2,{"$f":"IFERROR(P85/P$70,0)","v":0},0]
["RAP Processados / RCL (XXXVII/XXX)",null,{"$f":"IFERROR(C86/C$70,0)","v":0.11321609212472078},0.10785510931440842,0.15863074012835418,1.6276401655424336E-2,{"$f":"IFERROR(G86/G$70,0)","v":6.8842126608669616E-3},{"$f":"IFERROR(H86/H$70,0)","v":1.4369293480287948E-2},1.3430836433017247E-2,1.3511984563693406E-2,1.528899274580171E-2,1.6645617582874511E-2,1.5027930495795273E-2,1.3350381866724168E-2,9.4049340097087514E-3,{"$f":"IFERROR(P86/P$70,0)","v":0},0]
["RAP Não Processados / RCL (XXXVIII/XXX)",null,3.3559480878910274E-2,3.5660470464042103E-2,2.505238177617243E-2,0.10652457215480099,{"$f":"IFERROR(G87/G$70,0)","v":5.5777483143685039E-2},{"$f":"IFERROR(H87/H$70,0)","v":4.3619530036638869E-2},4.5036904747914309E-2,4.5057488187834963E-2,4.564553586239295E-2,4.536436326145965E-2,4.3872187524511386E-2,4.3291344820743885E-2,4.2687302954399438E-2,{"$f":"IFERROR(P87/P$70,0)","v":0},0]
["DESPESA PRIMÁRIA (XXXIX) = (XXVIII-j-m+XXXIV)",null,{"$f":"C68-C74-C77+C83","v":27478.560577770084},{"$f":"D68-D74-D77+D83","v":29311.965025879963},28849.279349620021,34900.101030820006,{"$f":"G68-G74-G77+G83","v":41359.095505780017},{"$f":"H68-H74-H77+H83","v":43356.729822940768},44322.347352704906,46221.22621322357,47879.195961973412,49805.566056704847,51025.831120431518,53097.522945759963,55384.487890886347,{"$f":"P68-P74-P77+P83","v":0},0]
["Demais Despesas Primárias (XL) 2)"]
["DESPESA PRIMÁRIA TOTAL (XLI) = (XXXIX+XL)",null,{"$f":"C91+C92","v":27478.560577770084},{"$f":"D91+D92","v":29311.965025879963},28849.279349620021,34900.101030820006,{"$f":"G91+G92","v":41359.095505780017},{"$f":"H91+H92","v":43356.729822940768},{"$f":"I91+I92","v":44322.347352704906},46221.22621322357,47879.195961973412,49805.566056704847,51025.831120431518,53097.522945759963,55384.487890886347,{"$f":"P91+P92","v":0},0]
["RESULTADO PRIMÁRIO"]
["RESULTADO PRIMÁRIO (XLII) = (XVI-XLI)",null,{"$f":"C44-C93","v":-1698.9587616100871},1950.4661950500304,2585.6196149399839,3363.04136861999,2105.8806062599615,410.48162864249025,-151.38169863350049,603.91099749517161,710.80962089807144,1371.9218093484378,2952.8869048001725,3776.6486917072179,4372.7233505307086,0,0]
["Juros e Encargos da Dívida (XX)",null,{"$f":"C52","v":1151.80954023},1285.92342687,1081.1095308900001,72.016902129999991,358.13405311000002,581.12707512752706,741.01159933784572,861.66371139294392,956.23683404042936,1008.244748617496,1015.500777975559,1006.3525972015346,989.92292273622354,0,0]
["Amortização da Dívida (XXVI)",null,{"$f":"C66","v":789.43451147999997},{"$f":"D66","v":895.04502126},1171.96444931,73.702357169999999,2594.0012832299999,318.49418923996598,444.99792594453817,756.51572373078432,922.71838731805269,1136.898421637884,1256.6496660326286,1383.0627091909873,1551.7931778354466,{"$f":"P66","v":0},0]
["Inversões Financeiras Não Primárias (h) 1)",null,{"$f":"C63","v":0},0,0,0,0,0,0,0,0,0,0,0,0,0,0]
["Receita de Aplicações Financeiras (b)",null,{"$f":"C19","v":145.92794956},108.71844333,75.473308300000099,333.22499783000001,1356.5189260299999,1570.62293331,1230.046,706.21078158040928,361.55458760500818,238.13195449630078,238.13195449630078,238.13195449630078,238.13195449630078,0,0]
["Outras Receitas Financeiras (c)",null,{"$f":"C28","v":48.596614270000003},48.219960960000002,65.762509870000002,63.546175010000105,48.457935590000005,41.522343999999997,43.844000000000001,44.6347369,44.564394310000004,47.692814790562004,51.040850388859461,54.623918086157396,58.45851713580565,0,0]
["Outras Receitas de Capital Não Primárias (f)",null,{"$f":"C41","v":0},0,0,0,0,0,0,0,0,0,0,0,0,0,0]
["Amortização de Empréstimos (XI)",null,{"$f":"C35","v":12.707057990000001},12.201094269999999,12.502452300000002,13.04545894,13.538691949999999,14.62721123,14.99995433,15.11201782,14.188290919999998,14.493243380000001,14.819398230000001,14.94101674,15.10318494,0,0]
["Despesa Financeira Líquida (XLIII) = (XX+XXVI+h-k-n+XXXV-b-c-f-XI)",null,{"$f":"C96+C97+C98-C75-C78+C84-C99-C100-C101-C102","v":1766.25593759},934.97516812000003,-53.373609260000123,-266.30907601000013,1532.7920406800001,-730.56497989625723,-107.05509459032886,846.42968150614217,1448.3458601752498,1830.4524925320147,1958.3659684438719,2075.1027906034737,2235.4466782354898,0,0]
["NECESSIDADE DE FINANCIAMENTO (XLIV) = (XLIII-XLII)",null,{"$f":"C103-C95","v":3465.2146992000871},{"$f":"D103-D95","v":-1015.4910269300303},-2638.9932241999841,-3629.3504446299903,-573.08856557996137,-1141.0466085387475,44.326604043171628,242.51868401097056,737.53623927717831,458.53068318357691,-994.52093635630058,-1701.5459011037442,-2137.2766722952188,0,0]
["Operações de Crédito (X)",null,{"$f":"C34","v":173.32546869999999},6.2065755199999995,30,0,2494.2497318200003,0,0,0,0,0,0,0,0,0,0]
["Alienação de Bens Não Primária (e)",null,{"$f":"C37","v":12.061154210000002},0,0,0,549.47632292999992,0,0,0,0,0,0,0,0,0,0]
["Fontes de Financiamento (XLV) = (X+e)",null,{"$f":"C105+C106","v":185.38662291},{"$f":"D105+D106","v":6.2065755199999995},30,0,{"$f":"G105+G106","v":3043.72605475},{"$f":"H105+H106","v":0},0,0,0,0,0,0,0,{"$f":"P105+P106","v":0},0]
["Outros Fluxos de Caixa (XLVI)"]
["FLUXO DE CAIXA (XLVII) = (XLV-XLIV+XLVI)",null,{"$f":"C107-C104+C108","v":-3279.8280762900872},1021.6976024500303,2668.9932241999841,3629.3504446299903,{"$f":"G107-G104+G108","v":3616.8146203299611},{"$f":"H107-H104+H108","v":1141.0466085387475},{"$f":"I107-I104+I108","v":-44.326604043171628},-242.51868401097056,-737.53623927717831,-458.53068318357691,994.52093635630058,1701.5459011037442,2137.2766722952188,{"$f":"P107-P104+P108","v":0},0]
["1) Corresponde ao somatório de Concessão de Empréstimos e Financiamentos, Aquisição de Título de Capital já Integralizado e Aquisição de Título de Crédito."]
["2) As Demais Despesas Primárias são despesas que compõem o resultado primário por caixa, mas não transitam pelo orçamento."]

{"sheet":"II-a) Medidas a implementar","index":2,"n_rows":12,"n_cols":14,"rows_kept":12,"cut":false,"hidden":false,"merged":[[3,3,3,11]]}
["PLANO DE RECUPERAÇÃO FISCAL"]
["Anexo II-a) - Medidas de Ajuste Fiscal a implementar no Regime"]
[]
[null,null,null,"Impacto Esperado"]
["Referência","Descrição","Fluxo Afetado",{"$f":"'I-Cenário Base'!G5","v":2022},{"$f":"'I-Cenário Base'!H5","v":2023},{"$f":"'I-Cenário Base'!I5","v":2024},{"$f":"'I-Cenário Base'!J5","v":2025},{"$f":"'I-Cenário Base'!K5","v":2026},{"$f":"'I-Cenário Base'!L5","v":2027},{"$f":"'I-Cenário Base'!M5","v":2028},{"$f":"'I-Cenário Base'!N5","v":2029},{"$f":"'I-Cenário Base'!O5","v":2030},{"$f":"'I-Cenário Base'!P5","v":2031},{"$f":"'I-Cenário Base'!Q5","v":2032}]
[1,"Alienação de bens imóveis","Alienação de Bens Primária",0,0,70,10,10,0,0,0,0]
[2,"Privatização da CELGPAR","Outras Receitas de Capital Não Primárias (f)",0,0,0,450,0,0,0,0,0]
[3,"Operação de Crédito Externa - BID Profisco III","Operações de Crédito (X)",0,0,0,83.245912500000003,167.82375959999999,169.8216615,84.910830750000002,0,0]
[4,"Operação de Crédito Externa - BID Profisco III","Juros e Encargos da Dívida (XX)",0,0,0,1.0405739062499999,9.5065364100614005,19.605732623746629,29.878246091043696,31.396243961812068,29.918726034264193]
[5,"Operação de Crédito Externa - BID Profisco III","Amortização da Dívida (XXVI)",0,0,0,0,0,0,11.578749647727273,23.157499295454546,23.157499295454546]
[6,"Termo Aditivo art. 4º-A, inciso I, Alínea \"a\" da LC nº 156/2016 ","Juros e Encargos da Dívida (XX)",0,0,1.6325069219227615,6.3921628376613313,9.198309793487141,12.13060274292971,12.77484907000013,13.12458506999991,13.359156419999891]
[7,"Termo Aditivo art. 4º-A, inciso I, Alínea \"a\" da LC nº 156/2016 ","Amortização da Dívida (XXVI)",0,0,3.3109040673252821E-2,0.27384054752835141,0.54202513815209841,0.80971322830754389,3.4902140389135425,6.5829645136035566,9.9013181496294465]

{"sheet":"II-b) Vinculos","index":3,"n_rows":5,"n_cols":6,"rows_kept":5,"cut":false,"hidden":false,"merged":[]}
["PLANO DE RECUPERAÇÃO FISCAL"]
["Anexo II-b) Vinculações para Reflexos das Medidas de Ajuste Fiscal a implementar"]
["* quando concluir o preenchimento das abas \"II - Medidas a implementar\" e \"II-a) Vinculações\", executar a macro para gerar os Reflexos:"]
[]
["Sequencial","Medida (nº Referência) ou Fluxo afetado pela medida","Reflexo","Fluxo afetado - reflexo","Proporção","Base legal"]

{"sheet":"II-c) Reflexos","index":4,"n_rows":5,"n_cols":16,"rows_kept":5,"cut":false,"hidden":false,"merged":[]}
["PLANO DE RECUPERAÇÃO FISCAL"]
["Anexo II-c) - Reflexos das Medidas de Ajuste Fiscal a implementar"]
[]
[null,null,null,null,null,"Impacto Esperado"]
["Referência - original","Fluxo afetado pela medida","Reflexo","Fluxo afetado - reflexo","Proporção",{"$f":"'I-Cenário Base'!G5","v":2022},{"$f":"'I-Cenário Base'!H5","v":2023},{"$f":"'I-Cenário Base'!I5","v":2024},{"$f":"'I-Cenário Base'!J5","v":2025},{"$f":"'I-Cenário Base'!K5","v":2026},{"$f":"'I-Cenário Base'!L5","v":2027},{"$f":"'I-Cenário Base'!M5","v":2028},{"$f":"'I-Cenário Base'!N5","v":2029},{"$f":"'I-Cenário Base'!O5","v":2030},{"$f":"'I-Cenário Base'!P5","v":2031},{"$f":"'I-Cenário Base'!Q5","v":2032}]

{"sheet":"III-Cenário Ajustado","index":5,"n_rows":111,"n_cols":12,"rows_kept":111,"cut":false,"hidden":false,"merged":[]}
["PLANO DE RECUPERAÇÃO FISCAL"]
["Anexo III - Demonstrativo de Resultados Fiscais"]
["Cenário com medidas de ajuste - Dados anuais em R$ milhões",null,null,null,2,3,4,5,6,7,8]
["Receitas arrecadadas, brutas do repasse para o Fundeb\nDespesas empenhadas e transferências a Municípios"]
[null,2022,2023,2024,2025,2026,2027,2028,2029,2030,2031,2032]
["ACIMA DA LINHA - RECEITAS E DESPESAS"]
["Receita Total (I) = (II+IX)",{"$f":"B8+B33","v":47927.217720359986},45393.983940123253,45529.855608401405,48134.340659519148,49188.136615306496,51647.62754022015,54367.621059096855,57181.868526789644,60068.90489798916,0,0]
["Receitas Correntes (II) = (III+IV+V+VI+VII-IIa)",{"$f":"B9+B15+B18+B21+B27-B31","v":44710.046176179982},45296.133597523251,45349.824654071403,47537.135770559151,48957.638660396493,51423.67215381845,54227.061134149502,57124.872923203271,60010.485488597398,0,0]
["Receitas Tributárias (III)",{"$f":"SUM(B10:B14)","v":32349.591641080002},{"$f":"SUM(C10:C14)","v":32942.257481380002},34642.92496336058,36583.749317508969,38493.079864583728,40512.951488641098,42673.29275424713,44902.351199710931,47282.199951191324,{"$f":"SUM(K10:K14)","v":0},0]
["ICMS",{"$f":"'I-Cenário Base'!G10+SUMIF('II-a) Medidas a implementar'!$C:$C,$A10,'II-a) Medidas a implementar'!D:D)+SUMIF('II-c) Reflexos'!$D:$D,$A10,'II-c) Reflexos'!F:F)","v":24065.860418400003},{"$f":"'I-Cenário Base'!H10+SUMIF('II-a) Medidas a implementar'!$C:$C,$A10,'II-a) Medidas a implementar'!E:E)+SUMIF('II-c) Reflexos'!$D:$D,$A10,'II-c) Reflexos'!G:G)","v":23509.6218926},{"$f":"'I-Cenário Base'!I10+SUMIF('II-a) Medidas a implementar'!$C:$C,$A10,'II-a) Medidas a implementar'!F:F)+SUMIF('II-c) Reflexos'!$D:$D,$A10,'II-c) Reflexos'!H:H)","v":24868.05486479821},{"$f":"'I-Cenário Base'!J10+SUMIF('II-a) Medidas a implementar'!$C:$C,$A10,'II-a) Medidas a implementar'!G:G)+SUMIF('II-c) Reflexos'!$D:$D,$A10,'II-c) Reflexos'!I:I)","v":26354.28371920983},{"$f":"'I-Cenário Base'!K10+SUMIF('II-a) Medidas a implementar'!$C:$C,$A10,'II-a) Medidas a implementar'!H:H)+SUMIF('II-c) Reflexos'!$D:$D,$A10,'II-c) Reflexos'!J:J)","v":27823.395095309228},{"$f":"'I-Cenário Base'!L10+SUMIF('II-a) Medidas a implementar'!$C:$C,$A10,'II-a) Medidas a implementar'!I:I)+SUMIF('II-c) Reflexos'!$D:$D,$A10,'II-c) Reflexos'!K:K)","v":29403.207468820889},{"$f":"'I-Cenário Base'!M10+SUMIF('II-a) Medidas a implementar'!$C:$C,$A10,'II-a) Medidas a implementar'!J:J)+SUMIF('II-c) Reflexos'!$D:$D,$A10,'II-c) Reflexos'!L:L)","v":31072.721588900538},{"$f":"'I-Cenário Base'!N10+SUMIF('II-a) Medidas a implementar'!$C:$C,$A10,'II-a) Medidas a implementar'!K:K)+SUMIF('II-c) Reflexos'!$D:$D,$A10,'II-c) Reflexos'!M:M)","v":32837.030720718314},{"$f":"'I-Cenário Base'!O10+SUMIF('II-a) Medidas a implementar'!$C:$C,$A10,'II-a) Medidas a implementar'!L:L)+SUMIF('II-c) Reflexos'!$D:$D,$A10,'II-c) Reflexos'!N:N)","v":34701.517325040702},{"$f":"'I-Cenário Base'!P10+SUMIF('II-a) Medidas a implementar'!$C:$C,$A10,'II-a) Medidas a implementar'!M:M)+SUMIF('II-c) Reflexos'!$D:$D,$A10,'II-c) Reflexos'!O:O)","v":0},{"$f":"'I-Cenário Base'!Q10+SUMIF('II-a) Medidas a implementar'!$C:$C,$A10,'II-a) Medidas a implementar'!N:N)+SUMIF('II-c) Reflexos'!$D:$D,$A10,'II-c) Reflexos'!P:P)","v":0}]
["IPVA",{"$f":"'I-Cenário Base'!G11+SUMIF('II-a) Medidas a implementar'!$C:$C,$A11,'II-a) Medidas a implementar'!D:D)+SUMIF('II-c) Reflexos'!$D:$D,$A11,'II-c) Reflexos'!F:F)","v":2422.9731329899996},{"$f":"'I-Cenário Base'!H11+SUMIF('II-a) Medidas a implementar'!$C:$C,$A11,'II-a) Medidas a implementar'!E:E)+SUMIF('II-c) Reflexos'!$D:$D,$A11,'II-c) Reflexos'!G:G)","v":2974.9102935199999},{"$f":"'I-Cenário Base'!I11+SUMIF('II-a) Medidas a implementar'!$C:$C,$A11,'II-a) Medidas a implementar'!F:F)+SUMIF('II-c) Reflexos'!$D:$D,$A11,'II-c) Reflexos'!H:H)","v":3146.8065601001722},{"$f":"'I-Cenário Base'!J11+SUMIF('II-a) Medidas a implementar'!$C:$C,$A11,'II-a) Medidas a implementar'!G:G)+SUMIF('II-c) Reflexos'!$D:$D,$A11,'II-c) Reflexos'!I:I)","v":3334.8741325058036},{"$f":"'I-Cenário Base'!K11+SUMIF('II-a) Medidas a implementar'!$C:$C,$A11,'II-a) Medidas a implementar'!H:H)+SUMIF('II-c) Reflexos'!$D:$D,$A11,'II-c) Reflexos'!J:J)","v":3520.7756572113585},{"$f":"'I-Cenário Base'!L11+SUMIF('II-a) Medidas a implementar'!$C:$C,$A11,'II-a) Medidas a implementar'!I:I)+SUMIF('II-c) Reflexos'!$D:$D,$A11,'II-c) Reflexos'!K:K)","v":3720.6852990278198},{"$f":"'I-Cenário Base'!M11+SUMIF('II-a) Medidas a implementar'!$C:$C,$A11,'II-a) Medidas a implementar'!J:J)+SUMIF('II-c) Reflexos'!$D:$D,$A11,'II-c) Reflexos'!L:L)","v":3931.9458103066195},{"$f":"'I-Cenário Base'!N11+SUMIF('II-a) Medidas a implementar'!$C:$C,$A11,'II-a) Medidas a implementar'!K:K)+SUMIF('II-c) Reflexos'!$D:$D,$A11,'II-c) Reflexos'!M:M)","v":4155.2016934158301},{"$f":"'I-Cenário Base'!O11+SUMIF('II-a) Medidas a implementar'!$C:$C,$A11,'II-a) Medidas a implementar'!L:L)+SUMIF('II-c) Reflexos'!$D:$D,$A11,'II-c) Reflexos'!N:N)","v":4391.134045567981},{"$f":"'I-Cenário Base'!P11+SUMIF('II-a) Medidas a implementar'!$C:$C,$A11,'II-a) Medidas a implementar'!M:M)+SUMIF('II-c) Reflexos'!$D:$D,$A11,'II-c) Reflexos'!O:O)","v":0},{"$f":"'I-Cenário Base'!Q11+SUMIF('II-a) Medidas a implementar'!$C:$C,$A11,'II-a) Medidas a implementar'!N:N)+SUMIF('II-c) Reflexos'!$D:$D,$A11,'II-c) Reflexos'!P:P)","v":0}]
["ITCD",{"$f":"'I-Cenário Base'!G12+SUMIF('II-a) Medidas a implementar'!$C:$C,$A12,'II-a) Medidas a implementar'!D:D)+SUMIF('II-c) Reflexos'!$D:$D,$A12,'II-c) Reflexos'!F:F)","v":889.12136852999993},{"$f":"'I-Cenário Base'!H12+SUMIF('II-a) Medidas a implementar'!$C:$C,$A12,'II-a) Medidas a implementar'!E:E)+SUMIF('II-c) Reflexos'!$D:$D,$A12,'II-c) Reflexos'!G:G)","v":1137.2940901900001},{"$f":"'I-Cenário Base'!I12+SUMIF('II-a) Medidas a implementar'!$C:$C,$A12,'II-a) Medidas a implementar'!F:F)+SUMIF('II-c) Reflexos'!$D:$D,$A12,'II-c) Reflexos'!H:H)","v":1175.9620892564601},{"$f":"'I-Cenário Base'!J12+SUMIF('II-a) Medidas a implementar'!$C:$C,$A12,'II-a) Medidas a implementar'!G:G)+SUMIF('II-c) Reflexos'!$D:$D,$A12,'II-c) Reflexos'!I:I)","v":1212.5345102323358},{"$f":"'I-Cenário Base'!K12+SUMIF('II-a) Medidas a implementar'!$C:$C,$A12,'II-a) Medidas a implementar'!H:H)+SUMIF('II-c) Reflexos'!$D:$D,$A12,'II-c) Reflexos'!J:J)","v":1250.001826598515},{"$f":"'I-Cenário Base'!L12+SUMIF('II-a) Medidas a implementar'!$C:$C,$A12,'II-a) Medidas a implementar'!I:I)+SUMIF('II-c) Reflexos'!$D:$D,$A12,'II-c) Reflexos'!K:K)","v":1287.5018813964705},{"$f":"'I-Cenário Base'!M12+SUMIF('II-a) Medidas a implementar'!$C:$C,$A12,'II-a) Medidas a implementar'!J:J)+SUMIF('II-c) Reflexos'!$D:$D,$A12,'II-c) Reflexos'!L:L)","v":1326.1269378383647},{"$f":"'I-Cenário Base'!N12+SUMIF('II-a) Medidas a implementar'!$C:$C,$A12,'II-a) Medidas a implementar'!K:K)+SUMIF('II-c) Reflexos'!$D:$D,$A12,'II-c) Reflexos'!M:M)","v":1365.9107459735158},{"$f":"'I-Cenário Base'!O12+SUMIF('II-a) Medidas a implementar'!$C:$C,$A12,'II-a) Medidas a implementar'!L:L)+SUMIF('II-c) Reflexos'!$D:$D,$A12,'II-c) Reflexos'!N:N)","v":1406.8880683527213},{"$f":"'I-Cenário Base'!P12+SUMIF('II-a) Medidas a implementar'!$C:$C,$A12,'II-a) Medidas a implementar'!M:M)+SUMIF('II-c) Reflexos'!$D:$D,$A12,'II-c) Reflexos'!O:O)","v":0},{"$f":"'I-Cenário Base'!Q12+SUMIF('II-a) Medidas a implementar'!$C:$C,$A12,'II-a) Medidas a implementar'!N:N)+SUMIF('II-c) Reflexos'!$D:$D,$A12,'II-c) Reflexos'!P:P)","v":0}]
["IRRF",{"$f":"'I-Cenário Base'!G13+SUMIF('II-a) Medidas a implementar'!$C:$C,$A13,'II-a) Medidas a implementar'!D:D)+SUMIF('II-c) Reflexos'!$D:$D,$A13,'II-c) Reflexos'!F:F)","v":2252.0848745900003},{"$f":"'I-Cenário Base'!H13+SUMIF('II-a) Medidas a implementar'!$C:$C,$A13,'II-a) Medidas a implementar'!E:E)+SUMIF('II-c) Reflexos'!$D:$D,$A13,'II-c) Reflexos'!G:G)","v":2393.3841502599998},{"$f":"'I-Cenário Base'!I13+SUMIF('II-a) Medidas a implementar'!$C:$C,$A13,'II-a) Medidas a implementar'!F:F)+SUMIF('II-c) Reflexos'!$D:$D,$A13,'II-c) Reflexos'!H:H)","v":2425.5347945322001},{"$f":"'I-Cenário Base'!J13+SUMIF('II-a) Medidas a implementar'!$C:$C,$A13,'II-a) Medidas a implementar'!G:G)+SUMIF('II-c) Reflexos'!$D:$D,$A13,'II-c) Reflexos'!I:I)","v":2561.36407792711},{"$f":"'I-Cenário Base'!K13+SUMIF('II-a) Medidas a implementar'!$C:$C,$A13,'II-a) Medidas a implementar'!H:H)+SUMIF('II-c) Reflexos'!$D:$D,$A13,'II-c) Reflexos'!J:J)","v":2681.78499791185},{"$f":"'I-Cenário Base'!L13+SUMIF('II-a) Medidas a implementar'!$C:$C,$A13,'II-a) Medidas a implementar'!I:I)+SUMIF('II-c) Reflexos'!$D:$D,$A13,'II-c) Reflexos'!K:K)","v":2787.92088321656},{"$f":"'I-Cenário Base'!M13+SUMIF('II-a) Medidas a implementar'!$C:$C,$A13,'II-a) Medidas a implementar'!J:J)+SUMIF('II-c) Reflexos'!$D:$D,$A13,'II-c) Reflexos'!L:L)","v":2929.4533823368702},{"$f":"'I-Cenário Base'!N13+SUMIF('II-a) Medidas a implementar'!$C:$C,$A13,'II-a) Medidas a implementar'!K:K)+SUMIF('II-c) Reflexos'!$D:$D,$A13,'II-c) Reflexos'!M:M)","v":3028.77165369259},{"$f":"'I-Cenário Base'!O13+SUMIF('II-a) Medidas a implementar'!$C:$C,$A13,'II-a) Medidas a implementar'!L:L)+SUMIF('II-c) Reflexos'!$D:$D,$A13,'II-c) Reflexos'!N:N)","v":3161.76103474192},{"$f":"'I-Cenário Base'!P13+SUMIF('II-a) Medidas a implementar'!$C:$C,$A13,'II-a) Medidas a implementar'!M:M)+SUMIF('II-c) Reflexos'!$D:$D,$A13,'II-c) Reflexos'!O:O)","v":0},{"$f":"'I-Cenário Base'!Q13+SUMIF('II-a) Medidas a implementar'!$C:$C,$A13,'II-a) Medidas a implementar'!N:N)+SUMIF('II-c) Reflexos'!$D:$D,$A13,'II-c) Reflexos'!P:P)","v":0}]
["Outras Receitas Tributárias",{"$f":"'I-Cenário Base'!G14+SUMIF('II-a) Medidas a implementar'!$C:$C,$A14,'II-a) Medidas a implementar'!D:D)+SUMIF('II-c) Reflexos'!$D:$D,$A14,'II-c) Reflexos'!F:F)","v":2719.5518465700002},{"$f":"'I-Cenário Base'!H14+SUMIF('II-a) Medidas a implementar'!$C:$C,$A14,'II-a) Medidas a implementar'!E:E)+SUMIF('II-c) Reflexos'!$D:$D,$A14,'II-c) Reflexos'!G:G)","v":2927.0470548100002},{"$f":"'I-Cenário Base'!I14+SUMIF('II-a) Medidas a implementar'!$C:$C,$A14,'II-a) Medidas a implementar'!F:F)+SUMIF('II-c) Reflexos'!$D:$D,$A14,'II-c) Reflexos'!H:H)","v":3026.5666546735401},{"$f":"'I-Cenário Base'!J14+SUMIF('II-a) Medidas a implementar'!$C:$C,$A14,'II-a) Medidas a implementar'!G:G)+SUMIF('II-c) Reflexos'!$D:$D,$A14,'II-c) Reflexos'!I:I)","v":3120.6928776338868},{"$f":"'I-Cenário Base'!K14+SUMIF('II-a) Medidas a implementar'!$C:$C,$A14,'II-a) Medidas a implementar'!H:H)+SUMIF('II-c) Reflexos'!$D:$D,$A14,'II-c) Reflexos'!J:J)","v":3217.1222875527737},{"$f":"'I-Cenário Base'!L14+SUMIF('II-a) Medidas a implementar'!$C:$C,$A14,'II-a) Medidas a implementar'!I:I)+SUMIF('II-c) Reflexos'!$D:$D,$A14,'II-c) Reflexos'!K:K)","v":3313.635956179357},{"$f":"'I-Cenário Base'!M14+SUMIF('II-a) Medidas a implementar'!$C:$C,$A14,'II-a) Medidas a implementar'!J:J)+SUMIF('II-c) Reflexos'!$D:$D,$A14,'II-c) Reflexos'!L:L)","v":3413.0450348647378},{"$f":"'I-Cenário Base'!N14+SUMIF('II-a) Medidas a implementar'!$C:$C,$A14,'II-a) Medidas a implementar'!K:K)+SUMIF('II-c) Reflexos'!$D:$D,$A14,'II-c) Reflexos'!M:M)","v":3515.4363859106802},{"$f":"'I-Cenário Base'!O14+SUMIF('II-a) Medidas a implementar'!$C:$C,$A14,'II-a) Medidas a implementar'!L:L)+SUMIF('II-c) Reflexos'!$D:$D,$A14,'II-c) Reflexos'!N:N)","v":3620.8994774880007},{"$f":"'I-Cenário Base'!P14+SUMIF('II-a) Medidas a implementar'!$C:$C,$A14,'II-a) Medidas a implementar'!M:M)+SUMIF('II-c) Reflexos'!$D:$D,$A14,'II-c) Reflexos'!O:O)","v":0},{"$f":"'I-Cenário Base'!Q14+SUMIF('II-a) Medidas a implementar'!$C:$C,$A14,'II-a) Medidas a implementar'!N:N)+SUMIF('II-c) Reflexos'!$D:$D,$A14,'II-c) Reflexos'!P:P)","v":0}]
["Receitas de Contribuições (IV)",{"$f":"SUM(B16:B17)","v":399.51788916000004},{"$f":"SUM(C16:C17)","v":410.82721667999999},443.952,447.75409361999999,451.39500012999997,475.20792446560392,505.21182747753522,525.8161421591775,554.50212030619343,{"$f":"SUM(K16:K17)","v":0},0]
["Receitas Previdenciárias (a)",{"$f":"'I-Cenário Base'!G16+SUMIF('II-a) Medidas a implementar'!$C:$C,$A16,'II-a) Medidas a implementar'!D:D)+SUMIF('II-c) Reflexos'!$D:$D,$A16,'II-c) Reflexos'!F:F)","v":388.36585961000003},{"$f":"'I-Cenário Base'!H16+SUMIF('II-a) Medidas a implementar'!$C:$C,$A16,'II-a) Medidas a implementar'!E:E)+SUMIF('II-c) Reflexos'!$D:$D,$A16,'II-c) Reflexos'!G:G)","v":398.97174151999997},{"$f":"'I-Cenário Base'!I16+SUMIF('II-a) Medidas a implementar'!$C:$C,$A16,'II-a) Medidas a implementar'!F:F)+SUMIF('II-c) Reflexos'!$D:$D,$A16,'II-c) Reflexos'!H:H)","v":431.45100000000002},{"$f":"'I-Cenário Base'!J16+SUMIF('II-a) Medidas a implementar'!$C:$C,$A16,'II-a) Medidas a implementar'!G:G)+SUMIF('II-c) Reflexos'!$D:$D,$A16,'II-c) Reflexos'!I:I)","v":434.48008172999999},{"$f":"'I-Cenário Base'!K16+SUMIF('II-a) Medidas a implementar'!$C:$C,$A16,'II-a) Medidas a implementar'!H:H)+SUMIF('II-c) Reflexos'!$D:$D,$A16,'II-c) Reflexos'!J:J)","v":437.33857399999999},{"$f":"'I-Cenário Base'!L16+SUMIF('II-a) Medidas a implementar'!$C:$C,$A16,'II-a) Medidas a implementar'!I:I)+SUMIF('II-c) Reflexos'!$D:$D,$A16,'II-c) Reflexos'!K:K)","v":459.55608087627064},{"$f":"'I-Cenário Base'!M16+SUMIF('II-a) Medidas a implementar'!$C:$C,$A16,'II-a) Medidas a implementar'!J:J)+SUMIF('II-c) Reflexos'!$D:$D,$A16,'II-c) Reflexos'!L:L)","v":488.44474115220191},{"$f":"'I-Cenário Base'!N16+SUMIF('II-a) Medidas a implementar'!$C:$C,$A16,'II-a) Medidas a implementar'!K:K)+SUMIF('II-c) Reflexos'!$D:$D,$A16,'II-c) Reflexos'!M:M)","v":507.93381309784417},{"$f":"'I-Cenário Base'!O16+SUMIF('II-a) Medidas a implementar'!$C:$C,$A16,'II-a) Medidas a implementar'!L:L)+SUMIF('II-c) Reflexos'!$D:$D,$A16,'II-c) Reflexos'!N:N)","v":535.50454850886013},{"$f":"'I-Cenário Base'!P16+SUMIF('II-a) Medidas a implementar'!$C:$C,$A16,'II-a) Medidas a implementar'!M:M)+SUMIF('II-c) Reflexos'!$D:$D,$A16,'II-c) Reflexos'!O:O)","v":0},{"$f":"'I-Cenário Base'!Q16+SUMIF('II-a) Medidas a implementar'!$C:$C,$A16,'II-a) Medidas a implementar'!N:N)+SUMIF('II-c) Reflexos'!$D:$D,$A16,'II-c) Reflexos'!P:P)","v":0}]
["Outras Receitas de Contribuições",{"$f":"'I-Cenário Base'!G17+SUMIF('II-a) Medidas a implementar'!$C:$C,$A17,'II-a) Medidas a implementar'!D:D)+SUMIF('II-c) Reflexos'!$D:$D,$A17,'II-c) Reflexos'!F:F)","v":11.15202955},{"$f":"'I-Cenário Base'!H17+SUMIF('II-a) Medidas a implementar'!$C:$C,$A17,'II-a) Medidas a implementar'!E:E)+SUMIF('II-c) Reflexos'!$D:$D,$A17,'II-c) Reflexos'!G:G)","v":11.855475160000001},{"$f":"'I-Cenário Base'!I17+SUMIF('II-a) Medidas a implementar'!$C:$C,$A17,'II-a) Medidas a implementar'!F:F)+SUMIF('II-c) Reflexos'!$D:$D,$A17,'II-c) Reflexos'!H:H)","v":12.500999999999999},{"$f":"'I-Cenário Base'!J17+SUMIF('II-a) Medidas a implementar'!$C:$C,$A17,'II-a) Medidas a implementar'!G:G)+SUMIF('II-c) Reflexos'!$D:$D,$A17,'II-c) Reflexos'!I:I)","v":13.274011889999986},{"$f":"'I-Cenário Base'!K17+SUMIF('II-a) Medidas a implementar'!$C:$C,$A17,'II-a) Medidas a implementar'!H:H)+SUMIF('II-c) Reflexos'!$D:$D,$A17,'II-c) Reflexos'!J:J)","v":14.056426129999995},{"$f":"'I-Cenário Base'!L17+SUMIF('II-a) Medidas a implementar'!$C:$C,$A17,'II-a) Medidas a implementar'!I:I)+SUMIF('II-c) Reflexos'!$D:$D,$A17,'II-c) Reflexos'!K:K)","v":15.6518435893333},{"$f":"'I-Cenário Base'!M17+SUMIF('II-a) Medidas a implementar'!$C:$C,$A17,'II-a) Medidas a implementar'!J:J)+SUMIF('II-c) Reflexos'!$D:$D,$A17,'II-c) Reflexos'!L:L)","v":16.767086325333299},{"$f":"'I-Cenário Base'!N17+SUMIF('II-a) Medidas a implementar'!$C:$C,$A17,'II-a) Medidas a implementar'!K:K)+SUMIF('II-c) Reflexos'!$D:$D,$A17,'II-c) Reflexos'!M:M)","v":17.882329061333298},{"$f":"'I-Cenário Base'!O17+SUMIF('II-a) Medidas a implementar'!$C:$C,$A17,'II-a) Medidas a implementar'!L:L)+SUMIF('II-c) Reflexos'!$D:$D,$A17,'II-c) Reflexos'!N:N)","v":18.9975717973333},{"$f":"'I-Cenário Base'!P17+SUMIF('II-a) Medidas a implementar'!$C:$C,$A17,'II-a) Medidas a implementar'!M:M)+SUMIF('II-c) Reflexos'!$D:$D,$A17,'II-c) Reflexos'!O:O)","v":0},{"$f":"'I-Cenário Base'!Q17+SUMIF('II-a) Medidas a implementar'!$C:$C,$A17,'II-a) Medidas a implementar'!N:N)+SUMIF('II-c) Reflexos'!$D:$D,$A17,'II-c) Reflexos'!P:P)","v":0}]
["Receita Patrimonial (V)",{"$f":"SUM(B19:B20)","v":2644.0652169599998},{"$f":"SUM(C19:C20)","v":1703.3882070899999},1339.6960000000001,872.30875670040928,537.2939489450082,426.20821900236876,439.41117277069475,453.54097389355724,468.66268705524465,{"$f":"SUM(K19:K20)","v":0},0]
["Receita de Aplicações Financeiras (b)",{"$f":"'I-Cenário Base'!G19+SUMIF('II-a) Medidas a implementar'!$C:$C,$A19,'II-a) Medidas a implementar'!D:D)+SUMIF('II-c) Reflexos'!$D:$D,$A19,'II-c) Reflexos'!F:F)","v":1356.5189260299999},{"$f":"'I-Cenário Base'!H19+SUMIF('II-a) Medidas a implementar'!$C:$C,$A19,'II-a) Medidas a implementar'!E:E)+SUMIF('II-c) Reflexos'!$D:$D,$A19,'II-c) Reflexos'!G:G)","v":1570.62293331},{"$f":"'I-Cenário Base'!I19+SUMIF('II-a) Medidas a implementar'!$C:$C,$A19,'II-a) Medidas a implementar'!F:F)+SUMIF('II-c) Reflexos'!$D:$D,$A19,'II-c) Reflexos'!H:H)","v":1230.046},{"$f":"'I-Cenário Base'!J19+SUMIF('II-a) Medidas a implementar'!$C:$C,$A19,'II-a) Medidas a implementar'!G:G)+SUMIF('II-c) Reflexos'!$D:$D,$A19,'II-c) Reflexos'!I:I)","v":706.21078158040928},{"$f":"'I-Cenário Base'!K19+SUMIF('II-a) Medidas a implementar'!$C:$C,$A19,'II-a) Medidas a implementar'!H:H)+SUMIF('II-c) Reflexos'!$D:$D,$A19,'II-c) Reflexos'!J:J)","v":361.55458760500818},{"$f":"'I-Cenário Base'!L19+SUMIF('II-a) Medidas a implementar'!$C:$C,$A19,'II-a) Medidas a implementar'!I:I)+SUMIF('II-c) Reflexos'!$D:$D,$A19,'II-c) Reflexos'!K:K)","v":238.13195449630078},{"$f":"'I-Cenário Base'!M19+SUMIF('II-a) Medidas a implementar'!$C:$C,$A19,'II-a) Medidas a implementar'!J:J)+SUMIF('II-c) Reflexos'!$D:$D,$A19,'II-c) Reflexos'!L:L)","v":238.13195449630078},{"$f":"'I-Cenário Base'!N19+SUMIF('II-a) Medidas a implementar'!$C:$C,$A19,'II-a) Medidas a implementar'!K:K)+SUMIF('II-c) Reflexos'!$D:$D,$A19,'II-c) Reflexos'!M:M)","v":238.13195449630078},{"$f":"'I-Cenário Base'!O19+SUMIF('II-a) Medidas a implementar'!$C:$C,$A19,'II-a) Medidas a implementar'!L:L)+SUMIF('II-c) Reflexos'!$D:$D,$A19,'II-c) Reflexos'!N:N)","v":238.13195449630078},{"$f":"'I-Cenário Base'!P19+SUMIF('II-a) Medidas a implementar'!$C:$C,$A19,'II-a) Medidas a implementar'!M:M)+SUMIF('II-c) Reflexos'!$D:$D,$A19,'II-c) Reflexos'!O:O)","v":0},{"$f":"'I-Cenário Base'!Q19+SUMIF('II-a) Medidas a implementar'!$C:$C,$A19,'II-a) Medidas a implementar'!N:N)+SUMIF('II-c) Reflexos'!$D:$D,$A19,'II-c) Reflexos'!P:P)","v":0}]
["Outras Receitas Patrimoniais",{"$f":"'I-Cenário Base'!G20+SUMIF('II-a) Medidas a implementar'!$C:$C,$A20,'II-a) Medidas a implementar'!D:D)+SUMIF('II-c) Reflexos'!$D:$D,$A20,'II-c) Reflexos'!F:F)","v":1287.5462909300002},{"$f":"'I-Cenário Base'!H20+SUMIF('II-a) Medidas a implementar'!$C:$C,$A20,'II-a) Medidas a implementar'!E:E)+SUMIF('II-c) Reflexos'!$D:$D,$A20,'II-c) Reflexos'!G:G)","v":132.76527378},{"$f":"'I-Cenário Base'!I20+SUMIF('II-a) Medidas a implementar'!$C:$C,$A20,'II-a) Medidas a implementar'!F:F)+SUMIF('II-c) Reflexos'!$D:$D,$A20,'II-c) Reflexos'!H:H)","v":109.65},{"$f":"'I-Cenário Base'!J20+SUMIF('II-a) Medidas a implementar'!$C:$C,$A20,'II-a) Medidas a implementar'!G:G)+SUMIF('II-c) Reflexos'!$D:$D,$A20,'II-c) Reflexos'!I:I)","v":166.09797512},{"$f":"'I-Cenário Base'!K20+SUMIF('II-a) Medidas a implementar'!$C:$C,$A20,'II-a) Medidas a implementar'!H:H)+SUMIF('II-c) Reflexos'!$D:$D,$A20,'II-c) Reflexos'!J:J)","v":175.73936134000002},{"$f":"'I-Cenário Base'!L20+SUMIF('II-a) Medidas a implementar'!$C:$C,$A20,'II-a) Medidas a implementar'!I:I)+SUMIF('II-c) Reflexos'!$D:$D,$A20,'II-c) Reflexos'!K:K)","v":188.07626450606801},{"$f":"'I-Cenário Base'!M20+SUMIF('II-a) Medidas a implementar'!$C:$C,$A20,'II-a) Medidas a implementar'!J:J)+SUMIF('II-c) Reflexos'!$D:$D,$A20,'II-c) Reflexos'!L:L)","v":201.279218274394},{"$f":"'I-Cenário Base'!N20+SUMIF('II-a) Medidas a implementar'!$C:$C,$A20,'II-a) Medidas a implementar'!K:K)+SUMIF('II-c) Reflexos'!$D:$D,$A20,'II-c) Reflexos'!M:M)","v":215.40901939725646},{"$f":"'I-Cenário Base'!O20+SUMIF('II-a) Medidas a implementar'!$C:$C,$A20,'II-a) Medidas a implementar'!L:L)+SUMIF('II-c) Reflexos'!$D:$D,$A20,'II-c) Reflexos'!N:N)","v":230.53073255894387},{"$f":"'I-Cenário Base'!P20+SUMIF('II-a) Medidas a implementar'!$C:$C,$A20,'II-a) Medidas a implementar'!M:M)+SUMIF('II-c) Reflexos'!$D:$D,$A20,'II-c) Reflexos'!O:O)","v":0},{"$f":"'I-Cenário Base'!Q20+SUMIF('II-a) Medidas a implementar'!$C:$C,$A20,'II-a) Medidas a implementar'!N:N)+SUMIF('II-c) Reflexos'!$D:$D,$A20,'II-c) Reflexos'!P:P)","v":0}]
["Transferências Correntes (VI)",{"$f":"SUM(B22:B26)","v":9797.8131101099989},10712.428580739761,9960.4619942918653,10899.772262869292,11131.541120618462,11759.170196561125,12422.44252987274,13123.243065756316,13655.51117228843,0,0]
["Cota-Parte do FPE",{"$f":"'I-Cenário Base'!G22+SUMIF('II-a) Medidas a implementar'!$C:$C,$A22,'II-a) Medidas a implementar'!D:D)+SUMIF('II-c) Reflexos'!$D:$D,$A22,'II-c) Reflexos'!F:F)","v":4734.8104883199994},{"$f":"'I-Cenário Base'!H22+SUMIF('II-a) Medidas a implementar'!$C:$C,$A22,'II-a) Medidas a implementar'!E:E)+SUMIF('II-c) Reflexos'!$D:$D,$A22,'II-c) Reflexos'!G:G)","v":4988.9594038300002},{"$f":"'I-Cenário Base'!I22+SUMIF('II-a) Medidas a implementar'!$C:$C,$A22,'II-a) Medidas a implementar'!F:F)+SUMIF('II-c) Reflexos'!$D:$D,$A22,'II-c) Reflexos'!H:H)","v":5327.3680000000004},{"$f":"'I-Cenário Base'!J22+SUMIF('II-a) Medidas a implementar'!$C:$C,$A22,'II-a) Medidas a implementar'!G:G)+SUMIF('II-c) Reflexos'!$D:$D,$A22,'II-c) Reflexos'!I:I)","v":5631.0277609899995},{"$f":"'I-Cenário Base'!K22+SUMIF('II-a) Medidas a implementar'!$C:$C,$A22,'II-a) Medidas a implementar'!H:H)+SUMIF('II-c) Reflexos'!$D:$D,$A22,'II-c) Reflexos'!J:J)","v":5959.3166794600002},{"$f":"'I-Cenário Base'!L22+SUMIF('II-a) Medidas a implementar'!$C:$C,$A22,'II-a) Medidas a implementar'!I:I)+SUMIF('II-c) Reflexos'!$D:$D,$A22,'II-c) Reflexos'!K:K)","v":6297.6866805197387},{"$f":"'I-Cenário Base'!M22+SUMIF('II-a) Medidas a implementar'!$C:$C,$A22,'II-a) Medidas a implementar'!J:J)+SUMIF('II-c) Reflexos'!$D:$D,$A22,'II-c) Reflexos'!L:L)","v":6655.269330239651},{"$f":"'I-Cenário Base'!N22+SUMIF('II-a) Medidas a implementar'!$C:$C,$A22,'II-a) Medidas a implementar'!K:K)+SUMIF('II-c) Reflexos'!$D:$D,$A22,'II-c) Reflexos'!M:M)","v":7033.1555228106581},{"$f":"'I-Cenário Base'!O22+SUMIF('II-a) Medidas a implementar'!$C:$C,$A22,'II-a) Medidas a implementar'!L:L)+SUMIF('II-c) Reflexos'!$D:$D,$A22,'II-c) Reflexos'!N:N)","v":7432.4980933958486},{"$f":"'I-Cenário Base'!P22+SUMIF('II-a) Medidas a implementar'!$C:$C,$A22,'II-a) Medidas a implementar'!M:M)+SUMIF('II-c) Reflexos'!$D:$D,$A22,'II-c) Reflexos'!O:O)","v":0},{"$f":"'I-Cenário Base'!Q22+SUMIF('II-a) Medidas a implementar'!$C:$C,$A22,'II-a) Medidas a implementar'!N:N)+SUMIF('II-c) Reflexos'!$D:$D,$A22,'II-c) Reflexos'!P:P)","v":0}]
["Cota-Parte do IPI-Exp. (LC nº 61/1989)",{"$f":"'I-Cenário Base'!G23+SUMIF('II-a) Medidas a implementar'!$C:$C,$A23,'II-a) Medidas a implementar'!D:D)+SUMIF('II-c) Reflexos'!$D:$D,$A23,'II-c) Reflexos'!F:F)","v":150.13959446000001},{"$f":"'I-Cenário Base'!H23+SUMIF('II-a) Medidas a implementar'!$C:$C,$A23,'II-a) Medidas a implementar'!E:E)+SUMIF('II-c) Reflexos'!$D:$D,$A23,'II-c) Reflexos'!G:G)","v":135.15825666999999},{"$f":"'I-Cenário Base'!I23+SUMIF('II-a) Medidas a implementar'!$C:$C,$A23,'II-a) Medidas a implementar'!F:F)+SUMIF('II-c) Reflexos'!$D:$D,$A23,'II-c) Reflexos'!H:H)","v":157.43600000000001},{"$f":"'I-Cenário Base'!J23+SUMIF('II-a) Medidas a implementar'!$C:$C,$A23,'II-a) Medidas a implementar'!G:G)+SUMIF('II-c) Reflexos'!$D:$D,$A23,'II-c) Reflexos'!I:I)","v":166.34252841999998},{"$f":"'I-Cenário Base'!K23+SUMIF('II-a) Medidas a implementar'!$C:$C,$A23,'II-a) Medidas a implementar'!H:H)+SUMIF('II-c) Reflexos'!$D:$D,$A23,'II-c) Reflexos'!J:J)","v":175.48680481},{"$f":"'I-Cenário Base'!L23+SUMIF('II-a) Medidas a implementar'!$C:$C,$A23,'II-a) Medidas a implementar'!I:I)+SUMIF('II-c) Reflexos'!$D:$D,$A23,'II-c) Reflexos'!K:K)","v":185.45094558711179},{"$f":"'I-Cenário Base'!M23+SUMIF('II-a) Medidas a implementar'!$C:$C,$A23,'II-a) Medidas a implementar'!J:J)+SUMIF('II-c) Reflexos'!$D:$D,$A23,'II-c) Reflexos'!L:L)","v":195.98085027754803},{"$f":"'I-Cenário Base'!N23+SUMIF('II-a) Medidas a implementar'!$C:$C,$A23,'II-a) Medidas a implementar'!K:K)+SUMIF('II-c) Reflexos'!$D:$D,$A23,'II-c) Reflexos'!M:M)","v":207.10864295630719},{"$f":"'I-Cenário Base'!O23+SUMIF('II-a) Medidas a implementar'!$C:$C,$A23,'II-a) Medidas a implementar'!L:L)+SUMIF('II-c) Reflexos'!$D:$D,$A23,'II-c) Reflexos'!N:N)","v":218.86827170336633},{"$f":"'I-Cenário Base'!P23+SUMIF('II-a) Medidas a implementar'!$C:$C,$A23,'II-a) Medidas a implementar'!M:M)+SUMIF('II-c) Reflexos'!$D:$D,$A23,'II-c) Reflexos'!O:O)","v":0},{"$f":"'I-Cenário Base'!Q23+SUMIF('II-a) Medidas a implementar'!$C:$C,$A23,'II-a) Medidas a implementar'!N:N)+SUMIF('II-c) Reflexos'!$D:$D,$A23,'II-c) Reflexos'!P:P)","v":0}]
["Transferências do FUNDEB",{"$f":"'I-Cenário Base'!G24+SUMIF('II-a) Medidas a implementar'!$C:$C,$A24,'II-a) Medidas a implementar'!D:D)+SUMIF('II-c) Reflexos'!$D:$D,$A24,'II-c) Reflexos'!F:F)","v":3394.53341989},{"$f":"'I-Cenário Base'!H24+SUMIF('II-a) Medidas a implementar'!$C:$C,$A24,'II-a) Medidas a implementar'!E:E)+SUMIF('II-c) Reflexos'!$D:$D,$A24,'II-c) Reflexos'!G:G)","v":3311.3483203497603},{"$f":"'I-Cenário Base'!I24+SUMIF('II-a) Medidas a implementar'!$C:$C,$A24,'II-a) Medidas a implementar'!F:F)+SUMIF('II-c) Reflexos'!$D:$D,$A24,'II-c) Reflexos'!H:H)","v":3436.268994291866},{"$f":"'I-Cenário Base'!J24+SUMIF('II-a) Medidas a implementar'!$C:$C,$A24,'II-a) Medidas a implementar'!G:G)+SUMIF('II-c) Reflexos'!$D:$D,$A24,'II-c) Reflexos'!I:I)","v":3668.8382749692933},{"$f":"'I-Cenário Base'!K24+SUMIF('II-a) Medidas a implementar'!$C:$C,$A24,'II-a) Medidas a implementar'!H:H)+SUMIF('II-c) Reflexos'!$D:$D,$A24,'II-c) Reflexos'!J:J)","v":3836.0150732484622},{"$f":"'I-Cenário Base'!L24+SUMIF('II-a) Medidas a implementar'!$C:$C,$A24,'II-a) Medidas a implementar'!I:I)+SUMIF('II-c) Reflexos'!$D:$D,$A24,'II-c) Reflexos'!K:K)","v":4049.5392028462229},{"$f":"'I-Cenário Base'!M24+SUMIF('II-a) Medidas a implementar'!$C:$C,$A24,'II-a) Medidas a implementar'!J:J)+SUMIF('II-c) Reflexos'!$D:$D,$A24,'II-c) Reflexos'!L:L)","v":4275.0586883347059},{"$f":"'I-Cenário Base'!N24+SUMIF('II-a) Medidas a implementar'!$C:$C,$A24,'II-a) Medidas a implementar'!K:K)+SUMIF('II-c) Reflexos'!$D:$D,$A24,'II-c) Reflexos'!M:M)","v":4513.2507696957509},{"$f":"'I-Cenário Base'!O24+SUMIF('II-a) Medidas a implementar'!$C:$C,$A24,'II-a) Medidas a implementar'!L:L)+SUMIF('II-c) Reflexos'!$D:$D,$A24,'II-c) Reflexos'!N:N)","v":4764.8310249075985},{"$f":"'I-Cenário Base'!P24+SUMIF('II-a) Medidas a implementar'!$C:$C,$A24,'II-a) Medidas a implementar'!M:M)+SUMIF('II-c) Reflexos'!$D:$D,$A24,'II-c) Reflexos'!O:O)","v":0},{"$f":"'I-Cenário Base'!Q24+SUMIF('II-a) Medidas a implementar'!$C:$C,$A24,'II-a) Medidas a implementar'!N:N)+SUMIF('II-c) Reflexos'!$D:$D,$A24,'II-c) Reflexos'!P:P)","v":0}]
["Royalties e Participações Especiais",{"$f":"'I-Cenário Base'!G25+SUMIF('II-a) Medidas a implementar'!$C:$C,$A25,'II-a) Medidas a implementar'!D:D)+SUMIF('II-c) Reflexos'!$D:$D,$A25,'II-c) Reflexos'!F:F)","v":0},{"$f":"'I-Cenário Base'!H25+SUMIF('II-a) Medidas a implementar'!$C:$C,$A25,'II-a) Medidas a implementar'!E:E)+SUMIF('II-c) Reflexos'!$D:$D,$A25,'II-c) Reflexos'!G:G)","v":0},{"$f":"'I-Cenário Base'!I25+SUMIF('II-a) Medidas a implementar'!$C:$C,$A25,'II-a) Medidas a implementar'!F:F)+SUMIF('II-c) Reflexos'!$D:$D,$A25,'II-c) Reflexos'!H:H)","v":0},{"$f":"'I-Cenário Base'!J25+SUMIF('II-a) Medidas a implementar'!$C:$C,$A25,'II-a) Medidas a implementar'!G:G)+SUMIF('II-c) Reflexos'!$D:$D,$A25,'II-c) Reflexos'!I:I)","v":0},{"$f":"'I-Cenário Base'!K25+SUMIF('II-a) Medidas a implementar'!$C:$C,$A25,'II-a) Medidas a implementar'!H:H)+SUMIF('II-c) Reflexos'!$D:$D,$A25,'II-c) Reflexos'!J:J)","v":0},{"$f":"'I-Cenário Base'!L25+SUMIF('II-a) Medidas a implementar'!$C:$C,$A25,'II-a) Medidas a implementar'!I:I)+SUMIF('II-c) Reflexos'!$D:$D,$A25,'II-c) Reflexos'!K:K)","v":0},{"$f":"'I-Cenário Base'!M25+SUMIF('II-a) Medidas a implementar'!$C:$C,$A25,'II-a) Medidas a implementar'!J:J)+SUMIF('II-c) Reflexos'!$D:$D,$A25,'II-c) Reflexos'!L:L)","v":0},{"$f":"'I-Cenário Base'!N25+SUMIF('II-a) Medidas a implementar'!$C:$C,$A25,'II-a) Medidas a implementar'!K:K)+SUMIF('II-c) Reflexos'!$D:$D,$A25,'II-c) Reflexos'!M:M)","v":0},{"$f":"'I-Cenário Base'!O25+SUMIF('II-a) Medidas a implementar'!$C:$C,$A25,'II-a) Medidas a implementar'!L:L)+SUMIF('II-c) Reflexos'!$D:$D,$A25,'II-c) Reflexos'!N:N)","v":0},{"$f":"'I-Cenário Base'!P25+SUMIF('II-a) Medidas a implementar'!$C:$C,$A25,'II-a) Medidas a implementar'!M:M)+SUMIF('II-c) Reflexos'!$D:$D,$A25,'II-c) Reflexos'!O:O)","v":0},{"$f":"'I-Cenário Base'!Q25+SUMIF('II-a) Medidas a implementar'!$C:$C,$A25,'II-a) Medidas a implementar'!N:N)+SUMIF('II-c) Reflexos'!$D:$D,$A25,'II-c) Reflexos'!P:P)","v":0}]
["Outras Transferências Correntes",{"$f":"'I-Cenário Base'!G26+SUMIF('II-a) Medidas a implementar'!$C:$C,$A26,'II-a) Medidas a implementar'!D:D)+SUMIF('II-c) Reflexos'!$D:$D,$A26,'II-c) Reflexos'!F:F)","v":1518.32960744},{"$f":"'I-Cenário Base'!H26+SUMIF('II-a) Medidas a implementar'!$C:$C,$A26,'II-a) Medidas a implementar'!E:E)+SUMIF('II-c) Reflexos'!$D:$D,$A26,'II-c) Reflexos'!G:G)","v":2276.9625998900001},{"$f":"'I-Cenário Base'!I26+SUMIF('II-a) Medidas a implementar'!$C:$C,$A26,'II-a) Medidas a implementar'!F:F)+SUMIF('II-c) Reflexos'!$D:$D,$A26,'II-c) Reflexos'!H:H)","v":1039.3890000000001},{"$f":"'I-Cenário Base'!J26+SUMIF('II-a) Medidas a implementar'!$C:$C,$A26,'II-a) Medidas a implementar'!G:G)+SUMIF('II-c) Reflexos'!$D:$D,$A26,'II-c) Reflexos'!I:I)","v":1433.56369849},{"$f":"'I-Cenário Base'!K26+SUMIF('II-a) Medidas a implementar'!$C:$C,$A26,'II-a) Medidas a implementar'!H:H)+SUMIF('II-c) Reflexos'!$D:$D,$A26,'II-c) Reflexos'!J:J)","v":1160.7225630999999},{"$f":"'I-Cenário Base'!L26+SUMIF('II-a) Medidas a implementar'!$C:$C,$A26,'II-a) Medidas a implementar'!I:I)+SUMIF('II-c) Reflexos'!$D:$D,$A26,'II-c) Reflexos'!K:K)","v":1226.4933676080504},{"$f":"'I-Cenário Base'!M26+SUMIF('II-a) Medidas a implementar'!$C:$C,$A26,'II-a) Medidas a implementar'!J:J)+SUMIF('II-c) Reflexos'!$D:$D,$A26,'II-c) Reflexos'!L:L)","v":1296.1336610208355},{"$f":"'I-Cenário Base'!N26+SUMIF('II-a) Medidas a implementar'!$C:$C,$A26,'II-a) Medidas a implementar'!K:K)+SUMIF('II-c) Reflexos'!$D:$D,$A26,'II-c) Reflexos'!M:M)","v":1369.7281302935985},{"$f":"'I-Cenário Base'!O26+SUMIF('II-a) Medidas a implementar'!$C:$C,$A26,'II-a) Medidas a implementar'!L:L)+SUMIF('II-c) Reflexos'!$D:$D,$A26,'II-c) Reflexos'!N:N)","v":1239.3137822816168},{"$f":"'I-Cenário Base'!P26+SUMIF('II-a) Medidas a implementar'!$C:$C,$A26,'II-a) Medidas a implementar'!M:M)+SUMIF('II-c) Reflexos'!$D:$D,$A26,'II-c) Reflexos'!O:O)","v":0},{"$f":"'I-Cenário Base'!Q26+SUMIF('II-a) Medidas a implementar'!$C:$C,$A26,'II-a) Medidas a implementar'!N:N)+SUMIF('II-c) Reflexos'!$D:$D,$A26,'II-c) Reflexos'!P:P)","v":0}]
["Demais Receitas Correntes (VII)",{"$f":"SUM(B28:B30)","v":4626.4912542499796},{"$f":"SUM(C28:C30)","v":4701.2138621799895},4331.96,4466.1111444999988,4338.1022780700105,4577.5393295954718,4866.4820503043893,5171.8758693328973,5494.6580341743356,{"$f":"SUM(K28:K30)","v":0},0]
["Outras Receitas Financeiras (c)",{"$f":"'I-Cenário Base'!G28+SUMIF('II-a) Medidas a implementar'!$C:$C,$A28,'II-a) Medidas a implementar'!D:D)+SUMIF('II-c) Reflexos'!$D:$D,$A28,'II-c) Reflexos'!F:F)","v":48.457935590000005},{"$f":"'I-Cenário Base'!H28+SUMIF('II-a) Medidas a implementar'!$C:$C,$A28,'II-a) Medidas a implementar'!E:E)+SUMIF('II-c) Reflexos'!$D:$D,$A28,'II-c) Reflexos'!G:G)","v":41.522343999999997},{"$f":"'I-Cenário Base'!I28+SUMIF('II-a) Medidas a implementar'!$C:$C,$A28,'II-a) Medidas a implementar'!F:F)+SUMIF('II-c) Reflexos'!$D:$D,$A28,'II-c) Reflexos'!H:H)","v":43.844000000000001},{"$f":"'I-Cenário Base'!J28+SUMIF('II-a) Medidas a implementar'!$C:$C,$A28,'II-a) Medidas a implementar'!G:G)+SUMIF('II-c) Reflexos'!$D:$D,$A28,'II-c) Reflexos'!I:I)","v":44.6347369},{"$f":"'I-Cenário Base'!K28+SUMIF('II-a) Medidas a implementar'!$C:$C,$A28,'II-a) Medidas a implementar'!H:H)+SUMIF('II-c) Reflexos'!$D:$D,$A28,'II-c) Reflexos'!J:J)","v":44.564394310000004},{"$f":"'I-Cenário Base'!L28+SUMIF('II-a) Medidas a implementar'!$C:$C,$A28,'II-a) Medidas a implementar'!I:I)+SUMIF('II-c) Reflexos'!$D:$D,$A28,'II-c) Reflexos'!K:K)","v":47.692814790562004},{"$f":"'I-Cenário Base'!M28+SUMIF('II-a) Medidas a implementar'!$C:$C,$A28,'II-a) Medidas a implementar'!J:J)+SUMIF('II-c) Reflexos'!$D:$D,$A28,'II-c) Reflexos'!L:L)","v":51.040850388859461},{"$f":"'I-Cenário Base'!N28+SUMIF('II-a) Medidas a implementar'!$C:$C,$A28,'II-a) Medidas a implementar'!K:K)+SUMIF('II-c) Reflexos'!$D:$D,$A28,'II-c) Reflexos'!M:M)","v":54.623918086157396},{"$f":"'I-Cenário Base'!O28+SUMIF('II-a) Medidas a implementar'!$C:$C,$A28,'II-a) Medidas a implementar'!L:L)+SUMIF('II-c) Reflexos'!$D:$D,$A28,'II-c) Reflexos'!N:N)","v":58.45851713580565},{"$f":"'I-Cenário Base'!P28+SUMIF('II-a) Medidas a implementar'!$C:$C,$A28,'II-a) Medidas a implementar'!M:M)+SUMIF('II-c) Reflexos'!$D:$D,$A28,'II-c) Reflexos'!O:O)","v":0},{"$f":"'I-Cenário Base'!Q28+SUMIF('II-a) Medidas a implementar'!$C:$C,$A28,'II-a) Medidas a implementar'!N:N)+SUMIF('II-c) Reflexos'!$D:$D,$A28,'II-c) Reflexos'!P:P)","v":0}]
["Compensações Financeiras entre o RGPS e o RPPS (d)",{"$f":"'I-Cenário Base'!G29+SUMIF('II-a) Medidas a implementar'!$C:$C,$A29,'II-a) Medidas a implementar'!D:D)+SUMIF('II-c) Reflexos'!$D:$D,$A29,'II-c) Reflexos'!F:F)","v":0.11091458},{"$f":"'I-Cenário Base'!H29+SUMIF('II-a) Medidas a implementar'!$C:$C,$A29,'II-a) Medidas a implementar'!E:E)+SUMIF('II-c) Reflexos'!$D:$D,$A29,'II-c) Reflexos'!G:G)","v":0},{"$f":"'I-Cenário Base'!I29+SUMIF('II-a) Medidas a implementar'!$C:$C,$A29,'II-a) Medidas a implementar'!F:F)+SUMIF('II-c) Reflexos'!$D:$D,$A29,'II-c) Reflexos'!H:H)","v":0},{"$f":"'I-Cenário Base'!J29+SUMIF('II-a) Medidas a implementar'!$C:$C,$A29,'II-a) Medidas a implementar'!G:G)+SUMIF('II-c) Reflexos'!$D:$D,$A29,'II-c) Reflexos'!I:I)","v":0},{"$f":"'I-Cenário Base'!K29+SUMIF('II-a) Medidas a implementar'!$C:$C,$A29,'II-a) Medidas a implementar'!H:H)+SUMIF('II-c) Reflexos'!$D:$D,$A29,'II-c) Reflexos'!J:J)","v":0},{"$f":"'I-Cenário Base'!L29+SUMIF('II-a) Medidas a implementar'!$C:$C,$A29,'II-a) Medidas a implementar'!I:I)+SUMIF('II-c) Reflexos'!$D:$D,$A29,'II-c) Reflexos'!K:K)","v":0},{"$f":"'I-Cenário Base'!M29+SUMIF('II-a) Medidas a implementar'!$C:$C,$A29,'II-a) Medidas a implementar'!J:J)+SUMIF('II-c) Reflexos'!$D:$D,$A29,'II-c) Reflexos'!L:L)","v":0},{"$f":"'I-Cenário Base'!N29+SUMIF('II-a) Medidas a implementar'!$C:$C,$A29,'II-a) Medidas a implementar'!K:K)+SUMIF('II-c) Reflexos'!$D:$D,$A29,'II-c) Reflexos'!M:M)","v":0},{"$f":"'I-Cenário Base'!O29+SUMIF('II-a) Medidas a implementar'!$C:$C,$A29,'II-a) Medidas a implementar'!L:L)+SUMIF('II-c) Reflexos'!$D:$D,$A29,'II-c) Reflexos'!N:N)","v":0},{"$f":"'I-Cenário Base'!P29+SUMIF('II-a) Medidas a implementar'!$C:$C,$A29,'II-a) Medidas a implementar'!M:M)+SUMIF('II-c) Reflexos'!$D:$D,$A29,'II-c) Reflexos'!O:O)","v":0},{"$f":"'I-Cenário Base'!Q29+SUMIF('II-a) Medidas a implementar'!$C:$C,$A29,'II-a) Medidas a implementar'!N:N)+SUMIF('II-c) Reflexos'!$D:$D,$A29,'II-c) Reflexos'!P:P)","v":0}]
["Receitas Correntes Restantes",{"$f":"'I-Cenário Base'!G30+SUMIF('II-a) Medidas a implementar'!$C:$C,$A30,'II-a) Medidas a implementar'!D:D)+SUMIF('II-c) Reflexos'!$D:$D,$A30,'II-c) Reflexos'!F:F)","v":4577.92240407998},{"$f":"'I-Cenário Base'!H30+SUMIF('II-a) Medidas a implementar'!$C:$C,$A30,'II-a) Medidas a implementar'!E:E)+SUMIF('II-c) Reflexos'!$D:$D,$A30,'II-c) Reflexos'!G:G)","v":4659.6915181799895},{"$f":"'I-Cenário Base'!I30+SUMIF('II-a) Medidas a implementar'!$C:$C,$A30,'II-a) Medidas a implementar'!F:F)+SUMIF('II-c) Reflexos'!$D:$D,$A30,'II-c) Reflexos'!H:H)","v":4288.116},{"$f":"'I-Cenário Base'!J30+SUMIF('II-a) Medidas a implementar'!$C:$C,$A30,'II-a) Medidas a implementar'!G:G)+SUMIF('II-c) Reflexos'!$D:$D,$A30,'II-c) Reflexos'!I:I)","v":4421.4764075999992},{"$f":"'I-Cenário Base'!K30+SUMIF('II-a) Medidas a implementar'!$C:$C,$A30,'II-a) Medidas a implementar'!H:H)+SUMIF('II-c) Reflexos'!$D:$D,$A30,'II-c) Reflexos'!J:J)","v":4293.5378837600101},{"$f":"'I-Cenário Base'!L30+SUMIF('II-a) Medidas a implementar'!$C:$C,$A30,'II-a) Medidas a implementar'!I:I)+SUMIF('II-c) Reflexos'!$D:$D,$A30,'II-c) Reflexos'!K:K)","v":4529.8465148049099},{"$f":"'I-Cenário Base'!M30+SUMIF('II-a) Medidas a implementar'!$C:$C,$A30,'II-a) Medidas a implementar'!J:J)+SUMIF('II-c) Reflexos'!$D:$D,$A30,'II-c) Reflexos'!L:L)","v":4815.44119991553},{"$f":"'I-Cenário Base'!N30+SUMIF('II-a) Medidas a implementar'!$C:$C,$A30,'II-a) Medidas a implementar'!K:K)+SUMIF('II-c) Reflexos'!$D:$D,$A30,'II-c) Reflexos'!M:M)","v":5117.2519512467397},{"$f":"'I-Cenário Base'!O30+SUMIF('II-a) Medidas a implementar'!$C:$C,$A30,'II-a) Medidas a implementar'!L:L)+SUMIF('II-c) Reflexos'!$D:$D,$A30,'II-c) Reflexos'!N:N)","v":5436.1995170385298},{"$f":"'I-Cenário Base'!P30+SUMIF('II-a) Medidas a implementar'!$C:$C,$A30,'II-a) Medidas a implementar'!M:M)+SUMIF('II-c) Reflexos'!$D:$D,$A30,'II-c) Reflexos'!O:O)","v":0},{"$f":"'I-Cenário Base'!Q30+SUMIF('II-a) Medidas a implementar'!$C:$C,$A30,'II-a) Medidas a implementar'!N:N)+SUMIF('II-c) Reflexos'!$D:$D,$A30,'II-c) Reflexos'!P:P)","v":0}]
["Deduções para formação do Fundeb (IIa)",{"$f":"'I-Cenário Base'!G31+SUMIF('II-a) Medidas a implementar'!$C:$C,$A31,'II-a) Medidas a implementar'!D:D)+SUMIF('II-c) Reflexos'!$D:$D,$A31,'II-c) Reflexos'!F:F)","v":5107.4329353800003},{"$f":"'I-Cenário Base'!H31+SUMIF('II-a) Medidas a implementar'!$C:$C,$A31,'II-a) Medidas a implementar'!E:E)+SUMIF('II-c) Reflexos'!$D:$D,$A31,'II-c) Reflexos'!G:G)","v":5173.9817505465007},{"$f":"'I-Cenário Base'!I31+SUMIF('II-a) Medidas a implementar'!$C:$C,$A31,'II-a) Medidas a implementar'!F:F)+SUMIF('II-c) Reflexos'!$D:$D,$A31,'II-c) Reflexos'!H:H)","v":5369.1703035810406},{"$f":"'I-Cenário Base'!J31+SUMIF('II-a) Medidas a implementar'!$C:$C,$A31,'II-a) Medidas a implementar'!G:G)+SUMIF('II-c) Reflexos'!$D:$D,$A31,'II-c) Reflexos'!I:I)","v":5732.5598046395207},{"$f":"'I-Cenário Base'!K31+SUMIF('II-a) Medidas a implementar'!$C:$C,$A31,'II-a) Medidas a implementar'!H:H)+SUMIF('II-c) Reflexos'!$D:$D,$A31,'II-c) Reflexos'!J:J)","v":5993.7735519507223},{"$f":"'I-Cenário Base'!L31+SUMIF('II-a) Medidas a implementar'!$C:$C,$A31,'II-a) Medidas a implementar'!I:I)+SUMIF('II-c) Reflexos'!$D:$D,$A31,'II-c) Reflexos'!K:K)","v":6327.4050044472233},{"$f":"'I-Cenário Base'!M31+SUMIF('II-a) Medidas a implementar'!$C:$C,$A31,'II-a) Medidas a implementar'!J:J)+SUMIF('II-c) Reflexos'!$D:$D,$A31,'II-c) Reflexos'!L:L)","v":6679.7792005229785},{"$f":"'I-Cenário Base'!N31+SUMIF('II-a) Medidas a implementar'!$C:$C,$A31,'II-a) Medidas a implementar'!K:K)+SUMIF('II-c) Reflexos'!$D:$D,$A31,'II-c) Reflexos'!M:M)","v":7051.9543276496106},{"$f":"'I-Cenário Base'!O31+SUMIF('II-a) Medidas a implementar'!$C:$C,$A31,'II-a) Medidas a implementar'!L:L)+SUMIF('II-c) Reflexos'!$D:$D,$A31,'II-c) Reflexos'!N:N)","v":7445.0484764181219},{"$f":"'I-Cenário Base'!P31+SUMIF('II-a) Medidas a implementar'!$C:$C,$A31,'II-a) Medidas a implementar'!M:M)+SUMIF('II-c) Reflexos'!$D:$D,$A31,'II-c) Reflexos'!O:O)","v":0},{"$f":"'I-Cenário Base'!Q31+SUMIF('II-a) Medidas a implementar'!$C:$C,$A31,'II-a) Medidas a implementar'!N:N)+SUMIF('II-c) Reflexos'!$D:$D,$A31,'II-c) Reflexos'!P:P)","v":0}]
["Receitas Primárias Correntes (VIII) = (II-b-c)",{"$f":"B8-B19-B28","v":43305.06931455998},43683.988320213255,44075.934654071403,46786.290252078739,48551.519678481483,51137.847384531582,53937.888329264337,56832.117050620807,59713.895016965289,0,0]
["Receitas de Capital (IX) = (X+XI+XII+XIII+XIV)",{"$f":"B34+B35+B36+B39+B40","v":3217.1715441800006},{"$f":"C34+C35+C36+C39+C40","v":97.850342599999991},180.03095432999999,597.20488896000006,230.49795490999998,223.9553864017,140.55992494735099,56.995603586371537,58.419409391762677,{"$f":"K34+K35+K36+K39+K40","v":0},0]
["Operações de Crédito (X)",{"$f":"'I-Cenário Base'!G34+SUMIF('II-a) Medidas a implementar'!$C:$C,$A34,'II-a) Medidas a implementar'!D:D)+SUMIF('II-c) Reflexos'!$D:$D,$A34,'II-c) Reflexos'!F:F)","v":2494.2497318200003},{"$f":"'I-Cenário Base'!H34+SUMIF('II-a) Medidas a implementar'!$C:$C,$A34,'II-a) Medidas a implementar'!E:E)+SUMIF('II-c) Reflexos'!$D:$D,$A34,'II-c) Reflexos'!G:G)","v":0},{"$f":"'I-Cenário Base'!I34+SUMIF('II-a) Medidas a implementar'!$C:$C,$A34,'II-a) Medidas a implementar'!F:F)+SUMIF('II-c) Reflexos'!$D:$D,$A34,'II-c) Reflexos'!H:H)","v":0},{"$f":"'I-Cenário Base'!J34+SUMIF('II-a) Medidas a implementar'!$C:$C,$A34,'II-a) Medidas a implementar'!G:G)+SUMIF('II-c) Reflexos'!$D:$D,$A34,'II-c) Reflexos'!I:I)","v":83.245912500000003},{"$f":"'I-Cenário Base'!K34+SUMIF('II-a) Medidas a implementar'!$C:$C,$A34,'II-a) Medidas a implementar'!H:H)+SUMIF('II-c) Reflexos'!$D:$D,$A34,'II-c) Reflexos'!J:J)","v":167.82375959999999},{"$f":"'I-Cenário Base'!L34+SUMIF('II-a) Medidas a implementar'!$C:$C,$A34,'II-a) Medidas a implementar'!I:I)+SUMIF('II-c) Reflexos'!$D:$D,$A34,'II-c) Reflexos'!K:K)","v":169.8216615},{"$f":"'I-Cenário Base'!M34+SUMIF('II-a) Medidas a implementar'!$C:$C,$A34,'II-a) Medidas a implementar'!J:J)+SUMIF('II-c) Reflexos'!$D:$D,$A34,'II-c) Reflexos'!L:L)","v":84.910830750000002},{"$f":"'I-Cenário Base'!N34+SUMIF('II-a) Medidas a implementar'!$C:$C,$A34,'II-a) Medidas a implementar'!K:K)+SUMIF('II-c) Reflexos'!$D:$D,$A34,'II-c) Reflexos'!M:M)","v":0},{"$f":"'I-Cenário Base'!O34+SUMIF('II-a) Medidas a implementar'!$C:$C,$A34,'II-a) Medidas a implementar'!L:L)+SUMIF('II-c) Reflexos'!$D:$D,$A34,'II-c) Reflexos'!N:N)","v":0},{"$f":"'I-Cenário Base'!P34+SUMIF('II-a) Medidas a implementar'!$C:$C,$A34,'II-a) Medidas a implementar'!M:M)+SUMIF('II-c) Reflexos'!$D:$D,$A34,'II-c) Reflexos'!O:O)","v":0},{"$f":"'I-Cenário Base'!Q34+SUMIF('II-a) Medidas a implementar'!$C:$C,$A34,'II-a) Medidas a implementar'!N:N)+SUMIF('II-c) Reflexos'!$D:$D,$A34,'II-c) Reflexos'!P:P)","v":0}]
["Amortização de Empréstimos (XI)",{"$f":"'I-Cenário Base'!G35+SUMIF('II-a) Medidas a implementar'!$C:$C,$A35,'II-a) Medidas a implementar'!D:D)+SUMIF('II-c) Reflexos'!$D:$D,$A35,'II-c) Reflexos'!F:F)","v":13.538691949999999},{"$f":"'I-Cenário Base'!H35+SUMIF('II-a) Medidas a implementar'!$C:$C,$A35,'II-a) Medidas a implementar'!E:E)+SUMIF('II-c) Reflexos'!$D:$D,$A35,'II-c) Reflexos'!G:G)","v":14.62721123},{"$f":"'I-Cenário Base'!I35+SUMIF('II-a) Medidas a implementar'!$C:$C,$A35,'II-a) Medidas a implementar'!F:F)+SUMIF('II-c) Reflexos'!$D:$D,$A35,'II-c) Reflexos'!H:H)","v":14.99995433},{"$f":"'I-Cenário Base'!J35+SUMIF('II-a) Medidas a implementar'!$C:$C,$A35,'II-a) Medidas a implementar'!G:G)+SUMIF('II-c) Reflexos'!$D:$D,$A35,'II-c) Reflexos'!I:I)","v":15.11201782},{"$f":"'I-Cenário Base'!K35+SUMIF('II-a) Medidas a implementar'!$C:$C,$A35,'II-a) Medidas a implementar'!H:H)+SUMIF('II-c) Reflexos'!$D:$D,$A35,'II-c) Reflexos'!J:J)","v":14.188290919999998},{"$f":"'I-Cenário Base'!L35+SUMIF('II-a) Medidas a implementar'!$C:$C,$A35,'II-a) Medidas a implementar'!I:I)+SUMIF('II-c) Reflexos'!$D:$D,$A35,'II-c) Reflexos'!K:K)","v":14.493243380000001},{"$f":"'I-Cenário Base'!M35+SUMIF('II-a) Medidas a implementar'!$C:$C,$A35,'II-a) Medidas a implementar'!J:J)+SUMIF('II-c) Reflexos'!$D:$D,$A35,'II-c) Reflexos'!L:L)","v":14.819398230000001},{"$f":"'I-Cenário Base'!N35+SUMIF('II-a) Medidas a implementar'!$C:$C,$A35,'II-a) Medidas a implementar'!K:K)+SUMIF('II-c) Reflexos'!$D:$D,$A35,'II-c) Reflexos'!M:M)","v":14.94101674},{"$f":"'I-Cenário Base'!O35+SUMIF('II-a) Medidas a implementar'!$C:$C,$A35,'II-a) Medidas a implementar'!L:L)+SUMIF('II-c) Reflexos'!$D:$D,$A35,'II-c) Reflexos'!N:N)","v":15.10318494},{"$f":"'I-Cenário Base'!P35+SUMIF('II-a) Medidas a implementar'!$C:$C,$A35,'II-a) Medidas a implementar'!M:M)+SUMIF('II-c) Reflexos'!$D:$D,$A35,'II-c) Reflexos'!O:O)","v":0},{"$f":"'I-Cenário Base'!Q35+SUMIF('II-a) Medidas a implementar'!$C:$C,$A35,'II-a) Medidas a implementar'!N:N)+SUMIF('II-c) Reflexos'!$D:$D,$A35,'II-c) Reflexos'!P:P)","v":0}]
["Alienação de Bens (XII)",{"$f":"SUM(B37:B38)","v":586.9045722599999},{"$f":"SUM(C37:C38)","v":9.5260496799999999},70,10,10,0,0,0,0,{"$f":"SUM(K37:K38)","v":0},0]
["Alienação de Bens Não Primária (e)",{"$f":"'I-Cenário Base'!G37+SUMIF('II-a) Medidas a implementar'!$C:$C,$A37,'II-a) Medidas a implementar'!D:D)+SUMIF('II-c) Reflexos'!$D:$D,$A37,'II-c) Reflexos'!F:F)","v":549.47632292999992},{"$f":"'I-Cenário Base'!H37+SUMIF('II-a) Medidas a implementar'!$C:$C,$A37,'II-a) Medidas a implementar'!E:E)+SUMIF('II-c) Reflexos'!$D:$D,$A37,'II-c) Reflexos'!G:G)","v":0},{"$f":"'I-Cenário Base'!I37+SUMIF('II-a) Medidas a implementar'!$C:$C,$A37,'II-a) Medidas a implementar'!F:F)+SUMIF('II-c) Reflexos'!$D:$D,$A37,'II-c) Reflexos'!H:H)","v":0},{"$f":"'I-Cenário Base'!J37+SUMIF('II-a) Medidas a implementar'!$C:$C,$A37,'II-a) Medidas a implementar'!G:G)+SUMIF('II-c) Reflexos'!$D:$D,$A37,'II-c) Reflexos'!I:I)","v":0},{"$f":"'I-Cenário Base'!K37+SUMIF('II-a) Medidas a implementar'!$C:$C,$A37,'II-a) Medidas a implementar'!H:H)+SUMIF('II-c) Reflexos'!$D:$D,$A37,'II-c) Reflexos'!J:J)","v":0},{"$f":"'I-Cenário Base'!L37+SUMIF('II-a) Medidas a implementar'!$C:$C,$A37,'II-a) Medidas a implementar'!I:I)+SUMIF('II-c) Reflexos'!$D:$D,$A37,'II-c) Reflexos'!K:K)","v":0},{"$f":"'I-Cenário Base'!M37+SUMIF('II-a) Medidas a implementar'!$C:$C,$A37,'II-a) Medidas a implementar'!J:J)+SUMIF('II-c) Reflexos'!$D:$D,$A37,'II-c) Reflexos'!L:L)","v":0},{"$f":"'I-Cenário Base'!N37+SUMIF('II-a) Medidas a implementar'!$C:$C,$A37,'II-a) Medidas a implementar'!K:K)+SUMIF('II-c) Reflexos'!$D:$D,$A37,'II-c) Reflexos'!M:M)","v":0},{"$f":"'I-Cenário Base'!O37+SUMIF('II-a) Medidas a implementar'!$C:$C,$A37,'II-a) Medidas a implementar'!L:L)+SUMIF('II-c) Reflexos'!$D:$D,$A37,'II-c) Reflexos'!N:N)","v":0},{"$f":"'I-Cenário Base'!P37+SUMIF('II-a) Medidas a implementar'!$C:$C,$A37,'II-a) Medidas a implementar'!M:M)+SUMIF('II-c) Reflexos'!$D:$D,$A37,'II-c) Reflexos'!O:O)","v":0},{"$f":"'I-Cenário Base'!Q37+SUMIF('II-a) Medidas a implementar'!$C:$C,$A37,'II-a) Medidas a implementar'!N:N)+SUMIF('II-c) Reflexos'!$D:$D,$A37,'II-c) Reflexos'!P:P)","v":0}]
["Alienação de Bens Primária",{"$f":"'I-Cenário Base'!G38+SUMIF('II-a) Medidas a implementar'!$C:$C,$A38,'II-a) Medidas a implementar'!D:D)+SUMIF('II-c) Reflexos'!$D:$D,$A38,'II-c) Reflexos'!F:F)","v":37.42824933},{"$f":"'I-Cenário Base'!H38+SUMIF('II-a) Medidas a implementar'!$C:$C,$A38,'II-a) Medidas a implementar'!E:E)+SUMIF('II-c) Reflexos'!$D:$D,$A38,'II-c) Reflexos'!G:G)","v":9.5260496799999999},{"$f":"'I-Cenário Base'!I38+SUMIF('II-a) Medidas a implementar'!$C:$C,$A38,'II-a) Medidas a implementar'!F:F)+SUMIF('II-c) Reflexos'!$D:$D,$A38,'II-c) Reflexos'!H:H)","v":70},{"$f":"'I-Cenário Base'!J38+SUMIF('II-a) Medidas a implementar'!$C:$C,$A38,'II-a) Medidas a implementar'!G:G)+SUMIF('II-c) Reflexos'!$D:$D,$A38,'II-c) Reflexos'!I:I)","v":10},{"$f":"'I-Cenário Base'!K38+SUMIF('II-a) Medidas a implementar'!$C:$C,$A38,'II-a) Medidas a implementar'!H:H)+SUMIF('II-c) Reflexos'!$D:$D,$A38,'II-c) Reflexos'!J:J)","v":10},{"$f":"'I-Cenário Base'!L38+SUMIF('II-a) Medidas a implementar'!$C:$C,$A38,'II-a) Medidas a implementar'!I:I)+SUMIF('II-c) Reflexos'!$D:$D,$A38,'II-c) Reflexos'!K:K)","v":0},{"$f":"'I-Cenário Base'!M38+SUMIF('II-a) Medidas a implementar'!$C:$C,$A38,'II-a) Medidas a implementar'!J:J)+SUMIF('II-c) Reflexos'!$D:$D,$A38,'II-c) Reflexos'!L:L)","v":0},{"$f":"'I-Cenário Base'!N38+SUMIF('II-a) Medidas a implementar'!$C:$C,$A38,'II-a) Medidas a implementar'!K:K)+SUMIF('II-c) Reflexos'!$D:$D,$A38,'II-c) Reflexos'!M:M)","v":0},{"$f":"'I-Cenário Base'!O38+SUMIF('II-a) Medidas a implementar'!$C:$C,$A38,'II-a) Medidas a implementar'!L:L)+SUMIF('II-c) Reflexos'!$D:$D,$A38,'II-c) Reflexos'!N:N)","v":0},{"$f":"'I-Cenário Base'!P38+SUMIF('II-a) Medidas a implementar'!$C:$C,$A38,'II-a) Medidas a implementar'!M:M)+SUMIF('II-c) Reflexos'!$D:$D,$A38,'II-c) Reflexos'!O:O)","v":0},{"$f":"'I-Cenário Base'!Q38+SUMIF('II-a) Medidas a implementar'!$C:$C,$A38,'II-a) Medidas a implementar'!N:N)+SUMIF('II-c) Reflexos'!$D:$D,$A38,'II-c) Reflexos'!P:P)","v":0}]
["Transferências de Capital (XIII)",{"$f":"'I-Cenário Base'!G39+SUMIF('II-a) Medidas a implementar'!$C:$C,$A39,'II-a) Medidas a implementar'!D:D)+SUMIF('II-c) Reflexos'!$D:$D,$A39,'II-c) Reflexos'!F:F)","v":122.43354815000001},{"$f":"'I-Cenário Base'!H39+SUMIF('II-a) Medidas a implementar'!$C:$C,$A39,'II-a) Medidas a implementar'!E:E)+SUMIF('II-c) Reflexos'!$D:$D,$A39,'II-c) Reflexos'!G:G)","v":73.627081689999997},{"$f":"'I-Cenário Base'!I39+SUMIF('II-a) Medidas a implementar'!$C:$C,$A39,'II-a) Medidas a implementar'!F:F)+SUMIF('II-c) Reflexos'!$D:$D,$A39,'II-c) Reflexos'!H:H)","v":94.956999999999994},{"$f":"'I-Cenário Base'!J39+SUMIF('II-a) Medidas a implementar'!$C:$C,$A39,'II-a) Medidas a implementar'!G:G)+SUMIF('II-c) Reflexos'!$D:$D,$A39,'II-c) Reflexos'!I:I)","v":38.76856179},{"$f":"'I-Cenário Base'!K39+SUMIF('II-a) Medidas a implementar'!$C:$C,$A39,'II-a) Medidas a implementar'!H:H)+SUMIF('II-c) Reflexos'!$D:$D,$A39,'II-c) Reflexos'!J:J)","v":38.402971369999996},{"$f":"'I-Cenário Base'!L39+SUMIF('II-a) Medidas a implementar'!$C:$C,$A39,'II-a) Medidas a implementar'!I:I)+SUMIF('II-c) Reflexos'!$D:$D,$A39,'II-c) Reflexos'!K:K)","v":39.555060511100002},{"$f":"'I-Cenário Base'!M39+SUMIF('II-a) Medidas a implementar'!$C:$C,$A39,'II-a) Medidas a implementar'!J:J)+SUMIF('II-c) Reflexos'!$D:$D,$A39,'II-c) Reflexos'!L:L)","v":40.741712326433003},{"$f":"'I-Cenário Base'!N39+SUMIF('II-a) Medidas a implementar'!$C:$C,$A39,'II-a) Medidas a implementar'!K:K)+SUMIF('II-c) Reflexos'!$D:$D,$A39,'II-c) Reflexos'!M:M)","v":41.963963696225996},{"$f":"'I-Cenário Base'!O39+SUMIF('II-a) Medidas a implementar'!$C:$C,$A39,'II-a) Medidas a implementar'!L:L)+SUMIF('II-c) Reflexos'!$D:$D,$A39,'II-c) Reflexos'!N:N)","v":43.222882607112773},{"$f":"'I-Cenário Base'!P39+SUMIF('II-a) Medidas a implementar'!$C:$C,$A39,'II-a) Medidas a implementar'!M:M)+SUMIF('II-c) Reflexos'!$D:$D,$A39,'II-c) Reflexos'!O:O)","v":0},{"$f":"'I-Cenário Base'!Q39+SUMIF('II-a) Medidas a implementar'!$C:$C,$A39,'II-a) Medidas a implementar'!N:N)+SUMIF('II-c) Reflexos'!$D:$D,$A39,'II-c) Reflexos'!P:P)","v":0}]
["Outras Receitas de Capital (XIV)",{"$f":"SUM(B41:B42)","v":4.4999999999999998E-2},{"$f":"SUM(C41:C42)","v":7.0000000000000007E-2},7.3999999999999996E-2,450.07839684999999,8.293302000000001E-2,8.5421010600000014E-2,8.7983640918000011E-2,9.062315014554001E-2,9.3341844649906205E-2,{"$f":"SUM(K41:K42)","v":0},0]
["Outras Receitas de Capital Não Primárias (f)",{"$f":"'I-Cenário Base'!G41+SUMIF('II-a) Medidas a implementar'!$C:$C,$A41,'II-a) Medidas a implementar'!D:D)+SUMIF('II-c) Reflexos'!$D:$D,$A41,'II-c) Reflexos'!F:F)","v":0},{"$f":"'I-Cenário Base'!H41+SUMIF('II-a) Medidas a implementar'!$C:$C,$A41,'II-a) Medidas a implementar'!E:E)+SUMIF('II-c) Reflexos'!$D:$D,$A41,'II-c) Reflexos'!G:G)","v":0},{"$f":"'I-Cenário Base'!I41+SUMIF('II-a) Medidas a implementar'!$C:$C,$A41,'II-a) Medidas a implementar'!F:F)+SUMIF('II-c) Reflexos'!$D:$D,$A41,'II-c) Reflexos'!H:H)","v":0},{"$f":"'I-Cenário Base'!J41+SUMIF('II-a) Medidas a implementar'!$C:$C,$A41,'II-a) Medidas a implementar'!G:G)+SUMIF('II-c) Reflexos'!$D:$D,$A41,'II-c) Reflexos'!I:I)","v":450},{"$f":"'I-Cenário Base'!K41+SUMIF('II-a) Medidas a implementar'!$C:$C,$A41,'II-a) Medidas a implementar'!H:H)+SUMIF('II-c) Reflexos'!$D:$D,$A41,'II-c) Reflexos'!J:J)","v":0},{"$f":"'I-Cenário Base'!L41+SUMIF('II-a) Medidas a implementar'!$C:$C,$A41,'II-a) Medidas a implementar'!I:I)+SUMIF('II-c) Reflexos'!$D:$D,$A41,'II-c) Reflexos'!K:K)","v":0},{"$f":"'I-Cenário Base'!M41+SUMIF('II-a) Medidas a implementar'!$C:$C,$A41,'II-a) Medidas a implementar'!J:J)+SUMIF('II-c) Reflexos'!$D:$D,$A41,'II-c) Reflexos'!L:L)","v":0},{"$f":"'I-Cenário Base'!N41+SUMIF('II-a) Medidas a implementar'!$C:$C,$A41,'II-a) Medidas a implementar'!K:K)+SUMIF('II-c) Reflexos'!$D:$D,$A41,'II-c) Reflexos'!M:M)","v":0},{"$f":"'I-Cenário Base'!O41+SUMIF('II-a) Medidas a implementar'!$C:$C,$A41,'II-a) Medidas a implementar'!L:L)+SUMIF('II-c) Reflexos'!$D:$D,$A41,'II-c) Reflexos'!N:N)","v":0},{"$f":"'I-Cenário Base'!P41+SUMIF('II-a) Medidas a implementar'!$C:$C,$A41,'II-a) Medidas a implementar'!M:M)+SUMIF('II-c) Reflexos'!$D:$D,$A41,'II-c) Reflexos'!O:O)","v":0},{"$f":"'I-Cenário Base'!Q41+SUMIF('II-a) Medidas a implementar'!$C:$C,$A41,'II-a) Medidas a implementar'!N:N)+SUMIF('II-c) Reflexos'!$D:$D,$A41,'II-c) Reflexos'!P:P)","v":0}]
["Outras Receitas de Capital Primárias",{"$f":"'I-Cenário Base'!G42+SUMIF('II-a) Medidas a implementar'!$C:$C,$A42,'II-a) Medidas a implementar'!D:D)+SUMIF('II-c) Reflexos'!$D:$D,$A42,'II-c) Reflexos'!F:F)","v":4.4999999999999998E-2},{"$f":"'I-Cenário Base'!H42+SUMIF('II-a) Medidas a implementar'!$C:$C,$A42,'II-a) Medidas a implementar'!E:E)+SUMIF('II-c) Reflexos'!$D:$D,$A42,'II-c) Reflexos'!G:G)","v":7.0000000000000007E-2},{"$f":"'I-Cenário Base'!I42+SUMIF('II-a) Medidas a implementar'!$C:$C,$A42,'II-a) Medidas a implementar'!F:F)+SUMIF('II-c) Reflexos'!$D:$D,$A42,'II-c) Reflexos'!H:H)","v":7.3999999999999996E-2},{"$f":"'I-Cenário Base'!J42+SUMIF('II-a) Medidas a implementar'!$C:$C,$A42,'II-a) Medidas a implementar'!G:G)+SUMIF('II-c) Reflexos'!$D:$D,$A42,'II-c) Reflexos'!I:I)","v":7.8396850000000004E-2},{"$f":"'I-Cenário Base'!K42+SUMIF('II-a) Medidas a implementar'!$C:$C,$A42,'II-a) Medidas a implementar'!H:H)+SUMIF('II-c) Reflexos'!$D:$D,$A42,'II-c) Reflexos'!J:J)","v":8.293302000000001E-2},{"$f":"'I-Cenário Base'!L42+SUMIF('II-a) Medidas a implementar'!$C:$C,$A42,'II-a) Medidas a implementar'!I:I)+SUMIF('II-c) Reflexos'!$D:$D,$A42,'II-c) Reflexos'!K:K)","v":8.5421010600000014E-2},{"$f":"'I-Cenário Base'!M42+SUMIF('II-a) Medidas a implementar'!$C:$C,$A42,'II-a) Medidas a implementar'!J:J)+SUMIF('II-c) Reflexos'!$D:$D,$A42,'II-c) Reflexos'!L:L)","v":8.7983640918000011E-2},{"$f":"'I-Cenário Base'!N42+SUMIF('II-a) Medidas a implementar'!$C:$C,$A42,'II-a) Medidas a implementar'!K:K)+SUMIF('II-c) Reflexos'!$D:$D,$A42,'II-c) Reflexos'!M:M)","v":9.062315014554001E-2},{"$f":"'I-Cenário Base'!O42+SUMIF('II-a) Medidas a implementar'!$C:$C,$A42,'II-a) Medidas a implementar'!L:L)+SUMIF('II-c) Reflexos'!$D:$D,$A42,'II-c) Reflexos'!N:N)","v":9.3341844649906205E-2},{"$f":"'I-Cenário Base'!P42+SUMIF('II-a) Medidas a implementar'!$C:$C,$A42,'II-a) Medidas a implementar'!M:M)+SUMIF('II-c) Reflexos'!$D:$D,$A42,'II-c) Reflexos'!O:O)","v":0},{"$f":"'I-Cenário Base'!Q42+SUMIF('II-a) Medidas a implementar'!$C:$C,$A42,'II-a) Medidas a implementar'!N:N)+SUMIF('II-c) Reflexos'!$D:$D,$A42,'II-c) Reflexos'!P:P)","v":0}]
["Receitas Primárias de Capital (XV) = (IX-X-XI-e-f)",{"$f":"B33-B34-B35-B37-B41","v":159.90679748000036},{"$f":"C33-C34-C35-C37-C41","v":83.22313136999999},165.03099999999998,48.846958640000025,48.485904389999988,39.640481521699989,40.829695967350986,42.054586846371535,43.316224451762679,{"$f":"K33-K34-K35-K37-K41","v":0},0]
["RECEITA PRIMÁRIA TOTAL (XVI) = (VIII+XV)",{"$f":"B32+B43","v":43464.976112039978},{"$f":"C32+C43","v":43767.211451583258},44240.965654071406,46835.137210718742,48600.005582871483,51177.487866053285,53978.71802523169,56874.171637467181,59757.211241417055,{"$f":"K32+K43","v":0},0]
["Despesa Orçamentária (XVII) = (XVIII+XXIII)",{"$f":"B46+B58","v":43405.19729755001},44467.166589935645,45877.822842746733,48309.436306363925,50304.229244114285,52544.894909437011,53790.963781664526,56028.039767351373,58359.995254919464,0,0]
["Despesas Correntes (XVIII) = (XIX+XX+XXI)",{"$f":"B47+B52+B53","v":38177.275669490009},{"$f":"C47+C52+C53","v":40781.078012434737},44293.658886522055,46601.042589280718,48218.278910332556,49591.984858502037,50564.877973118273,51823.192942386428,53723.523100664708,{"$f":"K47+K52+K53","v":0},0]
["Pessoal e Encargos Sociais (XIX)",{"$f":"SUM(B48:B51)","v":18648.938555580011},{"$f":"SUM(C48:C51)","v":20134.709946749521},22514.29834405216,23595.502900490592,24108.694465219462,24262.007888339474,24987.400053878322,25075.839340682309,25750.099772496702,{"$f":"SUM(K48:K51)","v":0},0]
["Ativo",{"$f":"'I-Cenário Base'!G48+SUMIF('II-a) Medidas a implementar'!$C:$C,$A48,'II-a) Medidas a implementar'!D:D)+SUMIF('II-c) Reflexos'!$D:$D,$A48,'II-c) Reflexos'!F:F)","v":12544.62652177},{"$f":"'I-Cenário Base'!H48+SUMIF('II-a) Medidas a implementar'!$C:$C,$A48,'II-a) Medidas a implementar'!E:E)+SUMIF('II-c) Reflexos'!$D:$D,$A48,'II-c) Reflexos'!G:G)","v":13386.739190510189},{"$f":"'I-Cenário Base'!I48+SUMIF('II-a) Medidas a implementar'!$C:$C,$A48,'II-a) Medidas a implementar'!F:F)+SUMIF('II-c) Reflexos'!$D:$D,$A48,'II-c) Reflexos'!H:H)","v":15795.4785708937},{"$f":"'I-Cenário Base'!J48+SUMIF('II-a) Medidas a implementar'!$C:$C,$A48,'II-a) Medidas a implementar'!G:G)+SUMIF('II-c) Reflexos'!$D:$D,$A48,'II-c) Reflexos'!I:I)","v":17040.127319460003},{"$f":"'I-Cenário Base'!K48+SUMIF('II-a) Medidas a implementar'!$C:$C,$A48,'II-a) Medidas a implementar'!H:H)+SUMIF('II-c) Reflexos'!$D:$D,$A48,'II-c) Reflexos'!J:J)","v":17766.12258806331},{"$f":"'I-Cenário Base'!L48+SUMIF('II-a) Medidas a implementar'!$C:$C,$A48,'II-a) Medidas a implementar'!I:I)+SUMIF('II-c) Reflexos'!$D:$D,$A48,'II-c) Reflexos'!K:K)","v":18048.669486827806},{"$f":"'I-Cenário Base'!M48+SUMIF('II-a) Medidas a implementar'!$C:$C,$A48,'II-a) Medidas a implementar'!J:J)+SUMIF('II-c) Reflexos'!$D:$D,$A48,'II-c) Reflexos'!L:L)","v":18963.868418033406},{"$f":"'I-Cenário Base'!N48+SUMIF('II-a) Medidas a implementar'!$C:$C,$A48,'II-a) Medidas a implementar'!K:K)+SUMIF('II-c) Reflexos'!$D:$D,$A48,'II-c) Reflexos'!M:M)","v":19146.997587645077},{"$f":"'I-Cenário Base'!O48+SUMIF('II-a) Medidas a implementar'!$C:$C,$A48,'II-a) Medidas a implementar'!L:L)+SUMIF('II-c) Reflexos'!$D:$D,$A48,'II-c) Reflexos'!N:N)","v":19843.818615031119},{"$f":"'I-Cenário Base'!P48+SUMIF('II-a) Medidas a implementar'!$C:$C,$A48,'II-a) Medidas a implementar'!M:M)+SUMIF('II-c) Reflexos'!$D:$D,$A48,'II-c) Reflexos'!O:O)","v":0},{"$f":"'I-Cenário Base'!Q48+SUMIF('II-a) Medidas a implementar'!$C:$C,$A48,'II-a) Medidas a implementar'!N:N)+SUMIF('II-c) Reflexos'!$D:$D,$A48,'II-c) Reflexos'!P:P)","v":0}]
["Inativos e Pensionistas",{"$f":"'I-Cenário Base'!G49+SUMIF('II-a) Medidas a implementar'!$C:$C,$A49,'II-a) Medidas a implementar'!D:D)+SUMIF('II-c) Reflexos'!$D:$D,$A49,'II-c) Reflexos'!F:F)","v":5154.0062581500097},{"$f":"'I-Cenário Base'!H49+SUMIF('II-a) Medidas a implementar'!$C:$C,$A49,'II-a) Medidas a implementar'!E:E)+SUMIF('II-c) Reflexos'!$D:$D,$A49,'II-c) Reflexos'!G:G)","v":5196.5242908307246},{"$f":"'I-Cenário Base'!I49+SUMIF('II-a) Medidas a implementar'!$C:$C,$A49,'II-a) Medidas a implementar'!F:F)+SUMIF('II-c) Reflexos'!$D:$D,$A49,'II-c) Reflexos'!H:H)","v":5499.3334848632439},{"$f":"'I-Cenário Base'!J49+SUMIF('II-a) Medidas a implementar'!$C:$C,$A49,'II-a) Medidas a implementar'!G:G)+SUMIF('II-c) Reflexos'!$D:$D,$A49,'II-c) Reflexos'!I:I)","v":5306.3914459693879},{"$f":"'I-Cenário Base'!K49+SUMIF('II-a) Medidas a implementar'!$C:$C,$A49,'II-a) Medidas a implementar'!H:H)+SUMIF('II-c) Reflexos'!$D:$D,$A49,'II-c) Reflexos'!J:J)","v":5059.891302500615},{"$f":"'I-Cenário Base'!L49+SUMIF('II-a) Medidas a implementar'!$C:$C,$A49,'II-a) Medidas a implementar'!I:I)+SUMIF('II-c) Reflexos'!$D:$D,$A49,'II-c) Reflexos'!K:K)","v":4889.9326292916212},{"$f":"'I-Cenário Base'!M49+SUMIF('II-a) Medidas a implementar'!$C:$C,$A49,'II-a) Medidas a implementar'!J:J)+SUMIF('II-c) Reflexos'!$D:$D,$A49,'II-c) Reflexos'!L:L)","v":4658.0444178318403},{"$f":"'I-Cenário Base'!N49+SUMIF('II-a) Medidas a implementar'!$C:$C,$A49,'II-a) Medidas a implementar'!K:K)+SUMIF('II-c) Reflexos'!$D:$D,$A49,'II-c) Reflexos'!M:M)","v":4519.9765813013601},{"$f":"'I-Cenário Base'!O49+SUMIF('II-a) Medidas a implementar'!$C:$C,$A49,'II-a) Medidas a implementar'!L:L)+SUMIF('II-c) Reflexos'!$D:$D,$A49,'II-c) Reflexos'!N:N)","v":4452.699966600353},{"$f":"'I-Cenário Base'!P49+SUMIF('II-a) Medidas a implementar'!$C:$C,$A49,'II-a) Medidas a implementar'!M:M)+SUMIF('II-c) Reflexos'!$D:$D,$A49,'II-c) Reflexos'!O:O)","v":0},{"$f":"'I-Cenário Base'!Q49+SUMIF('II-a) Medidas a implementar'!$C:$C,$A49,'II-a) Medidas a implementar'!N:N)+SUMIF('II-c) Reflexos'!$D:$D,$A49,'II-c) Reflexos'!P:P)","v":0}]
["Sentenças Judiciais - Pessoal",{"$f":"'I-Cenário Base'!G50+SUMIF('II-a) Medidas a implementar'!$C:$C,$A50,'II-a) Medidas a implementar'!D:D)+SUMIF('II-c) Reflexos'!$D:$D,$A50,'II-c) Reflexos'!F:F)","v":242.12156069},{"$f":"'I-Cenário Base'!H50+SUMIF('II-a) Medidas a implementar'!$C:$C,$A50,'II-a) Medidas a implementar'!E:E)+SUMIF('II-c) Reflexos'!$D:$D,$A50,'II-c) Reflexos'!G:G)","v":801.5390299199986},{"$f":"'I-Cenário Base'!I50+SUMIF('II-a) Medidas a implementar'!$C:$C,$A50,'II-a) Medidas a implementar'!F:F)+SUMIF('II-c) Reflexos'!$D:$D,$A50,'II-c) Reflexos'!H:H)","v":444.08199999999999},{"$f":"'I-Cenário Base'!J50+SUMIF('II-a) Medidas a implementar'!$C:$C,$A50,'II-a) Medidas a implementar'!G:G)+SUMIF('II-c) Reflexos'!$D:$D,$A50,'II-c) Reflexos'!I:I)","v":449.46477339999996},{"$f":"'I-Cenário Base'!K50+SUMIF('II-a) Medidas a implementar'!$C:$C,$A50,'II-a) Medidas a implementar'!H:H)+SUMIF('II-c) Reflexos'!$D:$D,$A50,'II-c) Reflexos'!J:J)","v":458.45606471899998},{"$f":"'I-Cenário Base'!L50+SUMIF('II-a) Medidas a implementar'!$C:$C,$A50,'II-a) Medidas a implementar'!I:I)+SUMIF('II-c) Reflexos'!$D:$D,$A50,'II-c) Reflexos'!K:K)","v":474.45452698541504},{"$f":"'I-Cenário Base'!M50+SUMIF('II-a) Medidas a implementar'!$C:$C,$A50,'II-a) Medidas a implementar'!J:J)+SUMIF('II-c) Reflexos'!$D:$D,$A50,'II-c) Reflexos'!L:L)","v":491.06743542140453},{"$f":"'I-Cenário Base'!N50+SUMIF('II-a) Medidas a implementar'!$C:$C,$A50,'II-a) Medidas a implementar'!K:K)+SUMIF('II-c) Reflexos'!$D:$D,$A50,'II-c) Reflexos'!M:M)","v":508.21279566645364},{"$f":"'I-Cenário Base'!O50+SUMIF('II-a) Medidas a implementar'!$C:$C,$A50,'II-a) Medidas a implementar'!L:L)+SUMIF('II-c) Reflexos'!$D:$D,$A50,'II-c) Reflexos'!N:N)","v":525.90924351372962},{"$f":"'I-Cenário Base'!P50+SUMIF('II-a) Medidas a implementar'!$C:$C,$A50,'II-a) Medidas a implementar'!M:M)+SUMIF('II-c) Reflexos'!$D:$D,$A50,'II-c) Reflexos'!O:O)","v":0},{"$f":"'I-Cenário Base'!Q50+SUMIF('II-a) Medidas a implementar'!$C:$C,$A50,'II-a) Medidas a implementar'!N:N)+SUMIF('II-c) Reflexos'!$D:$D,$A50,'II-c) Reflexos'!P:P)","v":0}]
["Outras Despesas com Pessoal",{"$f":"'I-Cenário Base'!G51+SUMIF('II-a) Medidas a implementar'!$C:$C,$A51,'II-a) Medidas a implementar'!D:D)+SUMIF('II-c) Reflexos'!$D:$D,$A51,'II-c) Reflexos'!F:F)","v":708.18421497000099},{"$f":"'I-Cenário Base'!H51+SUMIF('II-a) Medidas a implementar'!$C:$C,$A51,'II-a) Medidas a implementar'!E:E)+SUMIF('II-c) Reflexos'!$D:$D,$A51,'II-c) Reflexos'!G:G)","v":749.90743548860883},{"$f":"'I-Cenário Base'!I51+SUMIF('II-a) Medidas a implementar'!$C:$C,$A51,'II-a) Medidas a implementar'!F:F)+SUMIF('II-c) Reflexos'!$D:$D,$A51,'II-c) Reflexos'!H:H)","v":775.40428829522159},{"$f":"'I-Cenário Base'!J51+SUMIF('II-a) Medidas a implementar'!$C:$C,$A51,'II-a) Medidas a implementar'!G:G)+SUMIF('II-c) Reflexos'!$D:$D,$A51,'II-c) Reflexos'!I:I)","v":799.51936166120288},{"$f":"'I-Cenário Base'!K51+SUMIF('II-a) Medidas a implementar'!$C:$C,$A51,'II-a) Medidas a implementar'!H:H)+SUMIF('II-c) Reflexos'!$D:$D,$A51,'II-c) Reflexos'!J:J)","v":824.22450993653399},{"$f":"'I-Cenário Base'!L51+SUMIF('II-a) Medidas a implementar'!$C:$C,$A51,'II-a) Medidas a implementar'!I:I)+SUMIF('II-c) Reflexos'!$D:$D,$A51,'II-c) Reflexos'!K:K)","v":848.95124523463005},{"$f":"'I-Cenário Base'!M51+SUMIF('II-a) Medidas a implementar'!$C:$C,$A51,'II-a) Medidas a implementar'!J:J)+SUMIF('II-c) Reflexos'!$D:$D,$A51,'II-c) Reflexos'!L:L)","v":874.41978259166899},{"$f":"'I-Cenário Base'!N51+SUMIF('II-a) Medidas a implementar'!$C:$C,$A51,'II-a) Medidas a implementar'!K:K)+SUMIF('II-c) Reflexos'!$D:$D,$A51,'II-c) Reflexos'!M:M)","v":900.65237606941912},{"$f":"'I-Cenário Base'!O51+SUMIF('II-a) Medidas a implementar'!$C:$C,$A51,'II-a) Medidas a implementar'!L:L)+SUMIF('II-c) Reflexos'!$D:$D,$A51,'II-c) Reflexos'!N:N)","v":927.67194735150167},{"$f":"'I-Cenário Base'!P51+SUMIF('II-a) Medidas a implementar'!$C:$C,$A51,'II-a) Medidas a implementar'!M:M)+SUMIF('II-c) Reflexos'!$D:$D,$A51,'II-c) Reflexos'!O:O)","v":0},{"$f":"'I-Cenário Base'!Q51+SUMIF('II-a) Medidas a implementar'!$C:$C,$A51,'II-a) Medidas a implementar'!N:N)+SUMIF('II-c) Reflexos'!$D:$D,$A51,'II-c) Reflexos'!P:P)","v":0}]
["Juros e Encargos da Dívida (XX)",{"$f":"'I-Cenário Base'!G52+SUMIF('II-a) Medidas a implementar'!$C:$C,$A52,'II-a) Medidas a implementar'!D:D)+SUMIF('II-c) Reflexos'!$D:$D,$A52,'II-c) Reflexos'!F:F)","v":358.13405311000002},{"$f":"'I-Cenário Base'!H52+SUMIF('II-a) Medidas a implementar'!$C:$C,$A52,'II-a) Medidas a implementar'!E:E)+SUMIF('II-c) Reflexos'!$D:$D,$A52,'II-c) Reflexos'!G:G)","v":581.12707512752706},{"$f":"'I-Cenário Base'!I52+SUMIF('II-a) Medidas a implementar'!$C:$C,$A52,'II-a) Medidas a implementar'!F:F)+SUMIF('II-c) Reflexos'!$D:$D,$A52,'II-c) Reflexos'!H:H)","v":742.64410625976848},{"$f":"'I-Cenário Base'!J52+SUMIF('II-a) Medidas a implementar'!$C:$C,$A52,'II-a) Medidas a implementar'!G:G)+SUMIF('II-c) Reflexos'!$D:$D,$A52,'II-c) Reflexos'!I:I)","v":869.0964481368552},{"$f":"'I-Cenário Base'!K52+SUMIF('II-a) Medidas a implementar'!$C:$C,$A52,'II-a) Medidas a implementar'!H:H)+SUMIF('II-c) Reflexos'!$D:$D,$A52,'II-c) Reflexos'!J:J)","v":974.94168024397788},{"$f":"'I-Cenário Base'!L52+SUMIF('II-a) Medidas a implementar'!$C:$C,$A52,'II-a) Medidas a implementar'!I:I)+SUMIF('II-c) Reflexos'!$D:$D,$A52,'II-c) Reflexos'!K:K)","v":1039.9810839841723},{"$f":"'I-Cenário Base'!M52+SUMIF('II-a) Medidas a implementar'!$C:$C,$A52,'II-a) Medidas a implementar'!J:J)+SUMIF('II-c) Reflexos'!$D:$D,$A52,'II-c) Reflexos'!L:L)","v":1058.1538731366029},{"$f":"'I-Cenário Base'!N52+SUMIF('II-a) Medidas a implementar'!$C:$C,$A52,'II-a) Medidas a implementar'!K:K)+SUMIF('II-c) Reflexos'!$D:$D,$A52,'II-c) Reflexos'!M:M)","v":1050.8734262333467},{"$f":"'I-Cenário Base'!O52+SUMIF('II-a) Medidas a implementar'!$C:$C,$A52,'II-a) Medidas a implementar'!L:L)+SUMIF('II-c) Reflexos'!$D:$D,$A52,'II-c) Reflexos'!N:N)","v":1033.2008051904877},{"$f":"'I-Cenário Base'!P52+SUMIF('II-a) Medidas a implementar'!$C:$C,$A52,'II-a) Medidas a implementar'!M:M)+SUMIF('II-c) Reflexos'!$D:$D,$A52,'II-c) Reflexos'!O:O)","v":0},{"$f":"'I-Cenário Base'!Q52+SUMIF('II-a) Medidas a implementar'!$C:$C,$A52,'II-a) Medidas a implementar'!N:N)+SUMIF('II-c) Reflexos'!$D:$D,$A52,'II-c) Reflexos'!P:P)","v":0}]
["Outras Despesas Correntes (XXI)",{"$f":"SUM(B54:B56)","v":19170.203060799999},{"$f":"SUM(C54:C56)","v":20065.240990557686},{"$f":"SUM(D54:D56)","v":21036.716436210125},22136.443240653272,23134.642764869117,24289.995886178389,24519.324046103353,25696.480175470773,26940.222522977521,{"$f":"SUM(K54:K56)","v":0},0]
["Transferências Constitucionais e Legais (g)",{"$f":"'I-Cenário Base'!G54+SUMIF('II-a) Medidas a implementar'!$C:$C,$A54,'II-a) Medidas a implementar'!D:D)+SUMIF('II-c) Reflexos'!$D:$D,$A54,'II-c) Reflexos'!F:F)","v":7107.3993882499999},{"$f":"'I-Cenário Base'!H54+SUMIF('II-a) Medidas a implementar'!$C:$C,$A54,'II-a) Medidas a implementar'!E:E)+SUMIF('II-c) Reflexos'!$D:$D,$A54,'II-c) Reflexos'!G:G)","v":7573.4551840775002},{"$f":"'I-Cenário Base'!I54+SUMIF('II-a) Medidas a implementar'!$C:$C,$A54,'II-a) Medidas a implementar'!F:F)+SUMIF('II-c) Reflexos'!$D:$D,$A54,'II-c) Reflexos'!H:H)","v":7833.345996249639},{"$f":"'I-Cenário Base'!J54+SUMIF('II-a) Medidas a implementar'!$C:$C,$A54,'II-a) Medidas a implementar'!G:G)+SUMIF('II-c) Reflexos'!$D:$D,$A54,'II-c) Reflexos'!I:I)","v":8353.6396281603593},{"$f":"'I-Cenário Base'!K54+SUMIF('II-a) Medidas a implementar'!$C:$C,$A54,'II-a) Medidas a implementar'!H:H)+SUMIF('II-c) Reflexos'!$D:$D,$A54,'II-c) Reflexos'!J:J)","v":8764.1183036354869},{"$f":"'I-Cenário Base'!L54+SUMIF('II-a) Medidas a implementar'!$C:$C,$A54,'II-a) Medidas a implementar'!I:I)+SUMIF('II-c) Reflexos'!$D:$D,$A54,'II-c) Reflexos'!K:K)","v":9257.5072531159094},{"$f":"'I-Cenário Base'!M54+SUMIF('II-a) Medidas a implementar'!$C:$C,$A54,'II-a) Medidas a implementar'!J:J)+SUMIF('II-c) Reflexos'!$D:$D,$A54,'II-c) Reflexos'!L:L)","v":9783.1485149478322},{"$f":"'I-Cenário Base'!N54+SUMIF('II-a) Medidas a implementar'!$C:$C,$A54,'II-a) Medidas a implementar'!K:K)+SUMIF('II-c) Reflexos'!$D:$D,$A54,'II-c) Reflexos'!M:M)","v":10338.635687626571},{"$f":"'I-Cenário Base'!O54+SUMIF('II-a) Medidas a implementar'!$C:$C,$A54,'II-a) Medidas a implementar'!L:L)+SUMIF('II-c) Reflexos'!$D:$D,$A54,'II-c) Reflexos'!N:N)","v":10925.663421970008},{"$f":"'I-Cenário Base'!P54+SUMIF('II-a) Medidas a implementar'!$C:$C,$A54,'II-a) Medidas a implementar'!M:M)+SUMIF('II-c) Reflexos'!$D:$D,$A54,'II-c) Reflexos'!O:O)","v":0},{"$f":"'I-Cenário Base'!Q54+SUMIF('II-a) Medidas a implementar'!$C:$C,$A54,'II-a) Medidas a implementar'!N:N)+SUMIF('II-c) Reflexos'!$D:$D,$A54,'II-c) Reflexos'!P:P)","v":0}]
["Sentenças Judiciais - Outras Correntes",{"$f":"'I-Cenário Base'!G55+SUMIF('II-a) Medidas a implementar'!$C:$C,$A55,'II-a) Medidas a implementar'!D:D)+SUMIF('II-c) Reflexos'!$D:$D,$A55,'II-c) Reflexos'!F:F)","v":750.38127587999907},{"$f":"'I-Cenário Base'!H55+SUMIF('II-a) Medidas a implementar'!$C:$C,$A55,'II-a) Medidas a implementar'!E:E)+SUMIF('II-c) Reflexos'!$D:$D,$A55,'II-c) Reflexos'!G:G)","v":810.10465164830407},{"$f":"'I-Cenário Base'!I55+SUMIF('II-a) Medidas a implementar'!$C:$C,$A55,'II-a) Medidas a implementar'!F:F)+SUMIF('II-c) Reflexos'!$D:$D,$A55,'II-c) Reflexos'!H:H)","v":1003.2841489419246},{"$f":"'I-Cenário Base'!J55+SUMIF('II-a) Medidas a implementar'!$C:$C,$A55,'II-a) Medidas a implementar'!G:G)+SUMIF('II-c) Reflexos'!$D:$D,$A55,'II-c) Reflexos'!I:I)","v":1042.1237536004924},{"$f":"'I-Cenário Base'!K55+SUMIF('II-a) Medidas a implementar'!$C:$C,$A55,'II-a) Medidas a implementar'!H:H)+SUMIF('II-c) Reflexos'!$D:$D,$A55,'II-c) Reflexos'!J:J)","v":1085.31149623487},{"$f":"'I-Cenário Base'!L55+SUMIF('II-a) Medidas a implementar'!$C:$C,$A55,'II-a) Medidas a implementar'!I:I)+SUMIF('II-c) Reflexos'!$D:$D,$A55,'II-c) Reflexos'!K:K)","v":1184.7284153297305},{"$f":"'I-Cenário Base'!M55+SUMIF('II-a) Medidas a implementar'!$C:$C,$A55,'II-a) Medidas a implementar'!J:J)+SUMIF('II-c) Reflexos'!$D:$D,$A55,'II-c) Reflexos'!L:L)","v":293.33450579039084},{"$f":"'I-Cenário Base'!N55+SUMIF('II-a) Medidas a implementar'!$C:$C,$A55,'II-a) Medidas a implementar'!K:K)+SUMIF('II-c) Reflexos'!$D:$D,$A55,'II-c) Reflexos'!M:M)","v":302.13454096410254},{"$f":"'I-Cenário Base'!O55+SUMIF('II-a) Medidas a implementar'!$C:$C,$A55,'II-a) Medidas a implementar'!L:L)+SUMIF('II-c) Reflexos'!$D:$D,$A55,'II-c) Reflexos'!N:N)","v":311.19857719302564},{"$f":"'I-Cenário Base'!P55+SUMIF('II-a) Medidas a implementar'!$C:$C,$A55,'II-a) Medidas a implementar'!M:M)+SUMIF('II-c) Reflexos'!$D:$D,$A55,'II-c) Reflexos'!O:O)","v":0},{"$f":"'I-Cenário Base'!Q55+SUMIF('II-a) Medidas a implementar'!$C:$C,$A55,'II-a) Medidas a implementar'!N:N)+SUMIF('II-c) Reflexos'!$D:$D,$A55,'II-c) Reflexos'!P:P)","v":0}]
["Demais Despesas Correntes",{"$f":"'I-Cenário Base'!G56+SUMIF('II-a) Medidas a implementar'!$C:$C,$A56,'II-a) Medidas a implementar'!D:D)+SUMIF('II-c) Reflexos'!$D:$D,$A56,'II-c) Reflexos'!F:F)","v":11312.422396669999},{"$f":"'I-Cenário Base'!H56+SUMIF('II-a) Medidas a implementar'!$C:$C,$A56,'II-a) Medidas a implementar'!E:E)+SUMIF('II-c) Reflexos'!$D:$D,$A56,'II-c) Reflexos'!G:G)","v":11681.68115483188},{"$f":"'I-Cenário Base'!I56+SUMIF('II-a) Medidas a implementar'!$C:$C,$A56,'II-a) Medidas a implementar'!F:F)+SUMIF('II-c) Reflexos'!$D:$D,$A56,'II-c) Reflexos'!H:H)","v":12200.086291018562},{"$f":"'I-Cenário Base'!J56+SUMIF('II-a) Medidas a implementar'!$C:$C,$A56,'II-a) Medidas a implementar'!G:G)+SUMIF('II-c) Reflexos'!$D:$D,$A56,'II-c) Reflexos'!I:I)","v":12740.679858892423},{"$f":"'I-Cenário Base'!K56+SUMIF('II-a) Medidas a implementar'!$C:$C,$A56,'II-a) Medidas a implementar'!H:H)+SUMIF('II-c) Reflexos'!$D:$D,$A56,'II-c) Reflexos'!J:J)","v":13285.212964998762},{"$f":"'I-Cenário Base'!L56+SUMIF('II-a) Medidas a implementar'!$C:$C,$A56,'II-a) Medidas a implementar'!I:I)+SUMIF('II-c) Reflexos'!$D:$D,$A56,'II-c) Reflexos'!K:K)","v":13847.76021773275},{"$f":"'I-Cenário Base'!M56+SUMIF('II-a) Medidas a implementar'!$C:$C,$A56,'II-a) Medidas a implementar'!J:J)+SUMIF('II-c) Reflexos'!$D:$D,$A56,'II-c) Reflexos'!L:L)","v":14442.841025365129},{"$f":"'I-Cenário Base'!N56+SUMIF('II-a) Medidas a implementar'!$C:$C,$A56,'II-a) Medidas a implementar'!K:K)+SUMIF('II-c) Reflexos'!$D:$D,$A56,'II-c) Reflexos'!M:M)","v":15055.709946880099},{"$f":"'I-Cenário Base'!O56+SUMIF('II-a) Medidas a implementar'!$C:$C,$A56,'II-a) Medidas a implementar'!L:L)+SUMIF('II-c) Reflexos'!$D:$D,$A56,'II-c) Reflexos'!N:N)","v":15703.360523814488},{"$f":"'I-Cenário Base'!P56+SUMIF('II-a) Medidas a implementar'!$C:$C,$A56,'II-a) Medidas a implementar'!M:M)+SUMIF('II-c) Reflexos'!$D:$D,$A56,'II-c) Reflexos'!O:O)","v":0},{"$f":"'I-Cenário Base'!Q56+SUMIF('II-a) Medidas a implementar'!$C:$C,$A56,'II-a) Medidas a implementar'!N:N)+SUMIF('II-c) Reflexos'!$D:$D,$A56,'II-c) Reflexos'!P:P)","v":0}]
["Despesas Primárias Correntes (XXII) = (XVIII-XX-h)",{"$f":"B46-B52","v":37819.14161638001},40199.950937307207,43551.014780262289,45731.946141143861,47243.337230088575,48552.003774517863,49506.724099981671,50772.319516153082,52690.322295474223,0,0]
["Despesas de Capital (XXIII) = (XXIV+XXV+XXVI)",{"$f":"B59+B62+B66","v":5227.9216280599994},{"$f":"C59+C62+C66","v":3686.0885775009078},1584.1639562246805,1708.393717083206,2085.9503337817328,2952.9100509349755,3226.085808546256,4204.8468249649459,4636.4721542547531,{"$f":"K59+K62+K66","v":0},0]
["Investimentos (XXIV)",{"$f":"SUM(B60:B61)","v":2608.60483062},{"$f":"SUM(C60:C61)","v":3341.0510716117569},1111.687131824212,923.30479933882134,1133.5161178373546,1785.1528984759652,1923.4166907063832,2760.1646492006794,3018.7847861270748,{"$f":"SUM(K60:K61)","v":0},0]
["Sentenças Judiciais - Investimentos",{"$f":"'I-Cenário Base'!G60+SUMIF('II-a) Medidas a implementar'!$C:$C,$A60,'II-a) Medidas a implementar'!D:D)+SUMIF('II-c) Reflexos'!$D:$D,$A60,'II-c) Reflexos'!F:F)","v":0},{"$f":"'I-Cenário Base'!H60+SUMIF('II-a) Medidas a implementar'!$C:$C,$A60,'II-a) Medidas a implementar'!E:E)+SUMIF('II-c) Reflexos'!$D:$D,$A60,'II-c) Reflexos'!G:G)","v":0},{"$f":"'I-Cenário Base'!I60+SUMIF('II-a) Medidas a implementar'!$C:$C,$A60,'II-a) Medidas a implementar'!F:F)+SUMIF('II-c) Reflexos'!$D:$D,$A60,'II-c) Reflexos'!H:H)","v":0},{"$f":"'I-Cenário Base'!J60+SUMIF('II-a) Medidas a implementar'!$C:$C,$A60,'II-a) Medidas a implementar'!G:G)+SUMIF('II-c) Reflexos'!$D:$D,$A60,'II-c) Reflexos'!I:I)","v":0},{"$f":"'I-Cenário Base'!K60+SUMIF('II-a) Medidas a implementar'!$C:$C,$A60,'II-a) Medidas a implementar'!H:H)+SUMIF('II-c) Reflexos'!$D:$D,$A60,'II-c) Reflexos'!J:J)","v":0},{"$f":"'I-Cenário Base'!L60+SUMIF('II-a) Medidas a implementar'!$C:$C,$A60,'II-a) Medidas a implementar'!I:I)+SUMIF('II-c) Reflexos'!$D:$D,$A60,'II-c) Reflexos'!K:K)","v":0},{"$f":"'I-Cenário Base'!M60+SUMIF('II-a) Medidas a implementar'!$C:$C,$A60,'II-a) Medidas a implementar'!J:J)+SUMIF('II-c) Reflexos'!$D:$D,$A60,'II-c) Reflexos'!L:L)","v":0},{"$f":"'I-Cenário Base'!N60+SUMIF('II-a) Medidas a implementar'!$C:$C,$A60,'II-a) Medidas a implementar'!K:K)+SUMIF('II-c) Reflexos'!$D:$D,$A60,'II-c) Reflexos'!M:M)","v":0},{"$f":"'I-Cenário Base'!O60+SUMIF('II-a) Medidas a implementar'!$C:$C,$A60,'II-a) Medidas a implementar'!L:L)+SUMIF('II-c) Reflexos'!$D:$D,$A60,'II-c) Reflexos'!N:N)","v":0},{"$f":"'I-Cenário Base'!P60+SUMIF('II-a) Medidas a implementar'!$C:$C,$A60,'II-a) Medidas a implementar'!M:M)+SUMIF('II-c) Reflexos'!$D:$D,$A60,'II-c) Reflexos'!O:O)","v":0},{"$f":"'I-Cenário Base'!Q60+SUMIF('II-a) Medidas a implementar'!$C:$C,$A60,'II-a) Medidas a implementar'!N:N)+SUMIF('II-c) Reflexos'!$D:$D,$A60,'II-c) Reflexos'!P:P)","v":0}]
["Demais Investimentos",{"$f":"'I-Cenário Base'!G61+SUMIF('II-a) Medidas a implementar'!$C:$C,$A61,'II-a) Medidas a implementar'!D:D)+SUMIF('II-c) Reflexos'!$D:$D,$A61,'II-c) Reflexos'!F:F)","v":2608.60483062},{"$f":"'I-Cenário Base'!H61+SUMIF('II-a) Medidas a implementar'!$C:$C,$A61,'II-a) Medidas a implementar'!E:E)+SUMIF('II-c) Reflexos'!$D:$D,$A61,'II-c) Reflexos'!G:G)","v":3341.0510716117569},{"$f":"'I-Cenário Base'!I61+SUMIF('II-a) Medidas a implementar'!$C:$C,$A61,'II-a) Medidas a implementar'!F:F)+SUMIF('II-c) Reflexos'!$D:$D,$A61,'II-c) Reflexos'!H:H)","v":1111.687131824212},{"$f":"'I-Cenário Base'!J61+SUMIF('II-a) Medidas a implementar'!$C:$C,$A61,'II-a) Medidas a implementar'!G:G)+SUMIF('II-c) Reflexos'!$D:$D,$A61,'II-c) Reflexos'!I:I)","v":923.30479933882134},{"$f":"'I-Cenário Base'!K61+SUMIF('II-a) Medidas a implementar'!$C:$C,$A61,'II-a) Medidas a implementar'!H:H)+SUMIF('II-c) Reflexos'!$D:$D,$A61,'II-c) Reflexos'!J:J)","v":1133.5161178373546},{"$f":"'I-Cenário Base'!L61+SUMIF('II-a) Medidas a implementar'!$C:$C,$A61,'II-a) Medidas a implementar'!I:I)+SUMIF('II-c) Reflexos'!$D:$D,$A61,'II-c) Reflexos'!K:K)","v":1785.1528984759652},{"$f":"'I-Cenário Base'!M61+SUMIF('II-a) Medidas a implementar'!$C:$C,$A61,'II-a) Medidas a implementar'!J:J)+SUMIF('II-c) Reflexos'!$D:$D,$A61,'II-c) Reflexos'!L:L)","v":1923.4166907063832},{"$f":"'I-Cenário Base'!N61+SUMIF('II-a) Medidas a implementar'!$C:$C,$A61,'II-a) Medidas a implementar'!K:K)+SUMIF('II-c) Reflexos'!$D:$D,$A61,'II-c) Reflexos'!M:M)","v":2760.1646492006794},{"$f":"'I-Cenário Base'!O61+SUMIF('II-a) Medidas a implementar'!$C:$C,$A61,'II-a) Medidas a implementar'!L:L)+SUMIF('II-c) Reflexos'!$D:$D,$A61,'II-c) Reflexos'!N:N)","v":3018.7847861270748},{"$f":"'I-Cenário Base'!P61+SUMIF('II-a) Medidas a implementar'!$C:$C,$A61,'II-a) Medidas a implementar'!M:M)+SUMIF('II-c) Reflexos'!$D:$D,$A61,'II-c) Reflexos'!O:O)","v":0},{"$f":"'I-Cenário Base'!Q61+SUMIF('II-a) Medidas a implementar'!$C:$C,$A61,'II-a) Medidas a implementar'!N:N)+SUMIF('II-c) Reflexos'!$D:$D,$A61,'II-c) Reflexos'!P:P)","v":0}]
["Inversões Financeiras (XXV)",{"$f":"SUM(B63:B65)","v":25.31551421},{"$f":"SUM(C63:C65)","v":26.543316649184998},27.445789415257288,28.299353466071786,29.173803488173402,30.049017592818604,30.950488120603161,31.879002764221259,32.835372847147895,{"$f":"SUM(K63:K65)","v":0},0]
["Inversões Financeiras Não Primárias (h) 1)",{"$f":"'I-Cenário Base'!G63+SUMIF('II-a) Medidas a implementar'!$C:$C,$A63,'II-a) Medidas a implementar'!D:D)+SUMIF('II-c) Reflexos'!$D:$D,$A63,'II-c) Reflexos'!F:F)","v":0},{"$f":"'I-Cenário Base'!H63+SUMIF('II-a) Medidas a implementar'!$C:$C,$A63,'II-a) Medidas a implementar'!E:E)+SUMIF('II-c) Reflexos'!$D:$D,$A63,'II-c) Reflexos'!G:G)","v":0},{"$f":"'I-Cenário Base'!I63+SUMIF('II-a) Medidas a implementar'!$C:$C,$A63,'II-a) Medidas a implementar'!F:F)+SUMIF('II-c) Reflexos'!$D:$D,$A63,'II-c) Reflexos'!H:H)","v":0},{"$f":"'I-Cenário Base'!J63+SUMIF('II-a) Medidas a implementar'!$C:$C,$A63,'II-a) Medidas a implementar'!G:G)+SUMIF('II-c) Reflexos'!$D:$D,$A63,'II-c) Reflexos'!I:I)","v":0},{"$f":"'I-Cenário Base'!K63+SUMIF('II-a) Medidas a implementar'!$C:$C,$A63,'II-a) Medidas a implementar'!H:H)+SUMIF('II-c) Reflexos'!$D:$D,$A63,'II-c) Reflexos'!J:J)","v":0},{"$f":"'I-Cenário Base'!L63+SUMIF('II-a) Medidas a implementar'!$C:$C,$A63,'II-a) Medidas a implementar'!I:I)+SUMIF('II-c) Reflexos'!$D:$D,$A63,'II-c) Reflexos'!K:K)","v":0},{"$f":"'I-Cenário Base'!M63+SUMIF('II-a) Medidas a implementar'!$C:$C,$A63,'II-a) Medidas a implementar'!J:J)+SUMIF('II-c) Reflexos'!$D:$D,$A63,'II-c) Reflexos'!L:L)","v":0},{"$f":"'I-Cenário Base'!N63+SUMIF('II-a) Medidas a implementar'!$C:$C,$A63,'II-a) Medidas a implementar'!K:K)+SUMIF('II-c) Reflexos'!$D:$D,$A63,'II-c) Reflexos'!M:M)","v":0},{"$f":"'I-Cenário Base'!O63+SUMIF('II-a) Medidas a implementar'!$C:$C,$A63,'II-a) Medidas a implementar'!L:L)+SUMIF('II-c) Reflexos'!$D:$D,$A63,'II-c) Reflexos'!N:N)","v":0},{"$f":"'I-Cenário Base'!P63+SUMIF('II-a) Medidas a implementar'!$C:$C,$A63,'II-a) Medidas a implementar'!M:M)+SUMIF('II-c) Reflexos'!$D:$D,$A63,'II-c) Reflexos'!O:O)","v":0},{"$f":"'I-Cenário Base'!Q63+SUMIF('II-a) Medidas a implementar'!$C:$C,$A63,'II-a) Medidas a implementar'!N:N)+SUMIF('II-c) Reflexos'!$D:$D,$A63,'II-c) Reflexos'!P:P)","v":0}]
["Sentenças Judiciais - Inversões",{"$f":"'I-Cenário Base'!G64+SUMIF('II-a) Medidas a implementar'!$C:$C,$A64,'II-a) Medidas a implementar'!D:D)+SUMIF('II-c) Reflexos'!$D:$D,$A64,'II-c) Reflexos'!F:F)","v":0},{"$f":"'I-Cenário Base'!H64+SUMIF('II-a) Medidas a implementar'!$C:$C,$A64,'II-a) Medidas a implementar'!E:E)+SUMIF('II-c) Reflexos'!$D:$D,$A64,'II-c) Reflexos'!G:G)","v":0},{"$f":"'I-Cenário Base'!I64+SUMIF('II-a) Medidas a implementar'!$C:$C,$A64,'II-a) Medidas a implementar'!F:F)+SUMIF('II-c) Reflexos'!$D:$D,$A64,'II-c) Reflexos'!H:H)","v":0},{"$f":"'I-Cenário Base'!J64+SUMIF('II-a) Medidas a implementar'!$C:$C,$A64,'II-a) Medidas a implementar'!G:G)+SUMIF('II-c) Reflexos'!$D:$D,$A64,'II-c) Reflexos'!I:I)","v":0},{"$f":"'I-Cenário Base'!K64+SUMIF('II-a) Medidas a implementar'!$C:$C,$A64,'II-a) Medidas a implementar'!H:H)+SUMIF('II-c) Reflexos'!$D:$D,$A64,'II-c) Reflexos'!J:J)","v":0},{"$f":"'I-Cenário Base'!L64+SUMIF('II-a) Medidas a implementar'!$C:$C,$A64,'II-a) Medidas a implementar'!I:I)+SUMIF('II-c) Reflexos'!$D:$D,$A64,'II-c) Reflexos'!K:K)","v":0},{"$f":"'I-Cenário Base'!M64+SUMIF('II-a) Medidas a implementar'!$C:$C,$A64,'II-a) Medidas a implementar'!J:J)+SUMIF('II-c) Reflexos'!$D:$D,$A64,'II-c) Reflexos'!L:L)","v":0},{"$f":"'I-Cenário Base'!N64+SUMIF('II-a) Medidas a implementar'!$C:$C,$A64,'II-a) Medidas a implementar'!K:K)+SUMIF('II-c) Reflexos'!$D:$D,$A64,'II-c) Reflexos'!M:M)","v":0},{"$f":"'I-Cenário Base'!O64+SUMIF('II-a) Medidas a implementar'!$C:$C,$A64,'II-a) Medidas a implementar'!L:L)+SUMIF('II-c) Reflexos'!$D:$D,$A64,'II-c) Reflexos'!N:N)","v":0},{"$f":"'I-Cenário Base'!P64+SUMIF('II-a) Medidas a implementar'!$C:$C,$A64,'II-a) Medidas a implementar'!M:M)+SUMIF('II-c) Reflexos'!$D:$D,$A64,'II-c) Reflexos'!O:O)","v":0},{"$f":"'I-Cenário Base'!Q64+SUMIF('II-a) Medidas a implementar'!$C:$C,$A64,'II-a) Medidas a implementar'!N:N)+SUMIF('II-c) Reflexos'!$D:$D,$A64,'II-c) Reflexos'!P:P)","v":0}]
["Demais Inversões Financeiras Primárias",{"$f":"'I-Cenário Base'!G65+SUMIF('II-a) Medidas a implementar'!$C:$C,$A65,'II-a) Medidas a implementar'!D:D)+SUMIF('II-c) Reflexos'!$D:$D,$A65,'II-c) Reflexos'!F:F)","v":25.31551421},{"$f":"'I-Cenário Base'!H65+SUMIF('II-a) Medidas a implementar'!$C:$C,$A65,'II-a) Medidas a implementar'!E:E)+SUMIF('II-c) Reflexos'!$D:$D,$A65,'II-c) Reflexos'!G:G)","v":26.543316649184998},{"$f":"'I-Cenário Base'!I65+SUMIF('II-a) Medidas a implementar'!$C:$C,$A65,'II-a) Medidas a implementar'!F:F)+SUMIF('II-c) Reflexos'!$D:$D,$A65,'II-c) Reflexos'!H:H)","v":27.445789415257288},{"$f":"'I-Cenário Base'!J65+SUMIF('II-a) Medidas a implementar'!$C:$C,$A65,'II-a) Medidas a implementar'!G:G)+SUMIF('II-c) Reflexos'!$D:$D,$A65,'II-c) Reflexos'!I:I)","v":28.299353466071786},{"$f":"'I-Cenário Base'!K65+SUMIF('II-a) Medidas a implementar'!$C:$C,$A65,'II-a) Medidas a implementar'!H:H)+SUMIF('II-c) Reflexos'!$D:$D,$A65,'II-c) Reflexos'!J:J)","v":29.173803488173402},{"$f":"'I-Cenário Base'!L65+SUMIF('II-a) Medidas a implementar'!$C:$C,$A65,'II-a) Medidas a implementar'!I:I)+SUMIF('II-c) Reflexos'!$D:$D,$A65,'II-c) Reflexos'!K:K)","v":30.049017592818604},{"$f":"'I-Cenário Base'!M65+SUMIF('II-a) Medidas a implementar'!$C:$C,$A65,'II-a) Medidas a implementar'!J:J)+SUMIF('II-c) Reflexos'!$D:$D,$A65,'II-c) Reflexos'!L:L)","v":30.950488120603161},{"$f":"'I-Cenário Base'!N65+SUMIF('II-a) Medidas a implementar'!$C:$C,$A65,'II-a) Medidas a implementar'!K:K)+SUMIF('II-c) Reflexos'!$D:$D,$A65,'II-c) Reflexos'!M:M)","v":31.879002764221259},{"$f":"'I-Cenário Base'!O65+SUMIF('II-a) Medidas a implementar'!$C:$C,$A65,'II-a) Medidas a implementar'!L:L)+SUMIF('II-c) Reflexos'!$D:$D,$A65,'II-c) Reflexos'!N:N)","v":32.835372847147895},{"$f":"'I-Cenário Base'!P65+SUMIF('II-a) Medidas a implementar'!$C:$C,$A65,'II-a) Medidas a implementar'!M:M)+SUMIF('II-c) Reflexos'!$D:$D,$A65,'II-c) Reflexos'!O:O)","v":0},{"$f":"'I-Cenário Base'!Q65+SUMIF('II-a) Medidas a implementar'!$C:$C,$A65,'II-a) Medidas a implementar'!N:N)+SUMIF('II-c) Reflexos'!$D:$D,$A65,'II-c) Reflexos'!P:P)","v":0}]
["Amortização da Dívida (XXVI)",{"$f":"'I-Cenário Base'!G66+SUMIF('II-a) Medidas a implementar'!$C:$C,$A66,'II-a) Medidas a implementar'!D:D)+SUMIF('II-c) Reflexos'!$D:$D,$A66,'II-c) Reflexos'!F:F)","v":2594.0012832299999},{"$f":"'I-Cenário Base'!H66+SUMIF('II-a) Medidas a implementar'!$C:$C,$A66,'II-a) Medidas a implementar'!E:E)+SUMIF('II-c) Reflexos'!$D:$D,$A66,'II-c) Reflexos'!G:G)","v":318.49418923996598},{"$f":"'I-Cenário Base'!I66+SUMIF('II-a) Medidas a implementar'!$C:$C,$A66,'II-a) Medidas a implementar'!F:F)+SUMIF('II-c) Reflexos'!$D:$D,$A66,'II-c) Reflexos'!H:H)","v":445.03103498521142},{"$f":"'I-Cenário Base'!J66+SUMIF('II-a) Medidas a implementar'!$C:$C,$A66,'II-a) Medidas a implementar'!G:G)+SUMIF('II-c) Reflexos'!$D:$D,$A66,'II-c) Reflexos'!I:I)","v":756.7895642783127},{"$f":"'I-Cenário Base'!K66+SUMIF('II-a) Medidas a implementar'!$C:$C,$A66,'II-a) Medidas a implementar'!H:H)+SUMIF('II-c) Reflexos'!$D:$D,$A66,'II-c) Reflexos'!J:J)","v":923.26041245620479},{"$f":"'I-Cenário Base'!L66+SUMIF('II-a) Medidas a implementar'!$C:$C,$A66,'II-a) Medidas a implementar'!I:I)+SUMIF('II-c) Reflexos'!$D:$D,$A66,'II-c) Reflexos'!K:K)","v":1137.7081348661916},{"$f":"'I-Cenário Base'!M66+SUMIF('II-a) Medidas a implementar'!$C:$C,$A66,'II-a) Medidas a implementar'!J:J)+SUMIF('II-c) Reflexos'!$D:$D,$A66,'II-c) Reflexos'!L:L)","v":1271.7186297192695},{"$f":"'I-Cenário Base'!N66+SUMIF('II-a) Medidas a implementar'!$C:$C,$A66,'II-a) Medidas a implementar'!K:K)+SUMIF('II-c) Reflexos'!$D:$D,$A66,'II-c) Reflexos'!M:M)","v":1412.8031730000455},{"$f":"'I-Cenário Base'!O66+SUMIF('II-a) Medidas a implementar'!$C:$C,$A66,'II-a) Medidas a implementar'!L:L)+SUMIF('II-c) Reflexos'!$D:$D,$A66,'II-c) Reflexos'!N:N)","v":1584.8519952805307},{"$f":"'I-Cenário Base'!P66+SUMIF('II-a) Medidas a implementar'!$C:$C,$A66,'II-a) Medidas a implementar'!M:M)+SUMIF('II-c) Reflexos'!$D:$D,$A66,'II-c) Reflexos'!O:O)","v":0},{"$f":"'I-Cenário Base'!Q66+SUMIF('II-a) Medidas a implementar'!$C:$C,$A66,'II-a) Medidas a implementar'!N:N)+SUMIF('II-c) Reflexos'!$D:$D,$A66,'II-c) Reflexos'!P:P)","v":0}]
["Despesas Primárias de Capital (XXVII) = (XXIII-h-XXVI)",{"$f":"B58-B63-B66","v":2633.9203448299995},{"$f":"C58-C63-C66","v":3367.5943882609417},1139.1329212394692,951.60415280489326,1162.6899213255278,1815.2019160687839,1954.3671788269864,2792.0436519649002,3051.6201589742222,{"$f":"K58-K63-K66","v":0},0]
["DESPESA PRIMÁRIA ORÇAMENTÁRIA (XXVIII) = (XXII+XXVII)",{"$f":"B57+B67","v":40453.061961210013},{"$f":"C57+C67","v":43567.54532556815},44690.147701501759,46683.550293948756,48406.027151414106,50367.205690586648,51461.091278808657,53564.363168117983,55741.942454448443,{"$f":"K57+K67","v":0},0]
["Receitas Correntes Intraorçamentárias (exceto fonte RPPS) (XXIX)",5.7099648399999996]
["RECEITA CORRENTE LÍQUIDA (XXX) = (II-a-d-g-XXIX)",{"$f":"B8-B16-B29-B54-B69","v":37208.460048899979},{"$f":"C8-C16-C29-C54-C69","v":37323.706671925749},37085.02765782176,38749.016060668793,39756.181782761007,41706.608819826273,43955.467878049465,46278.303422478857,48549.317518118529,0,0]
["RESTOS A PAGAR"]
["Inscrições de Restos a Pagar (XXXI) = (i+l)",{"$f":"SUM(B73,B76)","v":1637.8732269999998},{"$f":"SUM(C73,C76)","v":1744.4766816159768},1772.7389133099457,1822.6987216715456,1912.4723698660082,2002.51401638687,2001.9696569267392,2052.1491588409076,2072.4394251252575,{"$f":"SUM(K73,K76)","v":0},0]
["Inscrição de RAP Processados (i)",{"$f":"SUM(B74:B75)","v":125.01738087},{"$f":"SUM(C74:C75)","v":116.43413736121302},103.84925902210612,81.291833861917226,105.32498333760235,121.32005515335813,82.828990959010952,56.661784337420563,0,{"$f":"SUM(K74:K75)","v":0},0]
["Inscrição de RAP Processados Primários (j)",{"$f":"'I-Cenário Base'!G74","v":125.01601151999999},{"$f":"IF(C7<(C45+C83),IF(C45>C7,C45-C7,0)*(B74/B72)+C83*(B74/B72),0)","v":116.43286202585656},103.84812153240787,81.29094344994472,105.32382968388693,121.31872630119079,82.828083710130997,56.661163705202526,0,0]
["Inscrição de RAP Processados Não Primários (k)",{"$f":"'I-Cenário Base'!G75","v":1.3693499999999999E-3},{"$f":"IF(C7<(C45+C83),IF(C45>C7,C45-C7,0)*(B75/B72)+C83*(B75/B72),0)","v":1.2753353564603201E-3},1.1374896982507951E-3,8.9041197251260541E-4,1.1536537154247435E-3,1.3288521673398492E-3,9.0724887995905119E-4,6.2063221803637853E-4,0,0]
["Inscrição de RAP Não Processados (l)",{"$f":"SUM(B77:B78)","v":1512.8558461299999},{"$f":"SUM(C77:C78)","v":1628.0425442547637},1668.8896542878397,1741.4068878096284,1807.1473865284058,1881.1939612335118,1919.1406659677282,1995.4873745034872,2072.4394251252575,{"$f":"SUM(K77:K78)","v":0},0]
["Inscrição de RAP Não Processados Primários (m)",{"$f":"'I-Cenário Base'!G77","v":1504.01146397},{"$f":"(B77/B68)*C68","v":1619.8053855483008},{"$f":"(C77/C68)*D68","v":1661.5428155728339},1735.655879108609,1799.6961473714916,1872.6111471961233,1913.2809107491282,1991.4788240838559,2072.4394251252575,0]
["Inscrição de RAP Não Processados Não Primários (n)",{"$f":"'I-Cenário Base'!G78","v":8.8443821600000003},{"$f":"IF(C7<(C45+C83),IF(C45>C7,C45-C7,0)*(B78/B72)+C83*(B78/B72),0)","v":8.2371587064628446},7.3468387150057444,5.751008701019388,7.4512391569140988,8.58281403738847,5.8597552185999309,4.0085504196313408,0,0]
["Cancelamentos  de Restos a Pagar (XXXII) = (o+p)",{"$f":"SUM(B80:B81)","v":637.98429800999997},{"$f":"SUM(C80:C81)","v":699.46356148199891},553.89327054274065,556.01390889216088,571.09447390359173,598.68523780344822,626.90280551093508,627.97194815129569,643.07249535695883,{"$f":"SUM(K80:K81)","v":0},0]
["Cancelamento de RAP Processados (o)",{"$f":"'I-Cenário Base'!G80","v":105.4354007},{"$f":"0.3*B86","v":76.845285527999934},{"$f":"IFERROR(C86*(C80/B86),0)","v":65.480507266311477},55.347012605808878,48.672407560703185,56.541021844926426,62.544617140881549,52.229748360977297,44.426283005912715]
["Cancelamento de RAP Não Processados (p)",{"$f":"'I-Cenário Base'!G81","v":532.54889731000003},{"$f":"0.3*B87","v":622.61827595399893},488.41276327642913,500.66689628635197,522.42206634288857,542.14421595852184,564.35818837005354,575.74219979031841,598.64621235104607]
["Liquidação de Restos a Pagar Não Processados (XXXIII)",{"$f":"'I-Cenário Base'!G82","v":2266.0792061100001},{"$f":"MAX(B87-C81,0)","v":1452.7759772259978},{"$f":"MAX(C87-D81,0)","v":1139.6297809783348},1168.2227580014878,1218.98482146674,{"$f":"MAX(F87-G81,0)","v":1265.0031705698843},1316.8357728634583,1343.3984661774098,1396.841162152441]
["Pagamento de Restos a Pagar Primário (XXXIV)",{"$f":"'I-Cenário Base'!G83","v":2535.0610200599999},{"$f":"IFERROR((B83/'I-Cenário Base'!F85)*'III-Cenário Ajustado'!B85,0)","v":1525.4227449467701},{"$f":"IFERROR((C83/B85)*C85,0)","v":1207.9562677556232},{"$f":"IFERROR((D83/C85)*D85,0)","v":1212.5810547354595},1245.469453991519,1305.6406782281663,1367.1788654310515,1369.5105015462236,1402.4424789030652]
["Pagamento de Restos a Pagar Não Primário (XXXV)",{"$f":"'I-Cenário Base'!G84","v":8.0180094200000003},{"$f":"IFERROR((B84/'I-Cenário Base'!F85)*B85,0)","v":4.8246783180690382},{"$f":"IFERROR((C84/B85)*C85,0)","v":3.8205805135149751},{"$f":"IFERROR((D84/C85)*D85,0)","v":3.8352080058224161},3.9392289713759649,4.1295413302993618,4.3241771835502538,4.3315517911780503,4.4357105875845102]
["ESTOQUE DE RESTOS A PAGAR (XXXVI) = (XXXVII+XXXVIII)",{"$f":"SUM(B86:B87)","v":2331.5452049399964},{"$f":"SUM(C86:C87)","v":1846.3109018091354},1853.3796963072027,1903.648246345306,1995.6174593448275,2089.6760183697838,2093.2398271709858,2143.5749845231962,2166.0637248008452,{"$f":"SUM(K86:K87)","v":2166.0637248008452},2166.0637248008452]
["Estoque de RAP Processados (XXXVII) = XXXVII(t-1) + (i-o+XXXIII-XXXIV-XXXV)",{"$f":"'I-Cenário Base'!F86+B73-B80+B82-B83-B84","v":256.15095175999977},{"$f":"B86+C73-C80+C82-C83-C84","v":218.26835755437159},{"$f":"C86+D73-D80+D82-D83-D84","v":184.49004201936293},162.24135853567728,188.47007281642144,208.48205713627183,174.09916120325767,148.08761001970905,93.624299675587707,93.624299675587707,93.624299675587707]
["Estoque de RAP Não Processados (XXXVIII) = XXXVIII(t-1) + (l-p-XXXIII)",{"$f":"'I-Cenário Base'!F87+B76-B81-B82","v":2075.3942531799967},{"$f":"B87+C76-C81-C82","v":1628.0425442547639},{"$f":"C87+D76-D81-D82","v":1668.8896542878399},1741.4068878096286,1807.1473865284061,1881.1939612335118,1919.1406659677282,1995.487374503487,2072.4394251252575,2072.4394251252575,2072.4394251252575]
["ESTOQUE DE RESTOS A PAGAR / RECEITA CORRENTE LÍQUIDA (XXXVI/XXX)",{"$f":"IFERROR(B85/B$70,0)","v":6.2661695804551998E-2},{"$f":"IFERROR(C85/C$70,0)","v":4.9467511842758605E-2},4.9976494918867846E-2,4.9127653805835753E-2,5.019640644188228E-2,5.01041939755218E-2,4.7621830189101697E-2,4.6319221449289197E-2,4.4615739943048092E-2,{"$f":"IFERROR(K85/K$70,0)","v":0},0]
["RAP Processados / RCL (XXXVII/XXX)",{"$f":"IFERROR(B86/B$70,0)","v":6.8842126608669616E-3},{"$f":"IFERROR(C86/C$70,0)","v":5.8479818061197364E-3},4.974785072877015E-3,4.1869800843886782E-3,4.7406482304129475E-3,4.9987774848087073E-3,3.9608078268278321E-3,3.1999360189980115E-3,1.9284369886486512E-3,{"$f":"IFERROR(K86/K$70,0)","v":0},0]
["RAP Não Processados / RCL (XXXVIII/XXX)",{"$f":"IFERROR(B87/B$70,0)","v":5.5777483143685039E-2},{"$f":"IFERROR(C87/C$70,0)","v":4.3619530036638876E-2},4.5001709845990834E-2,4.4940673721447076E-2,4.5455758211469334E-2,4.5105416490713084E-2,4.3661022362273864E-2,4.3119285430291178E-2,4.2687302954399438E-2,{"$f":"IFERROR(K87/K$70,0)","v":0},0]
["DESPESA PRIMÁRIA (XXXIX) = (XXVIII-j-m+XXXIV)",{"$f":"B68-B74-B77+B83","v":41359.095505780017},{"$f":"C68-C74-C77+C83","v":43356.729822940768},44132.71303215214,46079.184526125668,47746.476628350247,49678.916495317491,50832.161149780448,52885.73368187515,55071.94550822625,{"$f":"K68-K74-K77+K83","v":0},0]
["Demais Despesas Primárias (XL) 2)",{"$f":"'I-Cenário Base'!G92+SUMIF('II-a) Medidas a implementar'!$C:$C,$A92,'II-a) Medidas a implementar'!D:D)+SUMIF('II-c) Reflexos'!$D:$D,$A92,'II-c) Reflexos'!F:F)","v":0},{"$f":"'I-Cenário Base'!H92+SUMIF('II-a) Medidas a implementar'!$C:$C,$A92,'II-a) Medidas a implementar'!E:E)+SUMIF('II-c) Reflexos'!$D:$D,$A92,'II-c) Reflexos'!G:G)","v":0},{"$f":"'I-Cenário Base'!I92+SUMIF('II-a) Medidas a implementar'!$C:$C,$A92,'II-a) Medidas a implementar'!F:F)+SUMIF('II-c) Reflexos'!$D:$D,$A92,'II-c) Reflexos'!H:H)","v":0},{"$f":"'I-Cenário Base'!J92+SUMIF('II-a) Medidas a implementar'!$C:$C,$A92,'II-a) Medidas a implementar'!G:G)+SUMIF('II-c) Reflexos'!$D:$D,$A92,'II-c) Reflexos'!I:I)","v":0},{"$f":"'I-Cenário Base'!K92+SUMIF('II-a) Medidas a implementar'!$C:$C,$A92,'II-a) Medidas a implementar'!H:H)+SUMIF('II-c) Reflexos'!$D:$D,$A92,'II-c) Reflexos'!J:J)","v":0},{"$f":"'I-Cenário Base'!L92+SUMIF('II-a) Medidas a implementar'!$C:$C,$A92,'II-a) Medidas a implementar'!I:I)+SUMIF('II-c) Reflexos'!$D:$D,$A92,'II-c) Reflexos'!K:K)","v":0},{"$f":"'I-Cenário Base'!M92+SUMIF('II-a) Medidas a implementar'!$C:$C,$A92,'II-a) Medidas a implementar'!J:J)+SUMIF('II-c) Reflexos'!$D:$D,$A92,'II-c) Reflexos'!L:L)","v":0},{"$f":"'I-Cenário Base'!N92+SUMIF('II-a) Medidas a implementar'!$C:$C,$A92,'II-a) Medidas a implementar'!K:K)+SUMIF('II-c) Reflexos'!$D:$D,$A92,'II-c) Reflexos'!M:M)","v":0},{"$f":"'I-Cenário Base'!O92+SUMIF('II-a) Medidas a implementar'!$C:$C,$A92,'II-a) Medidas a implementar'!L:L)+SUMIF('II-c) Reflexos'!$D:$D,$A92,'II-c) Reflexos'!N:N)","v":0},{"$f":"'I-Cenário Base'!P92+SUMIF('II-a) Medidas a implementar'!$C:$C,$A92,'II-a) Medidas a implementar'!M:M)+SUMIF('II-c) Reflexos'!$D:$D,$A92,'II-c) Reflexos'!O:O)","v":0},{"$f":"'I-Cenário Base'!Q92+SUMIF('II-a) Medidas a implementar'!$C:$C,$A92,'II-a) Medidas a implementar'!N:N)+SUMIF('II-c) Reflexos'!$D:$D,$A92,'II-c) Reflexos'!P:P)","v":0}]
["DESPESA PRIMÁRIA TOTAL (XLI) = (XXXIX+XL)",{"$f":"B91+B92","v":41359.095505780017},{"$f":"C91+C92","v":43356.729822940768},44132.71303215214,46079.184526125668,47746.476628350247,49678.916495317491,50832.161149780448,52885.73368187515,55071.94550822625,{"$f":"K91+K92","v":0},0]
["RESULTADO PRIMÁRIO"]
["RESULTADO PRIMÁRIO (XLII) = (XVI-XLI)",{"$f":"B44-B93","v":2105.8806062599615},410.48162864249025,108.25262191926595,755.95268459307408,853.5289545212363,1498.5713707357936,3146.5568754512424,3988.4379555920314,4685.2657331908049,0,0]
["Juros e Encargos da Dívida (XX)",{"$f":"B52","v":358.13405311000002},581.12707512752706,742.64410625976848,869.0964481368552,974.94168024397788,1039.9810839841723,1058.1538731366029,1050.8734262333467,1033.2008051904877,0,0]
["Amortização da Dívida (XXVI)",{"$f":"B66","v":2594.0012832299999},318.49418923996598,445.03103498521142,756.7895642783127,923.26041245620479,1137.7081348661916,1271.7186297192695,1412.8031730000455,1584.8519952805307,{"$f":"K66","v":0},0]
["Inversões Financeiras Não Primárias (h) 1)",{"$f":"B63","v":0},0,0,0,0,0,0,0,0,0,0]
["Receita de Aplicações Financeiras (b)",{"$f":"B19","v":1356.5189260299999},1570.62293331,1230.046,706.21078158040928,361.55458760500818,238.13195449630078,238.13195449630078,238.13195449630078,238.13195449630078,0,0]
["Outras Receitas Financeiras (c)",{"$f":"B28","v":48.457935590000005},41.522343999999997,43.844000000000001,44.6347369,44.564394310000004,47.692814790562004,51.040850388859461,54.623918086157396,58.45851713580565,0,0]
["Outras Receitas de Capital Não Primárias (f)",{"$f":"B41","v":0},0,0,450,0,0,0,0,0,0,0]
["Amortização de Empréstimos (XI)",{"$f":"B35","v":13.538691949999999},14.62721123,14.99995433,15.11201782,14.188290919999998,14.493243380000001,14.819398230000001,14.94101674,15.10318494,0,0]
["Despesa Financeira Líquida (XLIII) = (XX+XXVI+h-k-n+XXXV-b-c-f-XI)",{"$f":"B96+B97+B98-B75-B78+B84-B99-B100-B101-B102","v":1532.7920406800001},-730.56497989625723,-104.74220877620941,408.01178500758908,1474.3816560259208,1872.9166046242449,2024.3438144567824,2156.302090650262,2310.7948544864967,0,0]
["NECESSIDADE DE FINANCIAMENTO (XLIV) = (XLIII-XLII)",{"$f":"B103-B95","v":-573.08856557996137},-1141.0466085387475,-212.99483069547534,-347.940899585485,620.85270150468455,374.34523388845128,-1122.21306099446,-1832.1358649417693,-2374.4708787043082,0,0]
["Operações de Crédito (X)",{"$f":"B34","v":2494.2497318200003},0,0,83.245912500000003,167.82375959999999,169.8216615,84.910830750000002,0,0,0,0]
["Alienação de Bens Não Primária (e)",{"$f":"B37","v":549.47632292999992},0,0,0,0,0,0,0,0,0,0]
["Fontes de Financiamento (XLV) = (X+e)",{"$f":"B105+B106","v":3043.72605475},{"$f":"C105+C106","v":0},0,83.245912500000003,167.82375959999999,169.8216615,84.910830750000002,0,0,{"$f":"K105+K106","v":0},0]
["Outros Fluxos de Caixa (XLVI)",{"$f":"'I-Cenário Base'!G108+SUMIF('II-a) Medidas a implementar'!$C:$C,$A108,'II-a) Medidas a implementar'!D:D)+SUMIF('II-c) Reflexos'!$D:$D,$A108,'II-c) Reflexos'!F:F)","v":0},{"$f":"'I-Cenário Base'!H108+SUMIF('II-a) Medidas a implementar'!$C:$C,$A108,'II-a) Medidas a implementar'!E:E)+SUMIF('II-c) Reflexos'!$D:$D,$A108,'II-c) Reflexos'!G:G)","v":0},{"$f":"'I-Cenário Base'!I108+SUMIF('II-a) Medidas a implementar'!$C:$C,$A108,'II-a) Medidas a implementar'!F:F)+SUMIF('II-c) Reflexos'!$D:$D,$A108,'II-c) Reflexos'!H:H)","v":0},{"$f":"'I-Cenário Base'!J108+SUMIF('II-a) Medidas a implementar'!$C:$C,$A108,'II-a) Medidas a implementar'!G:G)+SUMIF('II-c) Reflexos'!$D:$D,$A108,'II-c) Reflexos'!I:I)","v":0},{"$f":"'I-Cenário Base'!K108+SUMIF('II-a) Medidas a implementar'!$C:$C,$A108,'II-a) Medidas a implementar'!H:H)+SUMIF('II-c) Reflexos'!$D:$D,$A108,'II-c) Reflexos'!J:J)","v":0},{"$f":"'I-Cenário Base'!L108+SUMIF('II-a) Medidas a implementar'!$C:$C,$A108,'II-a) Medidas a implementar'!I:I)+SUMIF('II-c) Reflexos'!$D:$D,$A108,'II-c) Reflexos'!K:K)","v":0},{"$f":"'I-Cenário Base'!M108+SUMIF('II-a) Medidas a implementar'!$C:$C,$A108,'II-a) Medidas a implementar'!J:J)+SUMIF('II-c) Reflexos'!$D:$D,$A108,'II-c) Reflexos'!L:L)","v":0},{"$f":"'I-Cenário Base'!N108+SUMIF('II-a) Medidas a implementar'!$C:$C,$A108,'II-a) Medidas a implementar'!K:K)+SUMIF('II-c) Reflexos'!$D:$D,$A108,'II-c) Reflexos'!M:M)","v":0},{"$f":"'I-Cenário Base'!O108+SUMIF('II-a) Medidas a implementar'!$C:$C,$A108,'II-a) Medidas a implementar'!L:L)+SUMIF('II-c) Reflexos'!$D:$D,$A108,'II-c) Reflexos'!N:N)","v":0},{"$f":"'I-Cenário Base'!P108+SUMIF('II-a) Medidas a implementar'!$C:$C,$A108,'II-a) Medidas a implementar'!M:M)+SUMIF('II-c) Reflexos'!$D:$D,$A108,'II-c) Reflexos'!O:O)","v":0},{"$f":"'I-Cenário Base'!Q108+SUMIF('II-a) Medidas a implementar'!$C:$C,$A108,'II-a) Medidas a implementar'!N:N)+SUMIF('II-c) Reflexos'!$D:$D,$A108,'II-c) Reflexos'!P:P)","v":0}]
["FLUXO DE CAIXA (XLVII) = (XLV-XLIV+XLVI)",{"$f":"B107-B104+B108","v":3616.8146203299611},{"$f":"C107-C104+C108","v":1141.0466085387475},{"$f":"D107-D104+D108","v":212.99483069547534},431.18681208548503,-453.02894190468453,-204.52357238845127,1207.12389174446,1832.1358649417693,2374.4708787043082,{"$f":"K107-K104+K108","v":0},0]
["1) Corresponde ao somatório de Concessão de Empréstimos e Financiamentos, Aquisição de Título de Capital já Integralizado e Aquisição de Título de Crédito."]
["2) As Demais Despesas Primárias são despesas que compõem o resultado primário por caixa, mas não transitam pelo orçamento."]

{"sheet":"IV-Verificações","index":6,"n_rows":46,"n_cols":13,"rows_kept":46,"cut":false,"hidden":false,"merged":[]}
["PLANO DE RECUPERAÇÃO FISCAL",null,null,"Ano-Base para a limitação de despesas:",2021]
["Anexo IV - Verificação das condições de equilíbrio e do cumprimento da limitação de despesas"]
[]
["Receitas arrecadadas, brutas do repasse para o Fundeb\nDespesas empenhadas e transferências a Municípios"]
[null,"(Ano-Base)",2022,2023,2024,2025,2026,2027,2028,2029,2030,2031,2032]
["VERIFICAÇÃO DE CUMPRIMENTO DA LIMITAÇÃO DE DESPESAS DO INCISO V DO § 1º DO ART. 2º DA LC 159"]
["Despesa Primária Total (XLI)",{"$f":"IF($E$1=2017,'I-Cenário Base'!B68,IF($E$1=2018,'I-Cenário Base'!C68,IF($E$1=2019,'I-Cenário Base'!D68,IF($E$1=2020,'I-Cenário Base'!E68,IF($E$1=2021,'I-Cenário Base'!F68,IF($E$1=2022,'I-Cenário Base'!G68,\"\"))))))","v":37720.612055900005},{"$f":"'III-Cenário Ajustado'!B68","v":40453.061961210013},{"$f":"'III-Cenário Ajustado'!C68","v":43567.54532556815},{"$f":"'III-Cenário Ajustado'!D68","v":44690.147701501759},{"$f":"'III-Cenário Ajustado'!E68","v":46683.550293948756},{"$f":"'III-Cenário Ajustado'!F68","v":48406.027151414106},{"$f":"'III-Cenário Ajustado'!G68","v":50367.205690586648},{"$f":"'III-Cenário Ajustado'!H68","v":51461.091278808657},{"$f":"'III-Cenário Ajustado'!I68","v":53564.363168117983},{"$f":"'III-Cenário Ajustado'!J68","v":55741.942454448443}]
["Despesas primárias intraorçamentárias (exceto fontes RPPS) (q)",1499.4684656700001,1528.2134496499998,1380.1490598898492,1597.1648295352434,1723.2766748465854,1904.7620006478014,2020.5231159503517,2177.6155147410859,2269.9259761727858,2264.1259310453411]
["Despesas primárias orçamentárias (fonte RPPS) (r)",2587.2662128500001,2463.3944662599997,2642.722378480672,3001.4069839775461,3229.2391931326792,3506.5590829855441,3755.0103601033106,4026.7699014439859,4201.5489653573713,4313.7953619799082]
["Despesas primárias para fins de apuração do cumprimento da limitação de crescimento (s) = (XL) - (q) + (r)",{"$f":"B7-B8+B9","v":38808.409803080009},{"$f":"C7-C8+C9","v":41388.242977820009},{"$f":"D7-D8+D9","v":44830.118644158967},{"$f":"E7-E8+E9","v":46094.389855944064},48189.512812234847,50007.824233751846,52101.692934739607,53310.24566551156,55495.98615730257,57791.611885383012]
["Pagamento de passivos não financeiros (Portaria STN nº 10.464, Art. 19, inciso II) (t)",{"$f":"SUM(B12:B14)","v":1639.512311},{"$f":"SUM(C12:C14)","v":1717.9218019999998},{"$f":"SUM(D12:D14)","v":2123.5995885883026},2072.4332256955245,2136.0951898411295,2208.1894796762826,2343.5375185992307,1489.2871547844029,1536.379106610342,1584.9205437859348]
["Sentenças judiciais",1436.624284,1492.204716,{"$f":"'III-Cenário Ajustado'!C50+'III-Cenário Ajustado'!C55","v":1611.6436815683028},{"$f":"'III-Cenário Ajustado'!D50+'III-Cenário Ajustado'!D55","v":1447.3661489419246},{"$f":"'III-Cenário Ajustado'!E50+'III-Cenário Ajustado'!E55","v":1491.5885270004924},{"$f":"'III-Cenário Ajustado'!F50+'III-Cenário Ajustado'!F55","v":1543.7675609538701},{"$f":"'III-Cenário Ajustado'!G50+'III-Cenário Ajustado'!G55","v":1659.1829423151455},{"$f":"'III-Cenário Ajustado'!H50+'III-Cenário Ajustado'!H55","v":784.40194121179536},{"$f":"'III-Cenário Ajustado'!I50+'III-Cenário Ajustado'!I55","v":810.34733663055613},{"$f":"'III-Cenário Ajustado'!J50+'III-Cenário Ajustado'!J55","v":837.10782070675532}]
["Recomposição de fundos de reserva de depósitos judiciais e administrativos",0,0,{"$f":"178.1490104+30","v":208.14901040000001},{"$f":"D13*'V-Parâmetros'!O$7","v":215.22607675360001},{"$f":"E13*'V-Parâmetros'!P$7","v":221.91960774063696},{"$f":"F13*'V-Parâmetros'!Q$7","v":228.77692361982264},{"$f":"G13*'V-Parâmetros'!R$7","v":235.64023132841731},{"$f":"H13*'V-Parâmetros'!S$7","v":242.70943826826985},{"$f":"I13*'V-Parâmetros'!T$7","v":249.99072141631794},{"$f":"J13*'V-Parâmetros'!U$7","v":257.4904430588075}]
["Outros",202.88802699999999,225.71708599999999,303.80689661999997,409.84100000000001,{"$f":"E14*'V-Parâmetros'!P$7","v":422.58705509999999},{"$f":"F14*'V-Parâmetros'!Q$7","v":435.64499510258997},{"$f":"G14*'V-Parâmetros'!R$7","v":448.71434495566768},{"$f":"H14*'V-Parâmetros'!S$7","v":462.17577530433772},{"$f":"I14*'V-Parâmetros'!T$7","v":476.04104856346788},{"$f":"J14*'V-Parâmetros'!U$7","v":490.32228002037192}]
["Despesas primárias custeadas por empresas estatais consideradas não dependentes no ano base para apuração do limite de despesas (u)"]
["Despesas não incluídas no cálculo da limitação de despesas (v)",{"$f":"SUM(B17:B20)","v":7603.6808745500002},8545.4615546451769,9912.5398268909466,10112.982107793712,11089.873992290542,11755.717625802208,12632.920774018816,13581.966829341956,14573.445618865444,15638.945066815504,0,0]
["Transferências constitucionais para os Municípios (LCP 159, Art. 2º, §4º, inciso I)",{"$f":"'I-Cenário Base'!F54","v":6414.5649565499998},{"$f":"'I-Cenário Base'!G54","v":7107.3993882499999},{"$f":"'III-Cenário Ajustado'!C54","v":7573.4551840775002},{"$f":"'III-Cenário Ajustado'!D54","v":7833.345996249639},{"$f":"'III-Cenário Ajustado'!E54","v":8353.6396281603593},{"$f":"'III-Cenário Ajustado'!F54","v":8764.1183036354869},{"$f":"'III-Cenário Ajustado'!G54","v":9257.5072531159094},{"$f":"'III-Cenário Ajustado'!H54","v":9783.1485149478322},{"$f":"'III-Cenário Ajustado'!I54","v":10338.635687626571},{"$f":"'III-Cenário Ajustado'!J54","v":10925.663421970008}]
["Despesas custeadas com recursos de emendas (LCP 159, Art. 2º, §4º, inciso II)"]
["Despesas em saúde e educação em função da variação da base de cálculo dos mínimos (LCP 159, Art. 2º, §4º, inciso IV)",null,{"$f":"('III-Cenário Ajustado'!B10*0.75+'III-Cenário Ajustado'!B11*0.5+'III-Cenário Ajustado'!B12+'III-Cenário Ajustado'!B13+'III-Cenário Ajustado'!B22+'III-Cenário Ajustado'!B23*0.75)*0.37-(('I-Cenário Base'!$F$10*0.75+'I-Cenário Base'!$F$11*0.5+'I-Cenário Base'!$F$12+'I-Cenário Base'!$F$13+'I-Cenário Base'!$F$22+'I-Cenário Base'!$F$23*0.75)*PRODUCT('V-Parâmetros'!$M7:M7)*0.37)","v":417.30430639517726},{"$f":"(('III-Cenário Ajustado'!C10+545.14+696.82)*0.75+'III-Cenário Ajustado'!C11*0.5+'III-Cenário Ajustado'!C12+'III-Cenário Ajustado'!C13+'III-Cenário Ajustado'!C22+'III-Cenário Ajustado'!C23*0.75)*0.37-(('I-Cenário Base'!$F$10*0.75+'I-Cenário Base'!$F$11*0.5+'I-Cenário Base'!$F$12+'I-Cenário Base'!$F$13+'I-Cenário Base'!$F$22+'I-Cenário Base'!$F$23*0.75)*PRODUCT('V-Parâmetros'!$M7:N7)*0.37)","v":474.92972870344602},{"$f":"('III-Cenário Ajustado'!D10*0.75+'III-Cenário Ajustado'!D11*0.5+'III-Cenário Ajustado'!D12+'III-Cenário Ajustado'!D13+'III-Cenário Ajustado'!D22+'III-Cenário Ajustado'!D23*0.75)*0.37-(('I-Cenário Base'!$F$10*0.75+'I-Cenário Base'!$F$11*0.5+'I-Cenário Base'!$F$12+'I-Cenário Base'!$F$13+'I-Cenário Base'!$F$22+'I-Cenário Base'!$F$23*0.75)*PRODUCT('V-Parâmetros'!$M7:O7)*0.37)","v":352.09993035433217},{"$f":"(('III-Cenário Ajustado'!E10+348.44)*0.75+'III-Cenário Ajustado'!E11*0.5+'III-Cenário Ajustado'!E12+'III-Cenário Ajustado'!E13+'III-Cenário Ajustado'!E22+'III-Cenário Ajustado'!E23*0.75)*0.37-(('I-Cenário Base'!$F$10*0.75+'I-Cenário Base'!$F$11*0.5+'I-Cenário Base'!$F$12+'I-Cenário Base'!$F$13+'I-Cenário Base'!$F$22+'I-Cenário Base'!$F$23*0.75)*PRODUCT('V-Parâmetros'!$M7:P7)*0.37)","v":748.75180770544284},{"$f":"('III-Cenário Ajustado'!F10*0.75+'III-Cenário Ajustado'!F11*0.5+'III-Cenário Ajustado'!F12+'III-Cenário Ajustado'!F13+'III-Cenário Ajustado'!F22+'III-Cenário Ajustado'!F23*0.75)*0.37-(('I-Cenário Base'!$F$10*0.75+'I-Cenário Base'!$F$11*0.5+'I-Cenário Base'!$F$12+'I-Cenário Base'!$F$13+'I-Cenário Base'!$F$22+'I-Cenário Base'!$F$23*0.75)*PRODUCT('V-Parâmetros'!$M7:Q7)*0.37)","v":942.70355474845564},{"$f":"('III-Cenário Ajustado'!G10*0.75+'III-Cenário Ajustado'!G11*0.5+'III-Cenário Ajustado'!G12+'III-Cenário Ajustado'!G13+'III-Cenário Ajustado'!G22+'III-Cenário Ajustado'!G23*0.75)*0.37-(('I-Cenário Base'!$F$10*0.75+'I-Cenário Base'!$F$11*0.5+'I-Cenário Base'!$F$12+'I-Cenário Base'!$F$13+'I-Cenário Base'!$F$22+'I-Cenário Base'!$F$23*0.75)*PRODUCT('V-Parâmetros'!$M7:R7)*0.37)","v":1265.0508804620931},{"$f":"('III-Cenário Ajustado'!H10*0.75+'III-Cenário Ajustado'!H11*0.5+'III-Cenário Ajustado'!H12+'III-Cenário Ajustado'!H13+'III-Cenário Ajustado'!H22+'III-Cenário Ajustado'!H23*0.75)*0.37-(('I-Cenário Base'!$F$10*0.75+'I-Cenário Base'!$F$11*0.5+'I-Cenário Base'!$F$12+'I-Cenário Base'!$F$13+'I-Cenário Base'!$F$22+'I-Cenário Base'!$F$23*0.75)*PRODUCT('V-Parâmetros'!$M7:S7)*0.37)","v":1625.1447947400866},{"$f":"('III-Cenário Ajustado'!I10*0.75+'III-Cenário Ajustado'!I11*0.5+'III-Cenário Ajustado'!I12+'III-Cenário Ajustado'!I13+'III-Cenário Ajustado'!I22+'III-Cenário Ajustado'!I23*0.75)*0.37-(('I-Cenário Base'!$F$10*0.75+'I-Cenário Base'!$F$11*0.5+'I-Cenário Base'!$F$12+'I-Cenário Base'!$F$13+'I-Cenário Base'!$F$22+'I-Cenário Base'!$F$23*0.75)*PRODUCT('V-Parâmetros'!$M7:T7)*0.37)","v":1995.9262059952143},{"$f":"('III-Cenário Ajustado'!J10*0.75+'III-Cenário Ajustado'!J11*0.5+'III-Cenário Ajustado'!J12+'III-Cenário Ajustado'!J13+'III-Cenário Ajustado'!J22+'III-Cenário Ajustado'!J23*0.75)*0.37-(('I-Cenário Base'!$F$10*0.75+'I-Cenário Base'!$F$11*0.5+'I-Cenário Base'!$F$12+'I-Cenário Base'!$F$13+'I-Cenário Base'!$F$22+'I-Cenário Base'!$F$23*0.75)*PRODUCT('V-Parâmetros'!$M7:U7)*0.37)","v":2407.231407844527}]
["Despesas custeadas com recursos de transf. da União com aplicações vinculadas (LCP 159, Art. 2º, §4º, inciso V)",1189.115918,1020.7578600000001,1864.1549141099999,{"$f":"D20*'V-Parâmetros'!O7","v":1927.5361811897401},{"$f":"E20*'V-Parâmetros'!P7","v":1987.4825564247408},{"$f":"F20*'V-Parâmetros'!Q7","v":2048.8957674182652},{"$f":"G20*'V-Parâmetros'!R7","v":2110.3626404408133},{"$f":"H20*'V-Parâmetros'!S7","v":2173.6735196540376},{"$f":"I20*'V-Parâmetros'!T7","v":2238.8837252436588},{"$f":"J20*'V-Parâmetros'!U7","v":2306.0502370009685}]
["DESPESA PRIMÁRIA PARA APURAÇÃO DA LIMITAÇÃO DE DESPESAS = (s) - (t) - (u) - (v)",{"$f":"B10-B11-B15-B16","v":29565.216617530008},31124.859621174837,32793.979228679716,33908.974522454824,34963.543630103173,36043.917128273359,37125.234642121563,38238.991681385203,39386.161431826782,40567.746274781573]
["LIMITAÇÃO DE DESPESAS",null,{"$f":"$B21*PRODUCT('V-Parâmetros'!$M7:M7)","v":31277.042659684997},{"$f":"$B21*PRODUCT('V-Parâmetros'!$M7:N7)","v":32793.979228679716},{"$f":"$B21*PRODUCT('V-Parâmetros'!$M7:O7)","v":33908.974522454831},{"$f":"$B21*PRODUCT('V-Parâmetros'!$M7:P7)","v":34963.543630103173},{"$f":"$B21*PRODUCT('V-Parâmetros'!$M7:Q7)","v":36043.917128273359},{"$f":"$B21*PRODUCT('V-Parâmetros'!$M7:R7)","v":37125.234642121563},{"$f":"$B21*PRODUCT('V-Parâmetros'!$M7:S7)","v":38238.991681385211},{"$f":"$B21*PRODUCT('V-Parâmetros'!$M7:T7)","v":39386.161431826768},{"$f":"$B21*PRODUCT('V-Parâmetros'!$M7:U7)","v":40567.746274781573}]
["VERIFICAÇÃO DO EQUILÍBRIO"]
["Critério I: Resultado primário e serviço da dívida"]
["Resultado Primário",null,{"$f":"'III-Cenário Ajustado'!B95","v":2105.8806062599615},{"$f":"'III-Cenário Ajustado'!C95","v":410.48162864249025},{"$f":"'III-Cenário Ajustado'!D95","v":108.25262191926595},{"$f":"'III-Cenário Ajustado'!E95","v":755.95268459307408},{"$f":"'III-Cenário Ajustado'!F95","v":853.5289545212363},{"$f":"'III-Cenário Ajustado'!G95","v":1498.5713707357936},{"$f":"'III-Cenário Ajustado'!H95","v":3146.5568754512424},{"$f":"'III-Cenário Ajustado'!I95","v":3988.4379555920314},{"$f":"'III-Cenário Ajustado'!J95","v":4685.2657331908049}]
["Pagamento de passivos não financeiros (Portaria STN nº 10.464, Art. 41, Inciso II)",null,{"$f":"SUM(C27:C29)","v":992.50283656999909},1819.7926919683027,1662.5922256955246,1713.5081347411294,1772.5444845736927,1894.8231736435628,1027.1113794800651,1060.338058046874,1094.5982637655629]
["Sentenças judiciais",null,{"$f":"'III-Cenário Ajustado'!B50+'III-Cenário Ajustado'!B55+'III-Cenário Ajustado'!B60+'III-Cenário Ajustado'!B64","v":992.50283656999909},{"$f":"D12","v":1611.6436815683028},{"$f":"E12","v":1447.3661489419246},1491.5885270004924,1543.7675609538701,1659.1829423151455,784.40194121179536,810.34733663055613,837.10782070675532]
["Recomposição de fundos de reserva de depósitos judiciais e administrativos",null,null,{"$f":"D13","v":208.14901040000001},{"$f":"E13","v":215.22607675360001},221.91960774063696,228.77692361982264,235.64023132841731,242.70943826826985,249.99072141631794,257.4904430588075]
["Outros"]
["Receitas não computadas conforme inciso III do art. 41 da Portaria STN nº 10.464",null,{"$f":"SUM(C31:C33)","v":1699.7592979999999},1241.96,0,348.44,0,0,0,0,0]
[]
["Incluir uma linha para cada receita extraordinária não computada no cálculo do resultado primário para fins de apuração do equilíbrio",null,1699.7592979999999,{"$f":"545.14+696.82","v":1241.96},null,348.44]
[]
["Despesas não computadas conforme inciso III do art. 41 da Portaria STN nº 10.464",null,{"$f":"SUM(C35:C37)","v":0},{"$f":"SUM(D35:D37)","v":0},0,0,0,0,0,0,0]
[]
["Incluir uma linha para cada despesa extraordinária não computada no cálculo do resultado primário para fins de apuração do equilíbrio"]
[]
["Resultado primário para fins de apuração do equilíbrio",null,{"$f":"C25+C26-C30+C34","v":1398.6241448299606},988.31432061079295,1770.8448476147905,2121.0208193342037,2626.0734390949292,3393.3945443793564,4173.6682549313073,5048.7760136389052,5779.8639969563683]
["Serviço da dívida por competência",null,{"$f":"4968781504.89/1000000","v":4968.7815048900002},2398.7615963962799,2526.1886332494232,2781.3438226300559,2862.7423104366071,2950.9170251536871,2837.7098911982439,2780.1326771275476,2779.5279624149262]
["Amortizações extraordinárias a deduzir",null,{"$f":"2543993648.53/1000000","v":2543.9936485300004}]
["Serviço da dívida por competência para apuração do equilíbrio",null,{"$f":"C39-C40","v":2424.7878563599998},{"$f":"D39-D40","v":2398.7615963962799},{"$f":"E39-E40","v":2526.1886332494232},2781.3438226300559,2862.7423104366071,2950.9170251536871,2837.7098911982439,2780.1326771275476,{"$f":"K39-K40","v":2779.5279624149262}]
["Critério II: Estoque de Restos a Pagar"]
["Aumento do estoque de restos a pagar",null,{"$f":"'III-Cenário Ajustado'!B85-'I-Cenário Base'!F85","v":-1543.190100490001},{"$f":"'III-Cenário Ajustado'!C85-'III-Cenário Ajustado'!B85","v":-485.23430313086101},{"$f":"'III-Cenário Ajustado'!D85-'III-Cenário Ajustado'!C85","v":7.068794498067291},{"$f":"'III-Cenário Ajustado'!E85-'III-Cenário Ajustado'!D85","v":50.268550038103285},{"$f":"'III-Cenário Ajustado'!F85-'III-Cenário Ajustado'!E85","v":91.96921299952146},{"$f":"'III-Cenário Ajustado'!G85-'III-Cenário Ajustado'!F85","v":94.058559024956367},{"$f":"'III-Cenário Ajustado'!H85-'III-Cenário Ajustado'!G85","v":3.563808801201958},{"$f":"'III-Cenário Ajustado'!I85-'III-Cenário Ajustado'!H85","v":50.335157352210445},{"$f":"'III-Cenário Ajustado'!J85-'III-Cenário Ajustado'!I85","v":22.488740277648958}]
["Estoque de restos a pagar",null,null,{"$f":"'III-Cenário Ajustado'!C85","v":1846.3109018091354},{"$f":"'III-Cenário Ajustado'!D85","v":1853.3796963072027},{"$f":"'III-Cenário Ajustado'!E85","v":1903.648246345306},{"$f":"'III-Cenário Ajustado'!F85","v":1995.6174593448275},{"$f":"'III-Cenário Ajustado'!G85","v":2089.6760183697838},{"$f":"'III-Cenário Ajustado'!H85","v":2093.2398271709858},{"$f":"'III-Cenário Ajustado'!I85","v":2143.5749845231962},{"$f":"'III-Cenário Ajustado'!J85","v":2166.0637248008452}]
["Estoque de restos a pagar não primários"]
["Estoque de restos a pagar primários / Receita corrente líquida (XXXV/XXIX)",null,{"$f":"(C44-C45)/'III-Cenário Ajustado'!B70","v":0},{"$f":"(D44-D45)/'III-Cenário Ajustado'!C70","v":4.9467511842758605E-2},{"$f":"(E44-E45)/'III-Cenário Ajustado'!D70","v":4.9976494918867846E-2},{"$f":"(F44-F45)/'III-Cenário Ajustado'!E70","v":4.9127653805835753E-2},{"$f":"(G44-G45)/'III-Cenário Ajustado'!F70","v":5.019640644188228E-2},{"$f":"(H44-H45)/'III-Cenário Ajustado'!G70","v":5.01041939755218E-2},{"$f":"(I44-I45)/'III-Cenário Ajustado'!H70","v":4.7621830189101697E-2},{"$f":"(J44-J45)/'III-Cenário Ajustado'!I70","v":4.6319221449289197E-2},{"$f":"(K44-K45)/'III-Cenário Ajustado'!J70","v":4.4615739943048092E-2}]

{"sheet":"V-Parâmetros","index":7,"n_rows":13,"n_cols":24,"rows_kept":13,"cut":false,"hidden":false,"merged":[]}
["PLANO DE RECUPERAÇÃO FISCAL"]
["Anexo V - Informações Auxiliares"]
["Parâmetros Utilizados nas Projeções"]
[null,null,null,null,null,null,null,null,null,null,null,null,"Projeção",null,null,null,null,"Extrapolação"]
[null,2011,2012,2013,2014,2015,2016,2017,2018,2019,2020,2021,2022,2023,2024,2025,2026,2027,2028,2029,2030,2031,2032,"Fontes"]
["IPCA (% a.a.)",6.5000000000000002E-2,5.8400000000000001E-2,5.91E-2,6.4100000000000004E-2,0.1067,6.2899999999999998E-2,2.9499999999999998E-2,3.7499999999999999E-2,4.3061516171595302E-2,4.5199999999999997E-2,0.10059999999999999,5.79E-2,4.8500000000000001E-2,3.4000000000000002E-2,3.1099999999999999E-2,3.09E-2,0.03,{"$f":"R6","v":0.03},{"$f":"S6","v":0.03},0.03,null,null,"SPE"]
["IPCA (1+% a.a.)",{"$f":"1+B6","v":1.0649999999999999},{"$f":"1+C6","v":1.0584},1.0590999999999999,1.0641,1.1067,1.0629,1.0295000000000001,1.0375000000000001,1.0430615161715953,1.0451999999999999,1.1006,1.0579000000000001,1.0485,1.034,1.0310999999999999,1.0308999999999999,1.03,1.03,1.03,1.03,null,null,"SPE"]
["IGP-DI (% a.a.)",5.0999999999999997E-2,8.09667816472142E-2,5.51836640617707E-2,3.7835934440058498E-2,0.10701098976864699,7.1825911939788795E-2,-4.1853288702057298E-3,7.0993559720767596E-2,7.6959363162165909E-2,0.23080000000000001,0.1774,5.0299999999999997E-2,-0.03,0.04,3.7999999999999999E-2,3.7999999999999999E-2,3.7999999999999999E-2,{"$f":"R8","v":3.7999999999999999E-2},3.7999999999999999E-2,3.7999999999999999E-2,null,null,"SPE"]
["Deflator (% a.a.)",8.3199999999999996E-2,7.9431269420639827E-2,7.5045645320488408E-2,7.8467097434944844E-2,7.5661750129393496E-2,8.0699999999999994E-2,3.6600000000000001E-2,4.4900000000000002E-2,4.2700000000000002E-2,4.7899999999999998E-2,0.111,8.2699999999999996E-2,4.87E-2,3.9199999999999999E-2,4.0500000000000001E-2,3.8699999999999998E-2,3.7900000000000003E-2,{"$f":"R9","v":3.7900000000000003E-2},3.7900000000000003E-2,3.7900000000000003E-2,null,null,"SPE"]
["PIB real Nacional (% a.a.)",3.9699999999999999E-2,1.9199999999999998E-2,0.03,5.0000000000000001E-3,-3.5471622701838498E-2,-3.3046721226561701E-2,1.32E-2,1.78E-2,1.41E-2,-4.0599999999999997E-2,4.6199999999999998E-2,2.9000000000000001E-2,3.1600000000000003E-2,2.3E-2,2.7799999999999998E-2,2.41E-2,2.5999999999999999E-2,{"$f":"R10","v":2.5999999999999999E-2},2.5999999999999999E-2,2.5999999999999999E-2,null,null,"SPE"]
["Selic (% a.a. acum ano)",0.1162462936624582,8.501905746545807E-2,8.2291014266978504E-2,0.10907207520851531,0.13276262880327747,0.14018577710987001,9.9398186786469001E-2,6.4289772211014701E-2,5.9037539376861695E-2,2.6353185633169601E-2,3.9100000000000003E-2,0.1234,0.13109999999999999,9.4899999999999998E-2,7.8200000000000006E-2,7.0699999999999999E-2,7.0599999999999996E-2,{"$f":"R11","v":7.0599999999999996E-2},7.0599999999999996E-2,7.0599999999999996E-2,null,null,"SPE"]
["Dólar (fim de período)",1.8757999999999999,2.0434999999999999,2.3426,2.6562000000000001,3.9047999999999998,3.3523000000000001,3.2919,3.8851,4.0307000000000004,5.2,5.58,5.22,5,5.0199999999999996,5.0999999999999996,5.15,5.2,{"$f":"R12","v":5.2},5.2,5.2,null,null,"SPE"]
["Dólar (média ano)",1.6737919999999999,1.9549649402390434,2.160505138339921,2.3545181818181797,3.3386959999999997,3.4849763052208838,3.1920083333333298,3.6544500000000002,3.9450833333333302,5.16,5.4,5.16,4.99,5,5.0599999999999996,5.13,5.18,{"$f":"R13","v":5.18},5.18,5.18,null,null,"SPE"]

{"sheet":"V-Parâmetros (2)","index":8,"n_rows":15,"n_cols":22,"rows_kept":15,"cut":false,"hidden":true,"merged":[]}
["PLANO DE RECUPERAÇÃO FISCAL"]
["Anexo V - Informações Auxiliares"]
["Parâmetros Utilizados nas Projeções"]
[null,null,null,null,null,null,null,null,null,null,"Projeção",null,null,null,"Extrapolação"]
[null,2011,2012,2013,2014,2015,2016,2017,2018,2019,2020,2021,2022,2023,2024,2025,2026,2027,2028,2029,2030,"Fontes"]
["IPCA (% a.a.)",6.5000000000000002E-2,5.8400000000000001E-2,5.91E-2,6.4100000000000004E-2,0.1067,6.2899999999999998E-2,2.9499999999999998E-2,3.7499999999999999E-2,4.3061516171595302E-2,1.8318597899048099E-2,2.9385877866022501E-2,3.4985107758980401E-2,3.2485137740871001E-2,3.2485137740871001E-2,3.2485137740871001E-2,3.2485137740871001E-2,3.2485137740871001E-2,3.2485137740871001E-2,3.2485137740871001E-2,3.2485137740871001E-2,"SPE"]
["IPCA (1+% a.a.)",{"$f":"1+B6","v":1.0649999999999999},{"$f":"1+C6","v":1.0584},1.0590999999999999,1.0641,1.1067,1.0629,1.0295000000000001,1.0375000000000001,1.0430615161715953,1.0183185978990481,1.0293858778660225,1.0349851077589804,1.032485137740871,1.032485137740871,1.032485137740871,1.032485137740871,1.032485137740871,1.032485137740871,1.032485137740871,1.032485137740871,"SPE"]
["IGP-DI (% a.a.)",5.0999999999999997E-2,8.09667816472142E-2,5.51836640617707E-2,3.7835934440058498E-2,0.10701098976864699,7.1825911939788795E-2,-4.1853288702057298E-3,7.0993559720767596E-2,7.6959363162165909E-2,0.130186897706559,4.1778185103098095E-2,3.9985458506078604E-2,3.4985516786170304E-2,3.4985516786170304E-2,3.4985516786170304E-2,3.4985516786170304E-2,3.4985516786170304E-2,3.4985516786170304E-2,3.4985516786170304E-2,3.4985516786170304E-2,"SPE"]
["Deflator (% a.a.)",8.3199999999999996E-2,7.9431269420639827E-2,7.5045645320488408E-2,7.8467097434944844E-2,7.5661750129393496E-2,8.1382864315158607E-2,3.5000000000000003E-2,3.1E-2,4.1401184801407795E-2,3.9768306594927701E-2,3.6522139356802902E-2,4.0645925372831702E-2,4.0698218027858106E-2,4.0698218027858106E-2,4.0698218027858106E-2,4.0698218027858106E-2,4.0698218027858106E-2,4.0698218027858106E-2,4.0698218027858106E-2,4.0698218027858106E-2,"SPE"]
["PIB Nacional (% a.a.)",3.9699999999999999E-2,1.9199999999999998E-2,0.03,5.0000000000000001E-3,-3.5471622701838498E-2,-3.3046721226561701E-2,1.06216902874283E-2,1.11763993215412E-2,1.1365855728662898E-2,-4.6956585962401397E-2,3.20156055147078E-2,2.5012569291415598E-2,2.5023119445885401E-2,2.5023119445885401E-2,2.5023119445885401E-2,2.5023119445885401E-2,2.5023119445885401E-2,2.5023119445885401E-2,2.5023119445885401E-2,2.5023119445885401E-2,"SPE"]
["Selic (% a.a. acum ano)",0.1162462936624582,8.501905746545807E-2,8.2291014266978504E-2,0.10907207520851531,0.13276262880327747,0.14018577710987001,9.9398186786469001E-2,6.4289772211014701E-2,5.9037539376861695E-2,2.6353185633169601E-2,2.0390950669980999E-2,3.5526694960929396E-2,5.0643079816688495E-2,5.0643079816688495E-2,5.0643079816688495E-2,5.0643079816688495E-2,5.0643079816688495E-2,5.0643079816688495E-2,5.0643079816688495E-2,5.0643079816688495E-2,"SPE"]
["Dólar (fim de período)",1.8757999999999999,2.0434999999999999,2.3426,2.6562000000000001,3.9047999999999998,3.3523000000000001,3.2919,3.8851,4.0307000000000004,5.25,5,4.9000000000000004,4.8499999999999996,5.0075529180432241,5.1702239643305585,5.0075529180432241,5.1702239643305585,5.0075529180432241,5.1702239643305585,5.0075529180432241,"SPE"]
["Dólar (média ano)",1.6737919999999999,1.9549649402390434,2.160505138339921,2.3545181818181797,3.3386959999999997,3.4849763052208838,3.1920083333333298,3.6544500000000002,3.9450833333333302,5.1223458333333296,5.1045833333333297,4.8666666666666698,4.875,5.04555439433258,5.2220757222910379,5.04555439433258,5.2220757222910379,5.04555439433258,5.2220757222910379,5.04555439433258,"SPE"]
["Tx de Cresc. Real - Desp. Pessoal Ativo",4.2687186688158407E-2,8.1305189488653618E-2,0.10379971409882915,4.2684998675454056E-2,-4.6616434100493431E-2,-8.8933386591342645E-2,1.1001286066960381E-2,3.6245383309392309E-2,-6.5151401465008085E-2,{"$f":"AVERAGE(B14:J14)","v":1.3002504018955974E-2},{"$f":"K14","v":1.3002504018955974E-2},{"$f":"L14","v":1.3002504018955974E-2},1.3002504018955974E-2,1.3002504018955974E-2,1.3002504018955974E-2,1.3002504018955974E-2,1.3002504018955974E-2,1.3002504018955974E-2,1.3002504018955974E-2,1.3002504018955974E-2,"PAF"]
["Tx de Cresc. - Pop Idosa",3.2110405609852455E-2,3.4266072831224959E-2,3.583327829984051E-2,3.6706359747952888E-2,3.7134688384790948E-2,3.7616521574839856E-2,3.8016518739053984E-2,3.8350289328706655E-2,3.8720442459935889E-2,3.8970014212222459E-2,3.9050108542096895E-2,3.9020001140352978E-2,3.8563363466258993E-2,3.7618167587263329E-2,3.6366541953385179E-2,3.7618167587263329E-2,3.6366541953385179E-2,3.7618167587263329E-2,3.6366541953385179E-2,3.7618167587263329E-2,"IBGE"]

{"sheet":"VI-Referência","index":9,"n_rows":110,"n_cols":2,"rows_kept":110,"cut":false,"hidden":false,"merged":[[3,0,3,1]]}
["PLANO DE RECUPERAÇÃO FISCAL"]
["Mapeamento de Contas RRF e Instruções"]
[]
["Mapeamento de Contas RRF e Instruções"]
[]
["ACIMA DA LINHA - RECEITAS E DESPESAS","."]
["Receita Total (I) = (II+IX)"]
["Receitas Correntes (II) = (III+IV+V+VI+VII-IIa)","NR: 1.0.0.0.00.0.0 + NR: 7.0.0.0.00.0.0 (TODAS AS FR EXCETO FR: 800 + FR: 801 + FR: 802)"]
["Receitas Tributárias (III)","NR: 1.1.0.0.00.0.0 + NR: 7.1.0.0.00.0.0 - Valores brutos, sem dedução das transferências ao FUNDEB - a serem lançadas na linha (IIa) - e das transferências aos Municípios, que devem ser lançadas na despesa."]
["ICMS","NR: 1.1.1.4.50.1.0 + NR: 1.1.1.4.50.2.0 + NR: 7.1.1.4.50.1.0 + NR: 7.1.1.4.50.2.0"]
["IPVA","NR: 1.1.1.2.51.0.0 + NR: 7.1.1.2.51.0.0"]
["ITCD","NR: 1.1.1.2.52.0.0 + NR: 7.1.1.2.52.0.0"]
["IRRF","NR: 1.1.1.3.03.0.0 + NR: 7.1.1.3.03.0.0"]
["Outras Receitas Tributárias","[NR: 1.1.0.0.00.0.0 (-) NR: 1.1.1.4.50.1.0 (-) NR: 1.1.1.4.50.2.0 (-) NR: 1.1.1.2.51.0.0 (-) NR: 1.1.1.2.52.0.0 (-) NR: 1.1.1.3.03.0.0] + [NR: 7.1.0.0.00.0.0 (-) NR: 7.1.1.4.50.1.0 (-) NR: 7.1.1.4.50.2.0 (-) NR: 7.1.1.2.51.0.0 (-) NR: 7.1.1.2.52.0.0 (-) NR: 7.1.1.3.03.0.0]"]
["Receitas de Contribuições (IV)","NR: 1.2.0.0.00.0.0 + NR: 7.2.0.0.00.0.0; (TODAS FR EXCETO FR: 800 + FR: 801 + FR: 802)"]
["Receitas Previdenciárias (a)","NR: 1.2.1.5.01.0.0 + NR: 1.2.1.5.03.0.0 + NR: 1.2.1.5.04.0.0 + NR: 1.2.1.5.52.0.0 + NR: 1.2.1.5.55.0.0 + NR: 1.2.1.5.56.0.0 + NR: 1.2.1.5.02.0.0 + NR: 1.2.1.5.50.0.0 + NR: 1.2.1.5.51.0.0 + NR: 1.2.1.5.53.0.0 + NR: 1.2.1.5.54.0.0 + NR: 7.2.1.5.01.0.0 + NR: 7.2.1.5.03.0.0 + NR: 7.2.1.5.04.0.0 + NR: 7.2.1.5.52.0.0 + NR: 7.2.1.5.55.0.0 + NR: 7.2.1.5.56.0.0 + NR: 7.2.1.5.02.0.0 + NR: 7.2.1.5.50.0.0 + NR: 7.2.1.5.51.0.0 + NR: 7.2.1.5.53.0.0 + NR: 7.2.1.5.54.0.0"]
["Outras Receitas de Contribuições","[NR: 1.2.0.0.00.0.0 (-) NR: 1.2.1.5.01.0.0 (-) NR: 1.2.1.5.03.0.0 (-) NR: 1.2.1.5.04.0.0 (-) NR: 1.2.1.5.52.0.0 (-) NR: 1.2.1.5.55.0.0 (-) NR: 1.2.1.5.56.0.0 (-) NR: 1.2.1.5.02.0.0 (-) NR: 1.2.1.5.50.0.0 (-) NR: 1.2.1.5.51.0.0 (-) NR: 1.2.1.5.53.0.0 (-) NR: 1.2.1.5.54.0.0] + [NR: 7.2.0.0.00.0.0 (-) NR: 7.2.1.5.01.0.0 (-) NR: 7.2.1.5.03.0.0 (-) NR: 7.2.1.5.04.0.0 (-) NR: 7.2.1.5.52.0.0 (-) NR: 7.2.1.5.55.0.0 (-) NR: 7.2.1.5.56.0.0 (-) NR: 7.2.1.5.02.0.0 (-) NR: 7.2.1.5.50.0.0 (-) NR: 7.2.1.5.51.0.0 (-) NR: 7.2.1.5.53.0.0 (-) NR: 7.2.1.5.54.0.0]"]
["Receita Patrimonial (V)","NR: 1.3.0.0.00.0.0 + NR: 7.3.0.0.00.0.0; (TODAS FR EXCETO FR: 800 + FR: 801 + FR: 802)"]
["Receita de Aplicações Financeiras (b)","NR: 1.3.2.1.01.0.0 + NR: 1.3.2.1.02.0.0 + NR: 1.3.2.1.03.0.0 + NR: 1.3.2.1.04.0.0 + NR: 1.3.2.1.05.0.0 + NR: 1.3.2.9.99.0.0 + NR: 7.3.2.1.01.0.0 + NR: 7.3.2.1.02.0.0 + NR: 7.3.2.1.03.0.0 + NR: 7.3.2.1.04.0.0 + NR: 7.3.2.1.05.0.0 + NR: 7.3.2.9.99.0.0"]
["Outras Receitas Patrimoniais","[(NR: 1.3.0.0.00.0.0 (-) NR: 1.3.2.1.01.0.0 (-) NR: 1.3.2.1.02.0.0 (-) NR: 1.3.2.1.03.0.0 (-) NR: 1.3.2.1.04.0.0 (-) NR: 1.3.2.1.05.0.0 (-) NR: 1.3.2.9.99.0.0) + (NR: 7.3.0.0.00.0.0 (-) NR: 7.3.2.1.01.0.0 (-) NR: 7.3.2.1.02.0.0 (-) NR: 7.3.2.1.03.0.0 (-) NR: 7.3.2.1.04.0.0 (-) NR: 7.3.2.1.05.0.0 (-) NR: 7.3.2.9.99.0.0)]"]
["Transferências Correntes (VI)","(NR: 1.7.0.0.00.0.0 + NR: 7.7.0.0.00.0.0); (TODAS FR EXCETO FR: 800 + FR: 801 + FR: 802) - Valores brutos, sem dedução das transferências ao FUNDEB - a serem lançadas na linha (IIa) - e das transferências aos Municípios, que devem ser lançadas na despesa."]
["Cota-Parte do FPE","NR: 1.7.1.1.50.0.0 + NR: 7.7.1.1.50.0.0"]
["Cota-Parte do IPI-Exp. (LC nº 61/1989)","NR: 1.7.1.1.53.0.0 + NR: 7.7.1.1.53.0.0"]
["Transferências do FUNDEB","NR: 1.7.1.5.00.0.0 + NR: 1.7.5.1.00.0.0 + NR: 7.7.1.5.00.0.0 + NR: 7.7.5.1.00.0.0"]
["Royalties e Participações Especiais","NR: 1.7.1.2.52.0.0 + NR: 7.7.1.2.52.0.0"]
["Outras Transferências Correntes","[(NR: 1.7.0.0.00.0.0 (-) NR: 1.7.1.1.50.0.0 (-) NR: 1.7.1.1.53.0.0 (-) NR: 1.7.1.5.00.0.0 (-) NR: 1.7.5.1.00.0.0) + (NR: 7.7.0.0.00.0.0 (-) NR: 7.7.1.1.50.0.0 (-) NR: 7.7.1.1.53.0.0 (-) NR: 7.7.1.5.00.0.0 (-) NR: 7.7.5.1.00.0.0 (-) NR: 1.7.1.2.52.0.0 (-) NR: 7.7.1.2.52.0.0)]"]
["Demais Receitas Correntes (VII)","NR: 1.4.0.0.00.0.0 + NR: 1.5.0.0.00.0.0 + NR: 1.6.0.0.00.0.0 + NR: 1.9.0.0.00.0.0 + NR: 7.4.0.0.00.0.0 + NR: 7.5.0.0.00.0.0 + NR: 7.6.0.0.00.0.0 + NR: 7.9.0.0.00.0.0"]
["Outras Receitas Financeiras (c)","NR: 1.6.4.1.01.0.0 + NR: 1.6.4.1.03.0.0 + NR: 1.9.2.2.01.2.0 + NR: 1.9.2.2.06.4.0 + NR: 1.9.4.4.00.0.0 + NR: 1.9.9.9.11.0.0 + NR: 1.9.9.9.99.3.0 + NR: 7.6.4.1.01.0.0 + NR: 7.6.4.1.03.0.0 + NR: 7.9.2.2.01.2.0 + NR: 7.9.2.2.06.4.0 + NR: 7.9.4.4.00.0.0 + NR: 7.9.9.9.11.0.0 + NR: 7.9.9.9.99.3.0"]
["Compensações Financeiras entre o RGPS e o RPPS (d)","NR: 1.9.9.9.03.0.0 + NR: 7.9.9.9.03.0.0"]
["Receitas Correntes Restantes","[NR: 1.4.0.0.00.0.0 + NR: 1.5.0.0.00.0.0 + (NR: 1.6.0.0.00.0.0 (-) NR: 1.6.4.1.01.0.0 (-) NR: 1.6.4.1.03.0.0) + (NR: 1.9.0.0.00.0.0 (-) NR: 1.9.2.2.01.2.0 (-) NR: 1.9.2.2.06.4.0 (-) NR: 1.9.4.4.00.0.0 (-) NR: 1.9.9.9.11.0.0 (-) NR: 1.9.9.9.99.3.0 (-) NR: 1.9.9.9.03.0.) + NR: 7.4.0.0.00.0.0 + NR: 7.5.0.0.00.0.0 + (NR: 7.6.0.0.00.0.0 (-) NR: 7.6.4.1.01.0.0 (-) NR: 7.6.4.1.03.0.0) + (NR: 7.9.0.0.00.0.0 (-) NR: 7.9.2.2.01.2.0 (-) NR: 7.9.2.2.06.4.0 (-) NR: 7.9.4.4.00.0.0 (-) NR: 7.9.9.9.11.0.0 (-) NR: 7.9.9.9.99.3.0 (-) NR: 7.9.9.9.03.0.0)]"]
["Deduções para formação do Fundeb (IIa)"]
["Receitas Primárias Correntes (VIII) = (II-b-c)"]
["Receitas de Capital (IX) = (X+XI+XII+XIII+XIV)","NR: 2.0.0.0.00.0.0 + NR: 8.0.0.0.00.0.0; (TODAS AS FR EXCETO FR: 800 + FR: 801 + FR: 802)"]
["Operações de Crédito (X)","NR: 2.1.0.0.00.0.0 + NR: 8.1.0.0.00.0.0; (TODAS AS FR EXCETO FR: 800 + FR: 801 + FR: 802)"]
["Amortização de Empréstimos (XI)","NR: 2.3.0.0.00.0.0 + NR: 8.3.0.0.00.0.0; (TODAS AS FR EXCETO FR: 800 + FR: 801 + FR: 802)"]
["Alienação de Bens (XII)","NR: 2.2.0.0.00.0.0 + NR: 8.2.0.0.00.0.0; (TODAS AS FR EXCETO FR: 800 + FR: 801 + FR: 802)"]
["Alienação de Bens Não Primária (e)","NR: 2.2.1.1.01.0.0 + NR: 8.2.1.1.01.0.0 + NR: 2.2.1.1.02.0.0 + NR: 8.2.1.1.02.0.0"]
["Alienação de Bens Primária","NR: 2.2.0.0.00.0.0 (-) NR: 2.2.1.1.01.0.0 (-) NR: 2.2.1.1.02.0.0 + NR: 8.2.0.0.00.0.0 (-) NR: 8.2.1.1.01.0.0 (-) NR: 8.2.1.1.02.0.0"]
["Transferências de Capital (XIII)","NR: 2.4.0.0.00.0.0 + NR: 8.4.0.0.00.0.0; (TODAS AS FR EXCETO FR: 800 + FR: 801 + FR: 802)"]
["Outras Receitas de Capital (XIV)","NR: 2.4.0.0.00.0.0 + NR: 8.4.0.0.00.0.0; (TODAS AS FR EXCETO FR: 800 + FR: 801 + FR: 802)"]
["Outras Receitas de Capital Não Primárias (f)","NR: 2.9.2.0.00.0.0 + NR: 2.9.3.0.00.0.0 + NR: 2.9.4.0.00.0.0 + NR: 8.9.2.0.00.0.0 + NR: 8.9.3.0.00.0.0 + NR: 8.9.4.0.00.0.0"]
["Outras Receitas de Capital Primárias","NR: 2.9.1.0.00.0.0 + NR: 2.9.9.0.00.0.0 + NR: 8.9.1.0.00.0.0 + NR: 8.9.9.0.00.0.0"]
["Receitas Primárias de Capital (XV) = (IX-X-XI-e-f)"]
["RECEITA PRIMÁRIA TOTAL (XVI) = (VIII+XV)"]
["Despesa Orçamentária (XVII) = (XVIII+XXIII)"]
["Despesas Correntes (XVIII) = (XIX+XX+XXI)","ND: 3.0.00.00.00; (TODAS FR EXCETO FR: 800 + FR: 801 + FR: 802)"]
["Pessoal e Encargos Sociais (XIX)","ND: 3.1.00.00.00; (TODAS FR EXCETO FR: 800 + FR: 801 + FR: 802)"]
["Ativo","ND: 3.1.90.04.00 + ND: 3.1.90.07.00 + ND: 3.1.90.11.00 + ND: 3.1.90.12.00 + ND: 3.1.90.13.00 + ND: 3.1.90.16.00 + ND: 3.1.90.17.00 + ND: 3.1.90.67.00 + ND: 3.1.90.96.00 + ND: 3.1.90.99.00 + ND: 3.1.91.04.00 + ND: 3.1.91.08.00 + ND: 3.1.91.13.00 + ND: 3.1.91.96.00 + ND: 3.1.91.99.00 "]
["Inativos e Pensionistas","ND: 3.1.90.01.00 + ND: 3.1.90.03.00"]
["Sentenças Judiciais - Pessoal","ND: 3.1.90.91.00 + ND: 3.1.91.91.00"]
["Outras Despesas com Pessoal","ND: 3.1.00.00.00 (-) Ativo (-) Inativos e Pensionistas (-) Senteças Judiciais"]
["Juros e Encargos da Dívida (XX)","ND: 3.2.00.00.00; (TODAS FR EXCETO FR: 800 + FR: 801 + FR: 802)"]
["Outras Despesas Correntes (XXI)","ND: 3.3.00.00.00; (TODAS FR EXCETO FR: 800 + FR: 801 + FR: 802)"]
["Transferências Constitucionais e Legais (g)","ND: 3.3.40.81.00 - As transferências aos Municípios devem ser lançadas aqui."]
["Sentenças Judiciais - Outras Correntes","ND: 3.3.XX.91.00"]
["Demais Despesas Correntes","ND: 3.3.00.00.00 (-) Transferências Constitucionais e Legais (-) Sentenças Judiciais"]
["Despesas Primárias Correntes (XXII) = (XVIII-XX)"]
["Despesas de Capital (XXIII) = (XXIV+XXV+XXVI)","ND: 4.0.00.00.00; (TODAS AS FR EXCETO FR: 800 + FR: 801 + FR: 802)"]
["Investimentos (XXIV)","[ND: 4.4.00.00.00; (TODAS FR EXCETO FR: 800 + FR: 801 + FR: 802)] + CC 8.6.3.1.1.01.00 + 8.6.3.1.2.01.00"]
["Sentenças Judiciais - Investimentos","ND: 4.4.XX.91.00"]
["Demais Investimentos","ND: 4.4.00.00.00 (-) ND: 4.4.XX.91.00"]
["Inversões Financeiras (XXV)","ND: 4.5.00.00.00; (TODAS FR EXCETO FR: 800 + FR: 801 + FR: 802)"]
["Inversões Financeiras Não Primárias (h) 1)","ND: 4.5.XX.66.00 + ND: 4.5.90.92.66 + ND: 4.5.XX.64.00 + ND: 4.5.90.92.64 + ND: 4.5.XX.63.00 + ND: 4.5.90.92.63"]
["Sentenças Judiciais - Inversões","ND: 4.5.XX.91.00"]
["Demais Inversões Financeiras Primárias","ND: 4.5.00.00.00 (-) Inversões Financeiras Não Primárias (-) Sentenças Judiciais"]
["Amortização da Dívida (XXVI)","ND: 4.6.00.00.00; (TODAS FR EXCETO FR: 800 + FR: 801 + FR: 802)"]
["Despesas Primárias de Capital (XXVII) = (XXIII-h-XXVI)"]
["DESPESA PRIMÁRIA ORÇAMENTÁRIA (XXVIII) = (XXII+XXVII)"]
["RECEITA CORRENTE LÍQUIDA (XXIX) = (II-a-d-g)"]
["RESTOS A PAGAR"]
["Inscrições de Restos a Pagar (XXX) = (i+k)"]
["Inscrição de RAP Processados (i)"]
["Inscrição de RAP Processados Primários (j)"]
["Inscrição de RAP Processados Não Primários"]
["Inscrição de RAP Não Processados (k)"]
["Inscrição de RAP Não Processados Primários (l)"]
["Inscrição de RAP Não Processados Não Primários"]
["Cancelamentos  de Restos a Pagar (XXXI) = (m+n)"]
["Cancelamento de RAP Processados (m)"]
["Cancelamento de RAP Não Processados (n)"]
["Liquidação de Restos a Pagar Não Processados (XXXII)"]
["Pagamento de Restos a Pagar Primário (XXXIII)","Considera o pagamento de RAPs primários, inclusive os processados e não processados liquidados no exercício"]
["Pagamento de Restos a Pagar Não Primário (XXXIV)","Considera o pagamento de RAPs não primários, inclusive os processados e não processados liquidados no exercício"]
["ESTOQUE DE RESTOS A PAGAR (XXXV) = (XXXVI+XXXVII)"]
["Estoque de RAP Processados (XXXVI) = XXXVI(t-1) + (i-m+XXXII-XXXIII-XXXIV)","A primeira célula (B85) deve ser preenchida com o dado realizado"]
["Estoque de RAP Não Processados (XXXVII) = XXXVII(t-1) + (k-n-XXXII)","A primeira célula (B86) deve ser preenchida com o dado realizado"]
["ESTOQUE DE RESTOS A PAGAR / RECEITA CORRENTE LÍQUIDA (XXXV/XXIX)"]
["RAP Processados / RCL (XXXVI/XXIX)"]
["RAP Não Processados / RCL (XXXVII/XXIX)"]
["DESPESA PRIMÁRIA (XXXVIII) = (XXVIII-j-l+XXXIII)"]
["Demais Despesas Primárias (XXXIX) 2)","Despesas que compõe o resultado primário por caixa, mas não transitam pelo orçamento"]
["DESPESA PRIMÁRIA TOTAL (XL) = (XXXVIII+XXXIX)"]
["RESULTADOS PRIMÁRIO E NOMINAL"]
["RESULTADO PRIMÁRIO (XLI) = (XVI-XL)"]
["Juros e Encargos da Dívida (XX)"]
["Amortização da Dívida (XXVI)"]
["Inversões Financeiras Não Primárias (h) 1)"]
["Receita de Aplicações Financeiras (b)"]
["Outras Receitas Financeiras (c)"]
["Outras Receitas de Capital Não Primárias (f)"]
["Amortização de Empréstimos (XI)"]
["Despesa Financeira Líquida (XLII) = (XX+XXVI+h-b-c-f-XI)"]
["NECESSIDADE DE FINANCIAMENTO (XLIII) = (XLII-XLI)"]
["Operações de Crédito (X)"]
["Alienação de Bens Não Primária (e)"]
["Fontes de Financiamento (XLIV) = (X+e)"]
["Outros Fluxos de Caixa (XLV)","Fluxos que impactam o caixa, mas não transitam pelo orçamento (exceto as demais despesas primárias)."]
["FLUXO DE CAIXA (XLVI) = (XLIV-XLIII+XLV)"]
["1) Corresponde ao somatório de Concessão de Empréstimos e Financiamentos, Aquisição de Título de Capital já Integralizado e Aquisição de Título de Crédito."]
["2) As Demais Despesas Primárias são despesas que compõem o resultado primário por caixa, mas não transitam pelo orçamento."]